BEGIN:VCALENDAR
VERSION:2.0
PRODID:-//Toastmasters District 69 - ECPv6.0.12//NONSGML v1.0//EN
CALSCALE:GREGORIAN
METHOD:PUBLISH
X-WR-CALNAME:Toastmasters District 69
X-ORIGINAL-URL:https://toastmastersd69-org-au.staging.precedence.com.au
X-WR-CALDESC:Events for Toastmasters District 69
REFRESH-INTERVAL;VALUE=DURATION:PT1H
X-Robots-Tag:noindex
X-PUBLISHED-TTL:PT1H
BEGIN:VTIMEZONE
TZID:Australia/Brisbane
BEGIN:STANDARD
TZOFFSETFROM:+1000
TZOFFSETTO:+1000
TZNAME:AEST
DTSTART:20200101T000000
END:STANDARD
END:VTIMEZONE
BEGIN:VEVENT
DTSTART;VALUE=DATE:20201101
DTEND;VALUE=DATE:20201102
DTSTAMP:20260425T065136
CREATED:20200710T181447Z
LAST-MODIFIED:20200710T181447Z
UID:12529-1604188800-1604275199@toastmastersd69-org-au.staging.precedence.com.au
SUMMARY:Area 18 Speech Contest Moreton Division
DESCRIPTION:The Prince Charles Health and Community Rooms (HAAC rooms) Hamilton Road Chermside 7am- 5pm  Sunday 1st November 2020 \nArea 18 Director Sasi Devi
URL:https://toastmastersd69-org-au.staging.precedence.com.au/event/area-18-speech-contest-moreton-division/
CATEGORIES:Area Events
END:VEVENT
BEGIN:VEVENT
DTSTART;VALUE=DATE:20201101
DTEND;VALUE=DATE:20201102
DTSTAMP:20260425T065136
CREATED:20200921T015220Z
LAST-MODIFIED:20200921T015220Z
UID:12665-1604188800-1604275199@toastmastersd69-org-au.staging.precedence.com.au
SUMMARY:Area 1 Conference and Speech Contests
DESCRIPTION:You’re Invited to Zoom in. \nWestern Division\, Area 1 Conference and Contest is Sunday 4th October 2020. \nThis Event is totally online so you can be there and enjoy from the comfort of your home. \nCouncil Meeting will be held in the early part of the day and a great line-up of Contestants for the International and Humorous just after. \nFor all information contact Margaret Marshall 0408 255 774 or email to marshallmargaret9@gmail.com
URL:https://toastmastersd69-org-au.staging.precedence.com.au/event/area-1-conference-and-speech-contests-2/
CATEGORIES:Area Events
END:VEVENT
BEGIN:VEVENT
DTSTART;TZID=Australia/Brisbane:20201105T180000
DTEND;TZID=Australia/Brisbane:20201105T203000
DTSTAMP:20260425T065136
CREATED:20200604T002854Z
LAST-MODIFIED:20200604T002854Z
UID:12128-1604599200-1604608200@toastmastersd69-org-au.staging.precedence.com.au
SUMMARY:Area 15 Speech Contests
DESCRIPTION:Area 15 Table Topics and International Speech Contests
URL:https://toastmastersd69-org-au.staging.precedence.com.au/event/area-15-speech-contests/
CATEGORIES:Area Events
ATTACH;FMTTYPE=:
END:VEVENT
BEGIN:VEVENT
DTSTART;VALUE=DATE:20201107
DTEND;VALUE=DATE:20201108
DTSTAMP:20260425T065136
CREATED:20200710T181545Z
LAST-MODIFIED:20200710T181545Z
UID:12531-1604707200-1604793599@toastmastersd69-org-au.staging.precedence.com.au
SUMMARY:Area 8 Speech Contest Moreton Division
DESCRIPTION:Area 8 Speech Contest \nArea 8 Director Kirsty Watts
URL:https://toastmastersd69-org-au.staging.precedence.com.au/event/area-8-speech-contest-moreton-division/
CATEGORIES:Area Events
END:VEVENT
BEGIN:VEVENT
DTSTART;TZID=Australia/Brisbane:20201114T083000
DTEND;TZID=Australia/Brisbane:20201114T123000
DTSTAMP:20260425T065136
CREATED:20201004T083339Z
LAST-MODIFIED:20201004T083339Z
UID:12738-1605342600-1605357000@toastmastersd69-org-au.staging.precedence.com.au
SUMMARY:Area 4  - Online Speech Contest
DESCRIPTION:Area 4 – Rockhampton to Gladstone Speech contest – Clubs involved are Boomerang\, Keppel Bay and Entrepreneurs …
URL:https://toastmastersd69-org-au.staging.precedence.com.au/event/area-4-online-speech-contest/
CATEGORIES:Area Events
END:VEVENT
END:VCALENDAR