BEGIN:VCALENDAR
VERSION:2.0
PRODID:-//Toastmasters District 69 - ECPv6.0.12//NONSGML v1.0//EN
CALSCALE:GREGORIAN
METHOD:PUBLISH
X-ORIGINAL-URL:https://toastmastersd69-org-au.staging.precedence.com.au
X-WR-CALDESC:Events for Toastmasters District 69
REFRESH-INTERVAL;VALUE=DURATION:PT1H
X-Robots-Tag:noindex
X-PUBLISHED-TTL:PT1H
BEGIN:VTIMEZONE
TZID:Australia/Brisbane
BEGIN:STANDARD
TZOFFSETFROM:+1000
TZOFFSETTO:+1000
TZNAME:AEST
DTSTART:20210101T000000
END:STANDARD
END:VTIMEZONE
BEGIN:VEVENT
DTSTART;TZID=Australia/Brisbane:20211106T080000
DTEND;TZID=Australia/Brisbane:20211106T153000
DTSTAMP:20260424T131537
CREATED:20211004T220229Z
LAST-MODIFIED:20211004T220229Z
UID:13990-1636185600-1636212600@toastmastersd69-org-au.staging.precedence.com.au
SUMMARY:Area 18 Speech Contest
DESCRIPTION:
URL:https://toastmastersd69-org-au.staging.precedence.com.au/event/area-18-speech-contest/
CATEGORIES:Area Events
END:VEVENT
BEGIN:VEVENT
DTSTART;TZID=Australia/Brisbane:20211106T120000
DTEND;TZID=Australia/Brisbane:20211106T173000
DTSTAMP:20260424T131537
CREATED:20211018T221407Z
LAST-MODIFIED:20211018T221407Z
UID:14067-1636200000-1636219800@toastmastersd69-org-au.staging.precedence.com.au
SUMMARY:Area 26 Speech Contests
DESCRIPTION:Join us at Griffith University (Room N78) from noon until 5.30pm for the Area 28 speech contest day.
URL:https://toastmastersd69-org-au.staging.precedence.com.au/event/area-26-speech-contests/
CATEGORIES:Area Events
END:VEVENT
BEGIN:VEVENT
DTSTART;TZID=Australia/Brisbane:20211113T080000
DTEND;TZID=Australia/Brisbane:20211113T140000
DTSTAMP:20260424T131537
CREATED:20210920T225500Z
LAST-MODIFIED:20210920T225500Z
UID:13880-1636790400-1636812000@toastmastersd69-org-au.staging.precedence.com.au
SUMMARY:Area 35 Contests
DESCRIPTION:Area Council Meeting & 4 Speech Contests \n 
URL:https://toastmastersd69-org-au.staging.precedence.com.au/event/area-35-contests/
CATEGORIES:Area Events
END:VEVENT
BEGIN:VEVENT
DTSTART;TZID=Australia/Brisbane:20211128T083000
DTEND;TZID=Australia/Brisbane:20211128T153000
DTSTAMP:20260424T131537
CREATED:20211114T022430Z
LAST-MODIFIED:20211114T022430Z
UID:14117-1638088200-1638113400@toastmastersd69-org-au.staging.precedence.com.au
SUMMARY:Area 3 Conference
DESCRIPTION:Join us a Ningi Hall for the Area 3 conference and speech contest.
URL:https://toastmastersd69-org-au.staging.precedence.com.au/event/area-3-conference-2/
CATEGORIES:Area Events
END:VEVENT
BEGIN:VEVENT
DTSTART;TZID=Australia/Brisbane:20211128T113000
DTEND;TZID=Australia/Brisbane:20211128T170000
DTSTAMP:20260424T131537
CREATED:20211031T233415Z
LAST-MODIFIED:20211031T233415Z
UID:14095-1638099000-1638118800@toastmastersd69-org-au.staging.precedence.com.au
SUMMARY:Area 20 Conference and Contests
DESCRIPTION:Come along and support the contestants from Bulimba\, Carina\, Leading Edge and Waterloo Bay Clubs.
URL:https://toastmastersd69-org-au.staging.precedence.com.au/event/area-20-conference-and-contests/
CATEGORIES:Area Events
ATTACH;FMTTYPE=:
END:VEVENT
END:VCALENDAR