BEGIN:VCALENDAR
VERSION:2.0
PRODID:-//Toastmasters District 69 - ECPv6.0.12//NONSGML v1.0//EN
CALSCALE:GREGORIAN
METHOD:PUBLISH
X-ORIGINAL-URL:https://toastmastersd69-org-au.staging.precedence.com.au
X-WR-CALDESC:Events for Toastmasters District 69
REFRESH-INTERVAL;VALUE=DURATION:PT1H
X-Robots-Tag:noindex
X-PUBLISHED-TTL:PT1H
BEGIN:VTIMEZONE
TZID:Australia/Brisbane
BEGIN:STANDARD
TZOFFSETFROM:+1000
TZOFFSETTO:+1000
TZNAME:AEST
DTSTART:20210101T000000
END:STANDARD
END:VTIMEZONE
BEGIN:VEVENT
DTSTART;TZID=Australia/Brisbane:20211016T090000
DTEND;TZID=Australia/Brisbane:20211016T133000
DTSTAMP:20260424T161320
CREATED:20210929T232740Z
LAST-MODIFIED:20210929T232740Z
UID:13974-1634374800-1634391000@toastmastersd69-org-au.staging.precedence.com.au
SUMMARY:Area 24 Speech Contests
DESCRIPTION:You're invited to join us to hear speakers compete in 4 contests from our 6 clubs across Area 24;  Be Change\, Nerang\, Southport\, Endeavour\, Club Runaway 2000 and Upper Coomera.\nOur theme for this event is “Connecting within our community”.   With the challenges that the Covid pandemic has presented\, this is an opportunity to bring us together and show our support for one another\, helping people to feel connected\, and showcase the benefits being a part of the Toastmasters community. \nWe’re excited to also have a guest speaker\, Sharyn Watson.  Mother\, Hiker. Rotarian. Entrepeneur. Leader. Award Winner. Sharyn will share her journey of self-leadership and speak with us about the importance of connecting within your community\, and ‘voicing that one idea’ that can be a catalyst for what’s possible.
URL:https://toastmastersd69-org-au.staging.precedence.com.au/event/area-24-speech-contests/
CATEGORIES:Area Events
ATTACH;FMTTYPE=:
END:VEVENT
END:VCALENDAR