BEGIN:VCALENDAR
VERSION:2.0
PRODID:-//Toastmasters District 69 - ECPv6.0.12//NONSGML v1.0//EN
CALSCALE:GREGORIAN
METHOD:PUBLISH
X-ORIGINAL-URL:https://toastmastersd69-org-au.staging.precedence.com.au
X-WR-CALDESC:Events for Toastmasters District 69
REFRESH-INTERVAL;VALUE=DURATION:PT1H
X-Robots-Tag:noindex
X-PUBLISHED-TTL:PT1H
BEGIN:VTIMEZONE
TZID:Australia/Brisbane
BEGIN:STANDARD
TZOFFSETFROM:+1000
TZOFFSETTO:+1000
TZNAME:AEST
DTSTART:20210101T000000
END:STANDARD
END:VTIMEZONE
BEGIN:VEVENT
DTSTART;VALUE=DATE:20211031
DTEND;VALUE=DATE:20211101
DTSTAMP:20260424T161321
CREATED:20211003T215332Z
LAST-MODIFIED:20211003T215332Z
UID:13980-1635638400-1635724799@toastmastersd69-org-au.staging.precedence.com.au
SUMMARY:Area 37 contest
DESCRIPTION:
URL:https://toastmastersd69-org-au.staging.precedence.com.au/event/area-37-contest/
CATEGORIES:Area Events
END:VEVENT
END:VCALENDAR