BEGIN:VCALENDAR
VERSION:2.0
PRODID:-//Toastmasters District 69 - ECPv6.0.12//NONSGML v1.0//EN
CALSCALE:GREGORIAN
METHOD:PUBLISH
X-ORIGINAL-URL:https://toastmastersd69-org-au.staging.precedence.com.au
X-WR-CALDESC:Events for Toastmasters District 69
REFRESH-INTERVAL;VALUE=DURATION:PT1H
X-Robots-Tag:noindex
X-PUBLISHED-TTL:PT1H
BEGIN:VTIMEZONE
TZID:Australia/Brisbane
BEGIN:STANDARD
TZOFFSETFROM:+1000
TZOFFSETTO:+1000
TZNAME:AEST
DTSTART:20220101T000000
END:STANDARD
END:VTIMEZONE
BEGIN:VEVENT
DTSTART;TZID=Australia/Brisbane:20221030T080000
DTEND;TZID=Australia/Brisbane:20221030T170000
DTSTAMP:20260423T220903
CREATED:20220709T075637Z
LAST-MODIFIED:20220709T075637Z
UID:14515-1667116800-1667149200@toastmastersd69-org-au.staging.precedence.com.au
SUMMARY:Area 37 Conference
DESCRIPTION:Speech contests and conference for Area 37 Toastmaster Clubs.  To be held at Kenmore Library.  Time to be confirmed.
URL:https://toastmastersd69-org-au.staging.precedence.com.au/event/area-37-conference/
CATEGORIES:Area Events
END:VEVENT
END:VCALENDAR