BEGIN:VCALENDAR
VERSION:2.0
PRODID:-//Toastmasters District 69 - ECPv6.0.12//NONSGML v1.0//EN
CALSCALE:GREGORIAN
METHOD:PUBLISH
X-ORIGINAL-URL:https://toastmastersd69-org-au.staging.precedence.com.au
X-WR-CALDESC:Events for Toastmasters District 69
REFRESH-INTERVAL;VALUE=DURATION:PT1H
X-Robots-Tag:noindex
X-PUBLISHED-TTL:PT1H
BEGIN:VTIMEZONE
TZID:Australia/Brisbane
BEGIN:STANDARD
TZOFFSETFROM:+1000
TZOFFSETTO:+1000
TZNAME:AEST
DTSTART:20220101T000000
END:STANDARD
END:VTIMEZONE
BEGIN:VEVENT
DTSTART;TZID=Australia/Brisbane:20221119T083000
DTEND;TZID=Australia/Brisbane:20221119T133000
DTSTAMP:20260423T210714
CREATED:20221103T024332Z
LAST-MODIFIED:20221103T024332Z
UID:15055-1668846600-1668864600@toastmastersd69-org-au.staging.precedence.com.au
SUMMARY:Area 24 Contests
DESCRIPTION:Area Contests for Area 24
URL:https://toastmastersd69-org-au.staging.precedence.com.au/event/area-24-contests/
CATEGORIES:Area Events
END:VEVENT
END:VCALENDAR