BEGIN:VCALENDAR
VERSION:2.0
PRODID:-//Toastmasters District 69 - ECPv6.0.12//NONSGML v1.0//EN
CALSCALE:GREGORIAN
METHOD:PUBLISH
X-WR-CALNAME:Toastmasters District 69
X-ORIGINAL-URL:https://toastmastersd69-org-au.staging.precedence.com.au
X-WR-CALDESC:Events for Toastmasters District 69
REFRESH-INTERVAL;VALUE=DURATION:PT1H
X-Robots-Tag:noindex
X-PUBLISHED-TTL:PT1H
BEGIN:VTIMEZONE
TZID:Australia/Brisbane
BEGIN:STANDARD
TZOFFSETFROM:+1000
TZOFFSETTO:+1000
TZNAME:AEST
DTSTART:20220101T000000
END:STANDARD
END:VTIMEZONE
BEGIN:VEVENT
DTSTART;TZID=Australia/Brisbane:20220718T183000
DTEND;TZID=Australia/Brisbane:20220718T213000
DTSTAMP:20260425T005907
CREATED:20220715T004427Z
LAST-MODIFIED:20220715T004427Z
UID:14533-1658169000-1658179800@toastmastersd69-org-au.staging.precedence.com.au
SUMMARY:Northern Division Club Officer Training (Online)
DESCRIPTION:Club Officer Training for club officers of Toastmasters International\, District 69\, Northern Division.  All members welcome. Attendance from other divisions and districts welcome.
URL:https://toastmastersd69-org-au.staging.precedence.com.au/event/northern-division-club-officer-training-online-2/
CATEGORIES:Area Events,Club Officer Training
ATTACH;FMTTYPE=:
END:VEVENT
BEGIN:VEVENT
DTSTART;TZID=Australia/Brisbane:20220721T180000
DTEND;TZID=Australia/Brisbane:20220721T213000
DTSTAMP:20260425T005907
CREATED:20220715T004427Z
LAST-MODIFIED:20220715T004427Z
UID:14532-1658426400-1658439000@toastmastersd69-org-au.staging.precedence.com.au
SUMMARY:Northern Division COT Training
DESCRIPTION:Second round of Club Officer Training for the Northern Division areas 2\, 9\, 13\, 14. all other areas are welcome to attend\, please fill in the attendance form so we can add you to the attendance sheet.
URL:https://toastmastersd69-org-au.staging.precedence.com.au/event/northern-division-cot-training/
CATEGORIES:Area Events,Club Officer Training
END:VEVENT
BEGIN:VEVENT
DTSTART;TZID=Australia/Brisbane:20220721T183000
DTEND;TZID=Australia/Brisbane:20220721T213000
DTSTAMP:20260425T005907
CREATED:20220715T004427Z
LAST-MODIFIED:20220715T004427Z
UID:14535-1658428200-1658439000@toastmastersd69-org-au.staging.precedence.com.au
SUMMARY:Northern Division Club Officer Training (Online)
DESCRIPTION:Club Officer Training for club officers of Toastmasters International\, District 69\, Northern Division.  All members welcome. Attendance from other divisions and districts welcome.
URL:https://toastmastersd69-org-au.staging.precedence.com.au/event/northern-division-club-officer-training-online/
CATEGORIES:Area Events,Club Officer Training
ATTACH;FMTTYPE=:
END:VEVENT
BEGIN:VEVENT
DTSTART;TZID=Australia/Brisbane:20221015T090000
DTEND;TZID=Australia/Brisbane:20221015T150000
DTSTAMP:20260425T005907
CREATED:20220803T102434Z
LAST-MODIFIED:20220803T102434Z
UID:14526-1665824400-1665846000@toastmastersd69-org-au.staging.precedence.com.au
SUMMARY:Area 18 Conference 2022
DESCRIPTION:https://www.clayfieldtoastmasters.club/A18Conference.html
URL:https://toastmastersd69-org-au.staging.precedence.com.au/event/area-18-conference-2022/
CATEGORIES:Area Events
ATTACH;FMTTYPE=:
END:VEVENT
BEGIN:VEVENT
DTSTART;TZID=Australia/Brisbane:20221029T120000
DTEND;TZID=Australia/Brisbane:20221029T170000
DTSTAMP:20260425T005907
CREATED:20220904T213011Z
LAST-MODIFIED:20220904T213011Z
UID:14617-1667044800-1667062800@toastmastersd69-org-au.staging.precedence.com.au
SUMMARY:Area 3 Conference 2022
DESCRIPTION:Area 3 Conference\, including area speech contests.
URL:https://toastmastersd69-org-au.staging.precedence.com.au/event/area-3-conference-2022/
CATEGORIES:Area Events
ATTACH;FMTTYPE=:
END:VEVENT
BEGIN:VEVENT
DTSTART;TZID=Australia/Brisbane:20221030T080000
DTEND;TZID=Australia/Brisbane:20221030T170000
DTSTAMP:20260425T005907
CREATED:20220709T075637Z
LAST-MODIFIED:20220709T075637Z
UID:14515-1667116800-1667149200@toastmastersd69-org-au.staging.precedence.com.au
SUMMARY:Area 37 Conference
DESCRIPTION:Speech contests and conference for Area 37 Toastmaster Clubs.  To be held at Kenmore Library.  Time to be confirmed.
URL:https://toastmastersd69-org-au.staging.precedence.com.au/event/area-37-conference/
CATEGORIES:Area Events
END:VEVENT
BEGIN:VEVENT
DTSTART;TZID=Australia/Brisbane:20221112T080000
DTEND;TZID=Australia/Brisbane:20221112T153000
DTSTAMP:20260425T005907
CREATED:20221009T052021Z
LAST-MODIFIED:20221009T052021Z
UID:14835-1668240000-1668267000@toastmastersd69-org-au.staging.precedence.com.au
SUMMARY:Area 8 Conference 2022
DESCRIPTION:Area 8 Conference 2022\, including Humorous\, Table Topics\, International\, and Evaluation Speech Contests.
URL:https://toastmastersd69-org-au.staging.precedence.com.au/event/area-8-conference-2022/
CATEGORIES:Area Events
ATTACH;FMTTYPE=:
END:VEVENT
BEGIN:VEVENT
DTSTART;TZID=Australia/Brisbane:20221113T123000
DTEND;TZID=Australia/Brisbane:20221113T170000
DTSTAMP:20260425T005907
CREATED:20221108T110808Z
LAST-MODIFIED:20221108T110808Z
UID:15087-1668342600-1668358800@toastmastersd69-org-au.staging.precedence.com.au
SUMMARY:Area 27 Speech Contests
DESCRIPTION:International\, Humorous\, Table Topics and Evaluation contests for Area 27 (Crest\, Algester\, Daisy Hill and Jimboomba clubs) \nPLS NOTE: Venue is Jimboomba Community Centre\, NOT Sunnybank Hills Library
URL:https://toastmastersd69-org-au.staging.precedence.com.au/event/area-27-speech-contests-2/
CATEGORIES:Area Events
END:VEVENT
BEGIN:VEVENT
DTSTART;TZID=Australia/Brisbane:20221113T123000
DTEND;TZID=Australia/Brisbane:20221113T173000
DTSTAMP:20260425T005907
CREATED:20220828T215548Z
LAST-MODIFIED:20220828T215548Z
UID:14603-1668342600-1668360600@toastmastersd69-org-au.staging.precedence.com.au
SUMMARY:Area 27 Speech Contests
DESCRIPTION:International\, Humorous\, Table Topics and Evaluation contests for Area 27 (Crest\, Algester\, Daisy Hill and Jimboomba clubs)
URL:https://toastmastersd69-org-au.staging.precedence.com.au/event/area-27-speech-contests/
CATEGORIES:Area Events
END:VEVENT
BEGIN:VEVENT
DTSTART;TZID=Australia/Brisbane:20221119T083000
DTEND;TZID=Australia/Brisbane:20221119T133000
DTSTAMP:20260425T005907
CREATED:20221103T024332Z
LAST-MODIFIED:20221103T024332Z
UID:15055-1668846600-1668864600@toastmastersd69-org-au.staging.precedence.com.au
SUMMARY:Area 24 Contests
DESCRIPTION:Area Contests for Area 24
URL:https://toastmastersd69-org-au.staging.precedence.com.au/event/area-24-contests/
CATEGORIES:Area Events
END:VEVENT
BEGIN:VEVENT
DTSTART;TZID=Australia/Brisbane:20230114T090000
DTEND;TZID=Australia/Brisbane:20230115T130000
DTSTAMP:20260425T005907
CREATED:20220918T023128Z
LAST-MODIFIED:20220918T023128Z
UID:14678-1673686800-1673787600@toastmastersd69-org-au.staging.precedence.com.au
SUMMARY:Area 31 Conference
DESCRIPTION:Clubs in area 31 gather for their annual council meeting and speech contests. St George Toastmaster club is hosting this two-day event with COT taking place Sunday from 9am until 1pm.
URL:https://toastmastersd69-org-au.staging.precedence.com.au/event/area-31-conference-2/
CATEGORIES:Area Events
END:VEVENT
END:VCALENDAR