BEGIN:VCALENDAR
VERSION:2.0
PRODID:-//Toastmasters District 69 - ECPv6.0.12//NONSGML v1.0//EN
CALSCALE:GREGORIAN
METHOD:PUBLISH
X-WR-CALNAME:Toastmasters District 69
X-ORIGINAL-URL:https://toastmastersd69-org-au.staging.precedence.com.au
X-WR-CALDESC:Events for Toastmasters District 69
REFRESH-INTERVAL;VALUE=DURATION:PT1H
X-Robots-Tag:noindex
X-PUBLISHED-TTL:PT1H
BEGIN:VTIMEZONE
TZID:Australia/Brisbane
BEGIN:STANDARD
TZOFFSETFROM:+1000
TZOFFSETTO:+1000
TZNAME:AEST
DTSTART:20210101T000000
END:STANDARD
END:VTIMEZONE
BEGIN:VEVENT
DTSTART;TZID=Australia/Brisbane:20210720T180000
DTEND;TZID=Australia/Brisbane:20210720T210000
DTSTAMP:20260422T055723
CREATED:20210523T055453Z
LAST-MODIFIED:20210523T055453Z
UID:13480-1626804000-1626814800@toastmastersd69-org-au.staging.precedence.com.au
SUMMARY:Club Officer Training
DESCRIPTION:When: Jul 20\, 2021 06:00 PM Brisbane \nRegister in advance for this meeting: \nhttps://zoom.us/meeting/register/tJUtf–rqDguGdM7H4qJHeqPzapizDaLuJSH
URL:https://toastmastersd69-org-au.staging.precedence.com.au/event/club-officer-training-6/
END:VEVENT
BEGIN:VEVENT
DTSTART;TZID=Australia/Brisbane:20210718T130000
DTEND;TZID=Australia/Brisbane:20210718T170000
DTSTAMP:20260422T055723
CREATED:20210523T055439Z
LAST-MODIFIED:20210523T055439Z
UID:13478-1626613200-1626627600@toastmastersd69-org-au.staging.precedence.com.au
SUMMARY:Club Officer Training
DESCRIPTION:When: Jul 18\, 2021 01:00 PM Brisbane \nRegister in advance for this meeting: \nhttps://zoom.us/meeting/register/tJ0sc–przktE9SsbI4dzMZN8ZIo6cqwkX-v
URL:https://toastmastersd69-org-au.staging.precedence.com.au/event/club-officer-training-5/
END:VEVENT
BEGIN:VEVENT
DTSTART;TZID=Australia/Brisbane:20210625T193000
DTEND;TZID=Australia/Brisbane:20210625T210000
DTSTAMP:20260422T055723
CREATED:20210530T071437Z
LAST-MODIFIED:20210530T071437Z
UID:13498-1624649400-1624654800@toastmastersd69-org-au.staging.precedence.com.au
SUMMARY:End of Year Celebration & Changeover
DESCRIPTION:Join us for a fun evening as we celebrate the year that was and handover the reins to the incoming District Officers.\nClick Here to Register for this Event.
URL:https://toastmastersd69-org-au.staging.precedence.com.au/event/end-of-year-celebration-changeover/
END:VEVENT
BEGIN:VEVENT
DTSTART;TZID=Australia/Brisbane:20210620T083000
DTEND;TZID=Australia/Brisbane:20210620T123000
DTSTAMP:20260422T055723
CREATED:20210523T055426Z
LAST-MODIFIED:20210523T055426Z
UID:13476-1624177800-1624192200@toastmastersd69-org-au.staging.precedence.com.au
SUMMARY:Club Officer Training
DESCRIPTION:When: Jun 20\, 2021 08:30 AM Brisbane \nRegister in advance for this meeting: \nhttps://zoom.us/meeting/register/tJAqf-GqqzkvH9Y9CznGc8aDwRS9xwUAvcrW
URL:https://toastmastersd69-org-au.staging.precedence.com.au/event/club-officer-training-4/
END:VEVENT
BEGIN:VEVENT
DTSTART;TZID=Australia/Brisbane:20210616T180000
DTEND;TZID=Australia/Brisbane:20210616T210000
DTSTAMP:20260422T055723
CREATED:20210914T110453Z
LAST-MODIFIED:20210914T110453Z
UID:13562-1623866400-1623877200@toastmastersd69-org-au.staging.precedence.com.au
SUMMARY:16th June training
DESCRIPTION:training session
URL:https://toastmastersd69-org-au.staging.precedence.com.au/event/16th-june-training/
END:VEVENT
BEGIN:VEVENT
DTSTART;TZID=Australia/Brisbane:20210616T180000
DTEND;TZID=Australia/Brisbane:20210616T210000
DTSTAMP:20260422T055723
CREATED:20210523T055412Z
LAST-MODIFIED:20210523T055412Z
UID:13474-1623866400-1623877200@toastmastersd69-org-au.staging.precedence.com.au
SUMMARY:Club Officer Training
DESCRIPTION:When: Jun 16\, 2021 06:00 PM Brisbane \nRegister in advance for this meeting: \nhttps://zoom.us/meeting/register/tJIpdu-vpz8jG9LVb9xCsvKygggTddkD59u0
URL:https://toastmastersd69-org-au.staging.precedence.com.au/event/club-officer-training-3/
END:VEVENT
BEGIN:VEVENT
DTSTART;TZID=Australia/Brisbane:20210614T180000
DTEND;TZID=Australia/Brisbane:20210614T210000
DTSTAMP:20260422T055723
CREATED:20210523T055359Z
LAST-MODIFIED:20210523T055359Z
UID:13472-1623693600-1623704400@toastmastersd69-org-au.staging.precedence.com.au
SUMMARY:Club Officer Training
DESCRIPTION:When: Jun 14\, 2021 06:00 PM Brisbane \nRegister in advance for this meeting: \nhttps://zoom.us/meeting/register/tJMpdeCqrzsqGtXCtQkdhn7ooB7M_Gkl25O3
URL:https://toastmastersd69-org-au.staging.precedence.com.au/event/club-officer-training-2/
END:VEVENT
BEGIN:VEVENT
DTSTART;TZID=Australia/Brisbane:20210613T160000
DTEND;TZID=Australia/Brisbane:20210613T180000
DTSTAMP:20260422T055723
CREATED:20210513T101414Z
LAST-MODIFIED:20210513T101414Z
UID:13448-1623600000-1623607200@toastmastersd69-org-au.staging.precedence.com.au
SUMMARY:Region 12 end of year Celebration!
DESCRIPTION:THEME: VIRTUAL AND BEYOND\nDRESS: LOUD AND FUN \nAn opportunity to connect and celebrate with members from across the region and beyond.\nBe inspired by our Region 12 District Directors as they share their stories of going virtual and beyond.\nRegistration link: https://bit.ly/R12June13
URL:https://toastmastersd69-org-au.staging.precedence.com.au/event/region-12-end-of-year-celebration/
END:VEVENT
BEGIN:VEVENT
DTSTART;TZID=Australia/Brisbane:20210612T130000
DTEND;TZID=Australia/Brisbane:20210612T170000
DTSTAMP:20260422T055723
CREATED:20210523T055344Z
LAST-MODIFIED:20210523T055344Z
UID:13470-1623502800-1623517200@toastmastersd69-org-au.staging.precedence.com.au
SUMMARY:Club Officer Training
DESCRIPTION:When: Jun 12\, 2021 01:00 PM Brisbane \nRegister in advance for this meeting: \nhttps://zoom.us/meeting/register/tJAvc-mgrzMrG9QwJUFQ0JkikZKm53FLlNXm
URL:https://toastmastersd69-org-au.staging.precedence.com.au/event/club-officer-training/
END:VEVENT
BEGIN:VEVENT
DTSTART;TZID=Australia/Brisbane:20210508T130000
DTEND;TZID=Australia/Brisbane:20210508T170000
DTSTAMP:20260422T055723
CREATED:20201221T065934Z
LAST-MODIFIED:20201221T065934Z
UID:13035-1620478800-1620493200@toastmastersd69-org-au.staging.precedence.com.au
SUMMARY:District 69 Council meeting
DESCRIPTION:Council Meeting Details \nDate: Saturday\, 8 May 2021\nTime: 1:00pm  – credentials desk opens 12.30pm\nMeeting Location: Zoom (online) \nUpon registering you will be given a unique link. Please do not share this. We will also re-send this link to you on the morning of the council meeting.
URL:https://toastmastersd69-org-au.staging.precedence.com.au/event/district-69-council-meeting/
END:VEVENT
BEGIN:VEVENT
DTSTART;VALUE=DATE:20210501
DTEND;VALUE=DATE:20210502
DTSTAMP:20260422T055723
CREATED:20201221T065958Z
LAST-MODIFIED:20201221T065958Z
UID:13034-1619827200-1619913599@toastmastersd69-org-au.staging.precedence.com.au
SUMMARY:District 69 Online Conference
DESCRIPTION:Includes District Humorous and International speech contests\, Educationals\, KeyNote speakers\, Fun networking activities. \nHow do I register to attend?\nUpdate my Zoom to the latest version.\nClick Here to Register.
URL:https://toastmastersd69-org-au.staging.precedence.com.au/event/district-69-online-conference/
END:VEVENT
BEGIN:VEVENT
DTSTART;TZID=Australia/Brisbane:20210411T184500
DTEND;TZID=Australia/Brisbane:20210411T203000
DTSTAMP:20260422T055723
CREATED:20210215T063713Z
LAST-MODIFIED:20210215T063713Z
UID:13103-1618166700-1618173000@toastmastersd69-org-au.staging.precedence.com.au
SUMMARY:Central Division Council Meeting
DESCRIPTION:Online Division Council Meeting
URL:https://toastmastersd69-org-au.staging.precedence.com.au/event/central-division-council-meeting/
END:VEVENT
BEGIN:VEVENT
DTSTART;TZID=Australia/Brisbane:20210327T100000
DTEND;TZID=Australia/Brisbane:20210327T130000
DTSTAMP:20260422T055723
CREATED:20210228T224044Z
LAST-MODIFIED:20210228T224044Z
UID:13146-1616839200-1616850000@toastmastersd69-org-au.staging.precedence.com.au
SUMMARY:Eastern Division Speech Contests - and council meeting
DESCRIPTION:Log in and enjoy listening to the best speakers from Eastern Division represeiting\nArea 7\, Area 20\, Area 26\, Area 27 and Area 33 \nThe zoom link for the event is – https://zoom.us/j/91077413553\nThe zoom room will open 30 minutes before hand for every Toastmaster to partake in fellowship. \nShortly after the completion of the second speech contest\, the Eastern Division Council meeting will take place.
URL:https://toastmastersd69-org-au.staging.precedence.com.au/event/eastern-division-speech-contests-and-council-meeting/
ATTACH;FMTTYPE=:
END:VEVENT
BEGIN:VEVENT
DTSTART;TZID=Australia/Brisbane:20210320T090000
DTEND;TZID=Australia/Brisbane:20210320T130000
DTSTAMP:20260422T055723
CREATED:20210207T112208Z
LAST-MODIFIED:20210207T112208Z
UID:13099-1616230800-1616245200@toastmastersd69-org-au.staging.precedence.com.au
SUMMARY:Northern Division Contests
DESCRIPTION:Northern Division Humorous and International Contests \nCome and see the Vitality and Talent in the North
URL:https://toastmastersd69-org-au.staging.precedence.com.au/event/northern-division-contests/
END:VEVENT
BEGIN:VEVENT
DTSTART;TZID=Australia/Brisbane:20210314T083000
DTEND;TZID=Australia/Brisbane:20210314T113000
DTSTAMP:20260422T055723
CREATED:20210215T063751Z
LAST-MODIFIED:20210215T063751Z
UID:13104-1615710600-1615721400@toastmastersd69-org-au.staging.precedence.com.au
SUMMARY:Central Division Speech Contests
DESCRIPTION:Featuring International and Humorous Speech Contests and networking
URL:https://toastmastersd69-org-au.staging.precedence.com.au/event/central-division-speech-contests/
END:VEVENT
BEGIN:VEVENT
DTSTART;TZID=Australia/Brisbane:20210313T090000
DTEND;TZID=Australia/Brisbane:20210313T123000
DTSTAMP:20260422T055723
CREATED:20210307T220059Z
LAST-MODIFIED:20210307T220059Z
UID:13164-1615626000-1615638600@toastmastersd69-org-au.staging.precedence.com.au
SUMMARY:Area 39 Speech contest
DESCRIPTION:Speech contest \nJoin here
URL:https://toastmastersd69-org-au.staging.precedence.com.au/event/area-39-speech-contest-2/
CATEGORIES:Area Events
END:VEVENT
BEGIN:VEVENT
DTSTART;TZID=Australia/Brisbane:20210313T090000
DTEND;TZID=Australia/Brisbane:20210313T123000
DTSTAMP:20260422T055723
CREATED:20210307T105332Z
LAST-MODIFIED:20210307T105332Z
UID:13161-1615626000-1615638600@toastmastersd69-org-au.staging.precedence.com.au
SUMMARY:Area 39 Speech Contest
DESCRIPTION:The Area 39 Speech contest will be held via zoom on Saturday 13th March 2021. Two competitions will be conducted – Humorous and International. Area 39 consists of three clubs in Northern Territory – Alice Springs\, Darwin and Northern Communicators.
URL:https://toastmastersd69-org-au.staging.precedence.com.au/event/area-39-speech-contest/
CATEGORIES:Area Events
END:VEVENT
BEGIN:VEVENT
DTSTART;VALUE=DATE:20210313
DTEND;VALUE=DATE:20210314
DTSTAMP:20260422T055723
CREATED:20200524T235318Z
LAST-MODIFIED:20200524T235318Z
UID:12059-1615593600-1615679999@toastmastersd69-org-au.staging.precedence.com.au
SUMMARY:Moreton Division Conference 2021
DESCRIPTION:Join Zoom Meeting\nhttps://zoom.us/j/6912691269
URL:https://toastmastersd69-org-au.staging.precedence.com.au/event/moreton-division-conference-2021/
CATEGORIES:Division Conference,Division Events
ATTACH;FMTTYPE=:
END:VEVENT
BEGIN:VEVENT
DTSTART;TZID=Australia/Brisbane:20210306T080000
DTEND;TZID=Australia/Brisbane:20210306T160000
DTSTAMP:20260422T055723
CREATED:20200507T002043Z
LAST-MODIFIED:20200507T002043Z
UID:11804-1615017600-1615046400@toastmastersd69-org-au.staging.precedence.com.au
SUMMARY:Southern Division Conference
DESCRIPTION:Take this opportunity to hear the best Toastmasters in our Division as they compete in Evaluation\, Table Topics\, Humorous and International Speech contests. There will be a keynote speech and an educational to inspire and educate so save this date!   Enquiries to taflyn1@bigpond.com. \nRegister Now
URL:https://toastmastersd69-org-au.staging.precedence.com.au/event/southern-division-conference-2/
CATEGORIES:Division Conference,Division Events
END:VEVENT
BEGIN:VEVENT
DTSTART;TZID=Australia/Brisbane:20210305T180000
DTEND;TZID=Australia/Brisbane:20210305T183500
DTSTAMP:20260422T055723
CREATED:20210217T064853Z
LAST-MODIFIED:20210217T064853Z
UID:13111-1614967200-1614969300@toastmastersd69-org-au.staging.precedence.com.au
SUMMARY:WD Area 1 Council Meeting
DESCRIPTION:WD Area 1 Council Meeting Friday 5th March 2021 at 6pm\, on zoom. \nAs Covid interrupted the Area 1 Conference the Council Meeting was not held. \nPlease contact Margaret Marshall 0408 255 774 or email marshallmargaret9@gmail.com for details and zoom link.
URL:https://toastmastersd69-org-au.staging.precedence.com.au/event/wd-area-1-council-meeting/
CATEGORIES:Area Events
END:VEVENT
BEGIN:VEVENT
DTSTART;VALUE=DATE:20210305
DTEND;VALUE=DATE:20210306
DTSTAMP:20260422T055723
CREATED:20211005T012354Z
LAST-MODIFIED:20211005T012354Z
UID:13979-1614902400-1614988799@toastmastersd69-org-au.staging.precedence.com.au
SUMMARY:Moreton Division contest is on 5 March 2022
DESCRIPTION:Moreton Division contest is on 5 March 2022
URL:https://toastmastersd69-org-au.staging.precedence.com.au/event/moreton-division-contest-is-on-5-march-2022/
CATEGORIES:Division Conference
END:VEVENT
BEGIN:VEVENT
DTSTART;TZID=Australia/Brisbane:20210227T093000
DTEND;TZID=Australia/Brisbane:20210227T123000
DTSTAMP:20260422T055723
CREATED:20201204T011223Z
LAST-MODIFIED:20201204T011223Z
UID:12993-1614418200-1614429000@toastmastersd69-org-au.staging.precedence.com.au
SUMMARY:WD Speech Contests
DESCRIPTION:WD Speech Contests and Council Meeting
URL:https://toastmastersd69-org-au.staging.precedence.com.au/event/wd-speech-contests/
CATEGORIES:Division Conference
END:VEVENT
BEGIN:VEVENT
DTSTART;TZID=Australia/Brisbane:20210213T130000
DTEND;TZID=Australia/Brisbane:20210213T163000
DTSTAMP:20260422T055723
CREATED:20210125T083031Z
LAST-MODIFIED:20210125T083031Z
UID:13082-1613221200-1613233800@toastmastersd69-org-au.staging.precedence.com.au
SUMMARY:AREA 16 SPEECH CONTESTS
DESCRIPTION:Judges\, Officials and Contestants from 12:30pm\nFriendship\, Fellowship and Networking from 1:00pm\nEnquiries to Debbie Holly debbieholly.tm@gmail.com
URL:https://toastmastersd69-org-au.staging.precedence.com.au/event/area-16-speech-contests/
END:VEVENT
BEGIN:VEVENT
DTSTART;TZID=Australia/Brisbane:20210213T090000
DTEND;TZID=Australia/Brisbane:20210213T120000
DTSTAMP:20260422T055723
CREATED:20201008T064617Z
LAST-MODIFIED:20201008T064617Z
UID:12773-1613206800-1613217600@toastmastersd69-org-au.staging.precedence.com.au
SUMMARY:Club Officer Training - Weekend
DESCRIPTION:This year is an exciting time full of new challenges and new opportunities to grow\, and the best way to keep your year on the right track is to level up your leadership skills at our second round Club Officer Training this January and February. \nThis round of training will be completely online\, with sessions offered across a range of dates and times to suit the diverse needs and life commitments of our members. Round 2 is all about reviewing your progress\, troubleshooting challenges your club may have\, and developing an action plan for the remainder of your term. Training provides a great opportunity to build support networks and discuss best practices for your role. \nAttending this session will also earn your club credit toward its Distinguished Club Program goals for the year.
URL:https://toastmastersd69-org-au.staging.precedence.com.au/event/club-officer-training-weekend-5/
CATEGORIES:Club Officer Training
END:VEVENT
BEGIN:VEVENT
DTSTART;TZID=Australia/Brisbane:20210210T180000
DTEND;TZID=Australia/Brisbane:20210210T210000
DTSTAMP:20260422T055723
CREATED:20201008T064712Z
LAST-MODIFIED:20201008T064712Z
UID:12772-1612980000-1612990800@toastmastersd69-org-au.staging.precedence.com.au
SUMMARY:Club Officer Training - Weeknight
DESCRIPTION:This year is an exciting time full of new challenges and new opportunities to grow\, and the best way to keep your year on the right track is to level up your leadership skills at our second round Club Officer Training this January and February. \nThis round of training will be completely online\, with sessions offered across a range of dates and times to suit the diverse needs and life commitments of our members. Round 2 is all about reviewing your progress\, troubleshooting challenges your club may have\, and developing an action plan for the remainder of your term. Training provides a great opportunity to build support networks and discuss best practices for your role. \nAttending this session will also earn your club credit toward its Distinguished Club Program goals for the year.
URL:https://toastmastersd69-org-au.staging.precedence.com.au/event/club-officer-training-weeknight-6/
CATEGORIES:Club Officer Training
END:VEVENT
BEGIN:VEVENT
DTSTART;TZID=Australia/Brisbane:20210207T130000
DTEND;TZID=Australia/Brisbane:20210207T160000
DTSTAMP:20260422T055723
CREATED:20201008T064755Z
LAST-MODIFIED:20201008T064755Z
UID:12771-1612702800-1612713600@toastmastersd69-org-au.staging.precedence.com.au
SUMMARY:Club Officer Training - Weekend
DESCRIPTION:This year is an exciting time full of new challenges and new opportunities to grow\, and the best way to keep your year on the right track is to level up your leadership skills at our second round Club Officer Training this January and February. \nThis round of training will be completely online\, with sessions offered across a range of dates and times to suit the diverse needs and life commitments of our members. Round 2 is all about reviewing your progress\, troubleshooting challenges your club may have\, and developing an action plan for the remainder of your term. Training provides a great opportunity to build support networks and discuss best practices for your role. \nAttending this session will also earn your club credit toward its Distinguished Club Program goals for the year.
URL:https://toastmastersd69-org-au.staging.precedence.com.au/event/club-officer-training-weekend-6/
CATEGORIES:Club Officer Training
END:VEVENT
BEGIN:VEVENT
DTSTART;TZID=Australia/Brisbane:20210206T180000
DTEND;TZID=Australia/Brisbane:20210206T210000
DTSTAMP:20260422T055723
CREATED:20211005T012349Z
LAST-MODIFIED:20211005T012349Z
UID:13061-1612634400-1612645200@toastmastersd69-org-au.staging.precedence.com.au
SUMMARY:Area 5 International and Humorous contests
DESCRIPTION:ONLINE International and Humorous Competitions for contestants from ACS\, Agile\, API\, Forex\, SCALE clubs. \nTo be held online via Zoom (https://zoom.us/j/4071389336)
URL:https://toastmastersd69-org-au.staging.precedence.com.au/event/area-5-international-and-humorous-contests-2/
ATTACH;FMTTYPE=:
END:VEVENT
BEGIN:VEVENT
DTSTART;TZID=Australia/Brisbane:20210206T180000
DTEND;TZID=Australia/Brisbane:20210206T210000
DTSTAMP:20260422T055723
CREATED:20201122T091225Z
LAST-MODIFIED:20201122T091225Z
UID:12960-1612634400-1612645200@toastmastersd69-org-au.staging.precedence.com.au
SUMMARY:Area 5 International and Humorous contests
DESCRIPTION:Area 5 International and Humorous contests – to be held online via Zoom (https://zoom.us/j/4071389336)
URL:https://toastmastersd69-org-au.staging.precedence.com.au/event/area-5-international-and-humorous-contests/
CATEGORIES:Area Events
ATTACH;FMTTYPE=:
END:VEVENT
BEGIN:VEVENT
DTSTART;TZID=Australia/Brisbane:20210206T130000
DTEND;TZID=Australia/Brisbane:20210206T160000
DTSTAMP:20260422T055723
CREATED:20201112T101150Z
LAST-MODIFIED:20201112T101150Z
UID:12896-1612616400-1612627200@toastmastersd69-org-au.staging.precedence.com.au
SUMMARY:Club Officer Training - Weekend
DESCRIPTION:This year is an exciting time full of new challenges and new opportunities to grow\, and the best way to keep your year on the right track is to level up your leadership skills at our second round Club Officer Training this January and February. \nThis round of training will be completely online\, with sessions offered across a range of dates and times to suit the diverse needs and life commitments of our members. Round 2 is all about reviewing your progress\, troubleshooting challenges your club may have\, and developing an action plan for the remainder of your term. Training provides a great opportunity to build support networks and discuss best practices for your role. \nAttending this session will also earn your club credit toward its Distinguished Club Program goals for the year.
URL:https://toastmastersd69-org-au.staging.precedence.com.au/event/club-officer-training-weekend-8/
CATEGORIES:Club Officer Training
END:VEVENT
BEGIN:VEVENT
DTSTART;TZID=Australia/Brisbane:20210204T180000
DTEND;TZID=Australia/Brisbane:20210204T210000
DTSTAMP:20260422T055723
CREATED:20201008T064848Z
LAST-MODIFIED:20201008T064848Z
UID:12770-1612461600-1612472400@toastmastersd69-org-au.staging.precedence.com.au
SUMMARY:Club Officer Training - Weeknight
DESCRIPTION:This year is an exciting time full of new challenges and new opportunities to grow\, and the best way to keep your year on the right track is to level up your leadership skills at our second round Club Officer Training this January and February. \nThis round of training will be completely online\, with sessions offered across a range of dates and times to suit the diverse needs and life commitments of our members. Round 2 is all about reviewing your progress\, troubleshooting challenges your club may have\, and developing an action plan for the remainder of your term. Training provides a great opportunity to build support networks and discuss best practices for your role. \nAttending this session will also earn your club credit toward its Distinguished Club Program goals for the year.
URL:https://toastmastersd69-org-au.staging.precedence.com.au/event/club-officer-training-weeknight-7/
CATEGORIES:Club Officer Training
END:VEVENT
END:VCALENDAR