BEGIN:VCALENDAR
VERSION:2.0
PRODID:-//Toastmasters District 69 - ECPv6.0.12//NONSGML v1.0//EN
CALSCALE:GREGORIAN
METHOD:PUBLISH
X-WR-CALNAME:Toastmasters District 69
X-ORIGINAL-URL:https://toastmastersd69-org-au.staging.precedence.com.au
X-WR-CALDESC:Events for Toastmasters District 69
REFRESH-INTERVAL;VALUE=DURATION:PT1H
X-Robots-Tag:noindex
X-PUBLISHED-TTL:PT1H
BEGIN:VTIMEZONE
TZID:Australia/Brisbane
BEGIN:STANDARD
TZOFFSETFROM:+1000
TZOFFSETTO:+1000
TZNAME:AEST
DTSTART:20200101T000000
END:STANDARD
END:VTIMEZONE
BEGIN:VEVENT
DTSTART;VALUE=DATE:20210305
DTEND;VALUE=DATE:20210306
DTSTAMP:20260423T082014
CREATED:20211005T012354Z
LAST-MODIFIED:20211005T012354Z
UID:13979-1614902400-1614988799@toastmastersd69-org-au.staging.precedence.com.au
SUMMARY:Moreton Division contest is on 5 March 2022
DESCRIPTION:Moreton Division contest is on 5 March 2022
URL:https://toastmastersd69-org-au.staging.precedence.com.au/event/moreton-division-contest-is-on-5-march-2022/
CATEGORIES:Division Conference
END:VEVENT
BEGIN:VEVENT
DTSTART;TZID=Australia/Brisbane:20210227T093000
DTEND;TZID=Australia/Brisbane:20210227T123000
DTSTAMP:20260423T082014
CREATED:20201204T011223Z
LAST-MODIFIED:20201204T011223Z
UID:12993-1614418200-1614429000@toastmastersd69-org-au.staging.precedence.com.au
SUMMARY:WD Speech Contests
DESCRIPTION:WD Speech Contests and Council Meeting
URL:https://toastmastersd69-org-au.staging.precedence.com.au/event/wd-speech-contests/
CATEGORIES:Division Conference
END:VEVENT
BEGIN:VEVENT
DTSTART;TZID=Australia/Brisbane:20210213T130000
DTEND;TZID=Australia/Brisbane:20210213T163000
DTSTAMP:20260423T082014
CREATED:20210125T083031Z
LAST-MODIFIED:20210125T083031Z
UID:13082-1613221200-1613233800@toastmastersd69-org-au.staging.precedence.com.au
SUMMARY:AREA 16 SPEECH CONTESTS
DESCRIPTION:Judges\, Officials and Contestants from 12:30pm\nFriendship\, Fellowship and Networking from 1:00pm\nEnquiries to Debbie Holly debbieholly.tm@gmail.com
URL:https://toastmastersd69-org-au.staging.precedence.com.au/event/area-16-speech-contests/
END:VEVENT
BEGIN:VEVENT
DTSTART;TZID=Australia/Brisbane:20210213T090000
DTEND;TZID=Australia/Brisbane:20210213T120000
DTSTAMP:20260423T082014
CREATED:20201008T064617Z
LAST-MODIFIED:20201008T064617Z
UID:12773-1613206800-1613217600@toastmastersd69-org-au.staging.precedence.com.au
SUMMARY:Club Officer Training - Weekend
DESCRIPTION:This year is an exciting time full of new challenges and new opportunities to grow\, and the best way to keep your year on the right track is to level up your leadership skills at our second round Club Officer Training this January and February. \nThis round of training will be completely online\, with sessions offered across a range of dates and times to suit the diverse needs and life commitments of our members. Round 2 is all about reviewing your progress\, troubleshooting challenges your club may have\, and developing an action plan for the remainder of your term. Training provides a great opportunity to build support networks and discuss best practices for your role. \nAttending this session will also earn your club credit toward its Distinguished Club Program goals for the year.
URL:https://toastmastersd69-org-au.staging.precedence.com.au/event/club-officer-training-weekend-5/
CATEGORIES:Club Officer Training
END:VEVENT
BEGIN:VEVENT
DTSTART;TZID=Australia/Brisbane:20210210T180000
DTEND;TZID=Australia/Brisbane:20210210T210000
DTSTAMP:20260423T082014
CREATED:20201008T064712Z
LAST-MODIFIED:20201008T064712Z
UID:12772-1612980000-1612990800@toastmastersd69-org-au.staging.precedence.com.au
SUMMARY:Club Officer Training - Weeknight
DESCRIPTION:This year is an exciting time full of new challenges and new opportunities to grow\, and the best way to keep your year on the right track is to level up your leadership skills at our second round Club Officer Training this January and February. \nThis round of training will be completely online\, with sessions offered across a range of dates and times to suit the diverse needs and life commitments of our members. Round 2 is all about reviewing your progress\, troubleshooting challenges your club may have\, and developing an action plan for the remainder of your term. Training provides a great opportunity to build support networks and discuss best practices for your role. \nAttending this session will also earn your club credit toward its Distinguished Club Program goals for the year.
URL:https://toastmastersd69-org-au.staging.precedence.com.au/event/club-officer-training-weeknight-6/
CATEGORIES:Club Officer Training
END:VEVENT
BEGIN:VEVENT
DTSTART;TZID=Australia/Brisbane:20210207T130000
DTEND;TZID=Australia/Brisbane:20210207T160000
DTSTAMP:20260423T082014
CREATED:20201008T064755Z
LAST-MODIFIED:20201008T064755Z
UID:12771-1612702800-1612713600@toastmastersd69-org-au.staging.precedence.com.au
SUMMARY:Club Officer Training - Weekend
DESCRIPTION:This year is an exciting time full of new challenges and new opportunities to grow\, and the best way to keep your year on the right track is to level up your leadership skills at our second round Club Officer Training this January and February. \nThis round of training will be completely online\, with sessions offered across a range of dates and times to suit the diverse needs and life commitments of our members. Round 2 is all about reviewing your progress\, troubleshooting challenges your club may have\, and developing an action plan for the remainder of your term. Training provides a great opportunity to build support networks and discuss best practices for your role. \nAttending this session will also earn your club credit toward its Distinguished Club Program goals for the year.
URL:https://toastmastersd69-org-au.staging.precedence.com.au/event/club-officer-training-weekend-6/
CATEGORIES:Club Officer Training
END:VEVENT
BEGIN:VEVENT
DTSTART;TZID=Australia/Brisbane:20210206T180000
DTEND;TZID=Australia/Brisbane:20210206T210000
DTSTAMP:20260423T082014
CREATED:20211005T012349Z
LAST-MODIFIED:20211005T012349Z
UID:13061-1612634400-1612645200@toastmastersd69-org-au.staging.precedence.com.au
SUMMARY:Area 5 International and Humorous contests
DESCRIPTION:ONLINE International and Humorous Competitions for contestants from ACS\, Agile\, API\, Forex\, SCALE clubs. \nTo be held online via Zoom (https://zoom.us/j/4071389336)
URL:https://toastmastersd69-org-au.staging.precedence.com.au/event/area-5-international-and-humorous-contests-2/
ATTACH;FMTTYPE=:
END:VEVENT
BEGIN:VEVENT
DTSTART;TZID=Australia/Brisbane:20210206T180000
DTEND;TZID=Australia/Brisbane:20210206T210000
DTSTAMP:20260423T082014
CREATED:20201122T091225Z
LAST-MODIFIED:20201122T091225Z
UID:12960-1612634400-1612645200@toastmastersd69-org-au.staging.precedence.com.au
SUMMARY:Area 5 International and Humorous contests
DESCRIPTION:Area 5 International and Humorous contests – to be held online via Zoom (https://zoom.us/j/4071389336)
URL:https://toastmastersd69-org-au.staging.precedence.com.au/event/area-5-international-and-humorous-contests/
CATEGORIES:Area Events
ATTACH;FMTTYPE=:
END:VEVENT
BEGIN:VEVENT
DTSTART;TZID=Australia/Brisbane:20210206T130000
DTEND;TZID=Australia/Brisbane:20210206T160000
DTSTAMP:20260423T082014
CREATED:20201112T101150Z
LAST-MODIFIED:20201112T101150Z
UID:12896-1612616400-1612627200@toastmastersd69-org-au.staging.precedence.com.au
SUMMARY:Club Officer Training - Weekend
DESCRIPTION:This year is an exciting time full of new challenges and new opportunities to grow\, and the best way to keep your year on the right track is to level up your leadership skills at our second round Club Officer Training this January and February. \nThis round of training will be completely online\, with sessions offered across a range of dates and times to suit the diverse needs and life commitments of our members. Round 2 is all about reviewing your progress\, troubleshooting challenges your club may have\, and developing an action plan for the remainder of your term. Training provides a great opportunity to build support networks and discuss best practices for your role. \nAttending this session will also earn your club credit toward its Distinguished Club Program goals for the year.
URL:https://toastmastersd69-org-au.staging.precedence.com.au/event/club-officer-training-weekend-8/
CATEGORIES:Club Officer Training
END:VEVENT
BEGIN:VEVENT
DTSTART;TZID=Australia/Brisbane:20210204T180000
DTEND;TZID=Australia/Brisbane:20210204T210000
DTSTAMP:20260423T082014
CREATED:20201008T064848Z
LAST-MODIFIED:20201008T064848Z
UID:12770-1612461600-1612472400@toastmastersd69-org-au.staging.precedence.com.au
SUMMARY:Club Officer Training - Weeknight
DESCRIPTION:This year is an exciting time full of new challenges and new opportunities to grow\, and the best way to keep your year on the right track is to level up your leadership skills at our second round Club Officer Training this January and February. \nThis round of training will be completely online\, with sessions offered across a range of dates and times to suit the diverse needs and life commitments of our members. Round 2 is all about reviewing your progress\, troubleshooting challenges your club may have\, and developing an action plan for the remainder of your term. Training provides a great opportunity to build support networks and discuss best practices for your role. \nAttending this session will also earn your club credit toward its Distinguished Club Program goals for the year.
URL:https://toastmastersd69-org-au.staging.precedence.com.au/event/club-officer-training-weeknight-7/
CATEGORIES:Club Officer Training
END:VEVENT
BEGIN:VEVENT
DTSTART;TZID=Australia/Brisbane:20210202T180000
DTEND;TZID=Australia/Brisbane:20210202T210000
DTSTAMP:20260423T082014
CREATED:20201112T101131Z
LAST-MODIFIED:20201112T101131Z
UID:12894-1612288800-1612299600@toastmastersd69-org-au.staging.precedence.com.au
SUMMARY:Club Officer Training - Weeknight
DESCRIPTION:This year is an exciting time full of new challenges and new opportunities to grow\, and the best way to keep your year on the right track is to level up your leadership skills at our second round Club Officer Training this January and February. \nThis round of training will be completely online\, with sessions offered across a range of dates and times to suit the diverse needs and life commitments of our members. Round 2 is all about reviewing your progress\, troubleshooting challenges your club may have\, and developing an action plan for the remainder of your term. Training provides a great opportunity to build support networks and discuss best practices for your role. \nAttending this session will also earn your club credit toward its Distinguished Club Program goals for the year.
URL:https://toastmastersd69-org-au.staging.precedence.com.au/event/club-officer-training-weeknight-9/
CATEGORIES:Club Officer Training
END:VEVENT
BEGIN:VEVENT
DTSTART;TZID=Australia/Brisbane:20210131T090000
DTEND;TZID=Australia/Brisbane:20210131T120000
DTSTAMP:20260423T082014
CREATED:20201112T101109Z
LAST-MODIFIED:20201112T101109Z
UID:12892-1612083600-1612094400@toastmastersd69-org-au.staging.precedence.com.au
SUMMARY:Club Officer Training - Weekend
DESCRIPTION:This year is an exciting time full of new challenges and new opportunities to grow\, and the best way to keep your year on the right track is to level up your leadership skills at our second round Club Officer Training this January and February. \nThis round of training will be completely online\, with sessions offered across a range of dates and times to suit the diverse needs and life commitments of our members. Round 2 is all about reviewing your progress\, troubleshooting challenges your club may have\, and developing an action plan for the remainder of your term. Training provides a great opportunity to build support networks and discuss best practices for your role. \nAttending this session will also earn your club credit toward its Distinguished Club Program goals for the year.
URL:https://toastmastersd69-org-au.staging.precedence.com.au/event/club-officer-training-weekend-7/
CATEGORIES:Club Officer Training
END:VEVENT
BEGIN:VEVENT
DTSTART;TZID=Australia/Brisbane:20210129T120000
DTEND;TZID=Australia/Brisbane:20210129T150000
DTSTAMP:20260423T082014
CREATED:20201112T101050Z
LAST-MODIFIED:20201112T101050Z
UID:12890-1611921600-1611932400@toastmastersd69-org-au.staging.precedence.com.au
SUMMARY:Club Officer Training - Weekday
DESCRIPTION:This year is an exciting time full of new challenges and new opportunities to grow\, and the best way to keep your year on the right track is to level up your leadership skills at our second round Club Officer Training this January and February. \nThis round of training will be completely online\, with sessions offered across a range of dates and times to suit the diverse needs and life commitments of our members. Round 2 is all about reviewing your progress\, troubleshooting challenges your club may have\, and developing an action plan for the remainder of your term. Training provides a great opportunity to build support networks and discuss best practices for your role. \nAttending this session will also earn your club credit toward its Distinguished Club Program goals for the year.
URL:https://toastmastersd69-org-au.staging.precedence.com.au/event/club-officer-training-weekday-2/
CATEGORIES:Club Officer Training
END:VEVENT
BEGIN:VEVENT
DTSTART;TZID=Australia/Brisbane:20210127T180000
DTEND;TZID=Australia/Brisbane:20210127T210000
DTSTAMP:20260423T082014
CREATED:20201112T101031Z
LAST-MODIFIED:20201112T101031Z
UID:12888-1611770400-1611781200@toastmastersd69-org-au.staging.precedence.com.au
SUMMARY:Club Officer Training - Weeknight
DESCRIPTION:This year is an exciting time full of new challenges and new opportunities to grow\, and the best way to keep your year on the right track is to level up your leadership skills at our second round Club Officer Training this January and February. \nThis round of training will be completely online\, with sessions offered across a range of dates and times to suit the diverse needs and life commitments of our members. Round 2 is all about reviewing your progress\, troubleshooting challenges your club may have\, and developing an action plan for the remainder of your term. Training provides a great opportunity to build support networks and discuss best practices for your role. \nAttending this session will also earn your club credit toward its Distinguished Club Program goals for the year.
URL:https://toastmastersd69-org-au.staging.precedence.com.au/event/club-officer-training-weeknight-8/
CATEGORIES:Club Officer Training
END:VEVENT
BEGIN:VEVENT
DTSTART;TZID=Australia/Brisbane:20210123T100000
DTEND;TZID=Australia/Brisbane:20210123T120000
DTSTAMP:20260423T082014
CREATED:20201221T001802Z
LAST-MODIFIED:20201221T001802Z
UID:13028-1611396000-1611403200@toastmastersd69-org-au.staging.precedence.com.au
SUMMARY:Briefing for Club Officer Trainng presenters
DESCRIPTION:Briefing for presenters for round 2 of Club Officer Training\, via Zoom.
URL:https://toastmastersd69-org-au.staging.precedence.com.au/event/briefing-for-club-officer-trainng-presenters-2/
CATEGORIES:Club Officer Training
END:VEVENT
BEGIN:VEVENT
DTSTART;TZID=Australia/Brisbane:20210121T190000
DTEND;TZID=Australia/Brisbane:20210121T210000
DTSTAMP:20260423T082014
CREATED:20201221T001733Z
LAST-MODIFIED:20201221T001733Z
UID:13027-1611255600-1611262800@toastmastersd69-org-au.staging.precedence.com.au
SUMMARY:Briefing for Club Officer Training presenters
DESCRIPTION:Briefing for presenters for round 2 of Club Officer Training\, via Zoom.
URL:https://toastmastersd69-org-au.staging.precedence.com.au/event/briefing-for-club-officer-training-presenters-6/
CATEGORIES:Club Officer Training
END:VEVENT
BEGIN:VEVENT
DTSTART;TZID=Australia/Brisbane:20210119T190000
DTEND;TZID=Australia/Brisbane:20210119T210000
DTSTAMP:20260423T082014
CREATED:20201221T001849Z
LAST-MODIFIED:20201221T001849Z
UID:13026-1611082800-1611090000@toastmastersd69-org-au.staging.precedence.com.au
SUMMARY:Club Officer Training Presenter Briefing
DESCRIPTION:Briefing for presenters for round 2 of Club Officer Training\, via Zoom.
URL:https://toastmastersd69-org-au.staging.precedence.com.au/event/club-officer-training-presenter-briefing-2/
CATEGORIES:Club Officer Training
END:VEVENT
BEGIN:VEVENT
DTSTART;TZID=Australia/Brisbane:20210117T140000
DTEND;TZID=Australia/Brisbane:20210117T160000
DTSTAMP:20260423T082014
CREATED:20201221T001918Z
LAST-MODIFIED:20201221T001918Z
UID:13024-1610892000-1610899200@toastmastersd69-org-au.staging.precedence.com.au
SUMMARY:Club Officer Training Presenter Briefing
DESCRIPTION:Briefing for presenters for round 2 of Club Officer Training\, via Zoom.
URL:https://toastmastersd69-org-au.staging.precedence.com.au/event/club-officer-training-presenter-briefing-3/
CATEGORIES:Club Officer Training
END:VEVENT
BEGIN:VEVENT
DTSTART;TZID=Australia/Brisbane:20210117T140000
DTEND;TZID=Australia/Brisbane:20210117T160000
DTSTAMP:20260423T082014
CREATED:20201221T001824Z
LAST-MODIFIED:20201221T001824Z
UID:13025-1610892000-1610899200@toastmastersd69-org-au.staging.precedence.com.au
SUMMARY:Club Officer Training Presenter Briefing
DESCRIPTION:Briefing for presenters for round 2 of Club Officer Training\, via Zoom.
URL:https://toastmastersd69-org-au.staging.precedence.com.au/event/club-officer-training-presenter-briefing/
CATEGORIES:Club Officer Training
END:VEVENT
BEGIN:VEVENT
DTSTART;TZID=Australia/Brisbane:20210116T140000
DTEND;TZID=Australia/Brisbane:20210116T150000
DTSTAMP:20260423T082014
CREATED:20210107T031519Z
LAST-MODIFIED:20210107T031519Z
UID:13051-1610805600-1610809200@toastmastersd69-org-au.staging.precedence.com.au
SUMMARY:Area 31 Western Division Speech Contest
DESCRIPTION:We request the pleasure of your company via zoom to attend our annual Speech Contest. \nJoin Zoom Meeting \nhttps://zoom.us/j/96771825903?pwd=RkJna21KN2V2aGpKT2xvVXlHeVNYdz09
URL:https://toastmastersd69-org-au.staging.precedence.com.au/event/area-31-western-division-speech-contest/
CATEGORIES:Area Events
END:VEVENT
BEGIN:VEVENT
DTSTART;TZID=Australia/Brisbane:20201128T080000
DTEND;TZID=Australia/Brisbane:20201128T120000
DTSTAMP:20260423T082014
CREATED:20201007T081658Z
LAST-MODIFIED:20201007T081658Z
UID:12747-1606550400-1606564800@toastmastersd69-org-au.staging.precedence.com.au
SUMMARY:Area 3 Speech Contest - Moreton Division
DESCRIPTION:Online Humorous and International Speech Contests
URL:https://toastmastersd69-org-au.staging.precedence.com.au/event/area-03-speech-contest-moreton-division/
END:VEVENT
BEGIN:VEVENT
DTSTART;VALUE=DATE:20201128
DTEND;VALUE=DATE:20201129
DTSTAMP:20260423T082014
CREATED:20201021T080040Z
LAST-MODIFIED:20201021T080040Z
UID:12824-1606521600-1606607999@toastmastersd69-org-au.staging.precedence.com.au
SUMMARY:Area 34 Speech Contest
DESCRIPTION:Area 34 Speech Contest
URL:https://toastmastersd69-org-au.staging.precedence.com.au/event/area-34-speech-contest/
END:VEVENT
BEGIN:VEVENT
DTSTART;VALUE=DATE:20201121
DTEND;VALUE=DATE:20201122
DTSTAMP:20260423T082014
CREATED:20201021T080020Z
LAST-MODIFIED:20201021T080020Z
UID:12823-1605916800-1606003199@toastmastersd69-org-au.staging.precedence.com.au
SUMMARY:Area 35 Speech Contest
DESCRIPTION:Area 35 Speech Contest
URL:https://toastmastersd69-org-au.staging.precedence.com.au/event/area-35-speech-contest/
END:VEVENT
BEGIN:VEVENT
DTSTART;TZID=Australia/Brisbane:20201121T000000
DTEND;TZID=Australia/Brisbane:20201121T000000
DTSTAMP:20260423T082014
CREATED:20200727T055701Z
LAST-MODIFIED:20200727T055701Z
UID:12580-1605916800-1605916800@toastmastersd69-org-au.staging.precedence.com.au
SUMMARY:Compass Toastmasters 30th Anniversary
DESCRIPTION:DATE CLAIMER \nCompass Toastmaster Club Toowoomba \n30th Anniversary Dinner  Saturday 21st November 2020 \nVenue — Urban Grounds Cafe \nDetails closer to the event
URL:https://toastmastersd69-org-au.staging.precedence.com.au/event/compass-toastmasters-30th-anniversary/
CATEGORIES:Club Events
END:VEVENT
BEGIN:VEVENT
DTSTART;TZID=Australia/Brisbane:20201115T140000
DTEND;TZID=Australia/Brisbane:20201115T160000
DTSTAMP:20260423T082014
CREATED:20201008T033812Z
LAST-MODIFIED:20201008T033812Z
UID:12757-1605448800-1605456000@toastmastersd69-org-au.staging.precedence.com.au
SUMMARY:District Council Meeting
DESCRIPTION:District Council Meeting
URL:https://toastmastersd69-org-au.staging.precedence.com.au/event/district-council-meeting/
END:VEVENT
BEGIN:VEVENT
DTSTART;TZID=Australia/Brisbane:20201114T083000
DTEND;TZID=Australia/Brisbane:20201114T123000
DTSTAMP:20260423T082014
CREATED:20201004T083339Z
LAST-MODIFIED:20201004T083339Z
UID:12738-1605342600-1605357000@toastmastersd69-org-au.staging.precedence.com.au
SUMMARY:Area 4  - Online Speech Contest
DESCRIPTION:Area 4 – Rockhampton to Gladstone Speech contest – Clubs involved are Boomerang\, Keppel Bay and Entrepreneurs …
URL:https://toastmastersd69-org-au.staging.precedence.com.au/event/area-4-online-speech-contest/
CATEGORIES:Area Events
END:VEVENT
BEGIN:VEVENT
DTSTART;VALUE=DATE:20201114
DTEND;VALUE=DATE:20201115
DTSTAMP:20260423T082014
CREATED:20200803T095852Z
LAST-MODIFIED:20200803T095852Z
UID:12612-1605312000-1605398399@toastmastersd69-org-au.staging.precedence.com.au
SUMMARY:Area 4 Conference
DESCRIPTION:Area 4 Conference
URL:https://toastmastersd69-org-au.staging.precedence.com.au/event/area-4-conference/
END:VEVENT
BEGIN:VEVENT
DTSTART;TZID=Australia/Brisbane:20201112T190000
DTEND;TZID=Australia/Brisbane:20201112T203000
DTSTAMP:20260423T082014
CREATED:20201030T074824Z
LAST-MODIFIED:20201030T074824Z
UID:12850-1605207600-1605213000@toastmastersd69-org-au.staging.precedence.com.au
SUMMARY:Whole Brain® Thinking Leadership Series
DESCRIPTION:Do you want to find out about how your thinking directly influences how you process information\, tackle problems\, and connect with others?\nThis Leadership Session has been designed to assist you to explore your own thinking preferences and how they impact the way you approach everything from personal relationships to leadership styles. Join Scott Timmins\, (Herrmann Certified Practitioner\,) on the 12th of November to explore Whole Brain® Thinking and how it can help you become a better communicator\, leader\, and Toastmaster. Check the Flyer for login details … Leadership Flyer
URL:https://toastmastersd69-org-au.staging.precedence.com.au/event/whole-brain-thinking-leadership-series/
END:VEVENT
BEGIN:VEVENT
DTSTART;TZID=Australia/Brisbane:20201108T100000
DTEND;TZID=Australia/Brisbane:20201108T130000
DTSTAMP:20260423T082014
CREATED:20201014T231233Z
LAST-MODIFIED:20201014T231233Z
UID:12815-1604829600-1604840400@toastmastersd69-org-au.staging.precedence.com.au
SUMMARY:Speechcraft Facilitators Session
DESCRIPTION:Supporting our members to build club membership through conducting Speechcraft sessions.
URL:https://toastmastersd69-org-au.staging.precedence.com.au/event/speechcraft-facilitators-session/
CATEGORIES:District Events
END:VEVENT
BEGIN:VEVENT
DTSTART;TZID=Australia/Brisbane:20201107T120000
DTEND;TZID=Australia/Brisbane:20201107T163000
DTSTAMP:20260423T082014
CREATED:20200927T235151Z
LAST-MODIFIED:20200927T235151Z
UID:12728-1604750400-1604766600@toastmastersd69-org-au.staging.precedence.com.au
SUMMARY:Area 11 Speech Contest
DESCRIPTION:Western Division\, Area 11
URL:https://toastmastersd69-org-au.staging.precedence.com.au/event/area-11-speech-contest/
END:VEVENT
END:VCALENDAR