BEGIN:VCALENDAR
VERSION:2.0
PRODID:-//Toastmasters District 69 - ECPv6.0.12//NONSGML v1.0//EN
CALSCALE:GREGORIAN
METHOD:PUBLISH
X-WR-CALNAME:Toastmasters District 69
X-ORIGINAL-URL:https://toastmastersd69-org-au.staging.precedence.com.au
X-WR-CALDESC:Events for Toastmasters District 69
REFRESH-INTERVAL;VALUE=DURATION:PT1H
X-Robots-Tag:noindex
X-PUBLISHED-TTL:PT1H
BEGIN:VTIMEZONE
TZID:Australia/Brisbane
BEGIN:STANDARD
TZOFFSETFROM:+1000
TZOFFSETTO:+1000
TZNAME:AEST
DTSTART:20200101T000000
END:STANDARD
END:VTIMEZONE
BEGIN:VEVENT
DTSTART;TZID=Australia/Brisbane:20201107T080000
DTEND;TZID=Australia/Brisbane:20201107T140000
DTSTAMP:20260423T084345
CREATED:20200913T015704Z
LAST-MODIFIED:20200913T015704Z
UID:12681-1604736000-1604757600@toastmastersd69-org-au.staging.precedence.com.au
SUMMARY:Area 8 Conference
DESCRIPTION:The Area 8 Conference for Moreton Division. \nThis will include the speech contests: Humerous and International for the 2020/2021 Toastmaster year.
URL:https://toastmastersd69-org-au.staging.precedence.com.au/event/area-8-conference-2/
END:VEVENT
BEGIN:VEVENT
DTSTART;VALUE=DATE:20201107
DTEND;VALUE=DATE:20201108
DTSTAMP:20260423T084345
CREATED:20200803T100318Z
LAST-MODIFIED:20200803T100318Z
UID:12615-1604707200-1604793599@toastmastersd69-org-au.staging.precedence.com.au
SUMMARY:Area 16 Conference
DESCRIPTION:Area 16 Conference.
URL:https://toastmastersd69-org-au.staging.precedence.com.au/event/area-16-conference-2/
END:VEVENT
BEGIN:VEVENT
DTSTART;VALUE=DATE:20201107
DTEND;VALUE=DATE:20201108
DTSTAMP:20260423T084345
CREATED:20200803T100229Z
LAST-MODIFIED:20200803T100229Z
UID:12616-1604707200-1604793599@toastmastersd69-org-au.staging.precedence.com.au
SUMMARY:Area 16 Conference
DESCRIPTION:Area 16 Conference.
URL:https://toastmastersd69-org-au.staging.precedence.com.au/event/area-16-conference/
END:VEVENT
BEGIN:VEVENT
DTSTART;VALUE=DATE:20201107
DTEND;VALUE=DATE:20201108
DTSTAMP:20260423T084345
CREATED:20200710T181545Z
LAST-MODIFIED:20200710T181545Z
UID:12531-1604707200-1604793599@toastmastersd69-org-au.staging.precedence.com.au
SUMMARY:Area 8 Speech Contest Moreton Division
DESCRIPTION:Area 8 Speech Contest \nArea 8 Director Kirsty Watts
URL:https://toastmastersd69-org-au.staging.precedence.com.au/event/area-8-speech-contest-moreton-division/
CATEGORIES:Area Events
END:VEVENT
BEGIN:VEVENT
DTSTART;TZID=Australia/Brisbane:20201105T180000
DTEND;TZID=Australia/Brisbane:20201105T203000
DTSTAMP:20260423T084345
CREATED:20200604T002854Z
LAST-MODIFIED:20200604T002854Z
UID:12128-1604599200-1604608200@toastmastersd69-org-au.staging.precedence.com.au
SUMMARY:Area 15 Speech Contests
DESCRIPTION:Area 15 Table Topics and International Speech Contests
URL:https://toastmastersd69-org-au.staging.precedence.com.au/event/area-15-speech-contests/
CATEGORIES:Area Events
ATTACH;FMTTYPE=:
END:VEVENT
BEGIN:VEVENT
DTSTART;VALUE=DATE:20201101
DTEND;VALUE=DATE:20201102
DTSTAMP:20260423T084345
CREATED:20200921T015220Z
LAST-MODIFIED:20200921T015220Z
UID:12665-1604188800-1604275199@toastmastersd69-org-au.staging.precedence.com.au
SUMMARY:Area 1 Conference and Speech Contests
DESCRIPTION:You’re Invited to Zoom in. \nWestern Division\, Area 1 Conference and Contest is Sunday 4th October 2020. \nThis Event is totally online so you can be there and enjoy from the comfort of your home. \nCouncil Meeting will be held in the early part of the day and a great line-up of Contestants for the International and Humorous just after. \nFor all information contact Margaret Marshall 0408 255 774 or email to marshallmargaret9@gmail.com
URL:https://toastmastersd69-org-au.staging.precedence.com.au/event/area-1-conference-and-speech-contests-2/
CATEGORIES:Area Events
END:VEVENT
BEGIN:VEVENT
DTSTART;VALUE=DATE:20201101
DTEND;VALUE=DATE:20201102
DTSTAMP:20260423T084345
CREATED:20200710T181447Z
LAST-MODIFIED:20200710T181447Z
UID:12529-1604188800-1604275199@toastmastersd69-org-au.staging.precedence.com.au
SUMMARY:Area 18 Speech Contest Moreton Division
DESCRIPTION:The Prince Charles Health and Community Rooms (HAAC rooms) Hamilton Road Chermside 7am- 5pm  Sunday 1st November 2020 \nArea 18 Director Sasi Devi
URL:https://toastmastersd69-org-au.staging.precedence.com.au/event/area-18-speech-contest-moreton-division/
CATEGORIES:Area Events
END:VEVENT
BEGIN:VEVENT
DTSTART;TZID=Australia/Brisbane:20201031T080000
DTEND;TZID=Australia/Brisbane:20201031T170000
DTSTAMP:20260423T084345
CREATED:20200906T232039Z
LAST-MODIFIED:20200906T232039Z
UID:12673-1604131200-1604163600@toastmastersd69-org-au.staging.precedence.com.au
SUMMARY:Area 9 Conference
DESCRIPTION:Area 9 speech contest
URL:https://toastmastersd69-org-au.staging.precedence.com.au/event/area-9-conference/
CATEGORIES:Area Events
END:VEVENT
BEGIN:VEVENT
DTSTART;TZID=Australia/Brisbane:20201029T181000
DTEND;TZID=Australia/Brisbane:20201029T203000
DTSTAMP:20260423T084345
CREATED:20200604T002926Z
LAST-MODIFIED:20200604T002926Z
UID:12123-1603995000-1604003400@toastmastersd69-org-au.staging.precedence.com.au
SUMMARY:Area 15 Speech Contests & Council Meeting
DESCRIPTION:Area 15 Speech Contests\, and Area 15 Council Meeting. \nDate: Thursday 29 Oct 2020 \nTime: 6:10pm for Contestants and Judges\, 6:30pm for Guests and visitors \nZoom link: https://bit.ly/A15contest
URL:https://toastmastersd69-org-au.staging.precedence.com.au/event/area-15-speech-contests-council-meeting/
CATEGORIES:Area Events
END:VEVENT
BEGIN:VEVENT
DTSTART;TZID=Australia/Brisbane:20201025T100000
DTEND;TZID=Australia/Brisbane:20201025T140000
DTSTAMP:20260423T084345
CREATED:20200914T215742Z
LAST-MODIFIED:20200914T215742Z
UID:12690-1603620000-1603634400@toastmastersd69-org-au.staging.precedence.com.au
SUMMARY:Area 12 Conference
DESCRIPTION:Join us for the online Area 12 Conference\, consisting of the International and Humorous Contests\, to be followed by the Area 12 Council Meeting.
URL:https://toastmastersd69-org-au.staging.precedence.com.au/event/area-12-conference-2/
CATEGORIES:Area Events
END:VEVENT
BEGIN:VEVENT
DTSTART;VALUE=DATE:20201025
DTEND;VALUE=DATE:20201026
DTSTAMP:20260423T084345
CREATED:20200710T181519Z
LAST-MODIFIED:20200710T181519Z
UID:12530-1603584000-1603670399@toastmastersd69-org-au.staging.precedence.com.au
SUMMARY:Area 37 Speech Contest Moreton Division
DESCRIPTION:This years Area 37 Speech Contest will be held online via Zoom. \nPlease contact Area 37 Director Jill Hobbs for the meeting link.
URL:https://toastmastersd69-org-au.staging.precedence.com.au/event/area-37-speech-contest-moreton-division/
CATEGORIES:Area Events
END:VEVENT
BEGIN:VEVENT
DTSTART;TZID=Australia/Brisbane:20201024T090000
DTEND;TZID=Australia/Brisbane:20201024T120000
DTSTAMP:20260423T084345
CREATED:20210914T110433Z
LAST-MODIFIED:20210914T110433Z
UID:12804-1603530000-1603540800@toastmastersd69-org-au.staging.precedence.com.au
SUMMARY:A6 Speech Contest
DESCRIPTION:You are virtually invited to attend \nDistrict 69 Area 6\nOnline Speech Contest \nUnlock Your Potential\nBuild Your Confidence – Create Your World  \nCo-ordinator:\nSouthern Division – Area 6 Director – Chondelle Bell\nZoom Meeting ID:            916 4800 2816\nRegistration URL:            https://zoom.us/meeting/register/tJUrc-GorjkiG9If336qQDIaON2dPSNbjBoF\nDate:                                  Saturday 24th October 2020\nTime:                                 8:45am   for a   9am Contest Start \nCLICK HERE TO REGISTER NOW!!! \n 
URL:https://toastmastersd69-org-au.staging.precedence.com.au/event/a6-speech-contest-2/
CATEGORIES:Area Events
ATTACH;FMTTYPE=:
END:VEVENT
BEGIN:VEVENT
DTSTART;TZID=Australia/Brisbane:20201024T090000
DTEND;TZID=Australia/Brisbane:20201024T120000
DTSTAMP:20260423T084345
CREATED:20201012T071527Z
LAST-MODIFIED:20201012T071527Z
UID:12807-1603530000-1603540800@toastmastersd69-org-au.staging.precedence.com.au
SUMMARY:A6 Speech Contest
DESCRIPTION:You are virtually invited to attend \nDistrict 69 Area 6\nOnline Speech Contest \nUnlock Your Potential\nBuild Your Confidence – Create Your World  \nCo-ordinator:\nSouthern Division – Area 6 Director – Chondelle Bell\nZoom Meeting ID:            916 4800 2816\nRegistration URL:            https://zoom.us/meeting/register/tJUrc-GorjkiG9If336qQDIaON2dPSNbjBoF\nDate:                                  Saturday 24th October 2020\nTime:                                 8:45am   for a   9am Contest Start \nCLICK HERE TO REGISTER NOW!!! \n 
URL:https://toastmastersd69-org-au.staging.precedence.com.au/event/a6-speech-contest/
CATEGORIES:Area Events
ATTACH;FMTTYPE=:
END:VEVENT
BEGIN:VEVENT
DTSTART;TZID=Australia/Brisbane:20201024T080000
DTEND;TZID=Australia/Brisbane:20201024T170000
DTSTAMP:20260423T084345
CREATED:20200906T232020Z
LAST-MODIFIED:20200906T232020Z
UID:12675-1603526400-1603558800@toastmastersd69-org-au.staging.precedence.com.au
SUMMARY:Area 14 Conference
DESCRIPTION:Area 14 speech contests
URL:https://toastmastersd69-org-au.staging.precedence.com.au/event/area-14-conference/
CATEGORIES:Area Events
END:VEVENT
BEGIN:VEVENT
DTSTART;VALUE=DATE:20201024
DTEND;VALUE=DATE:20201025
DTSTAMP:20260423T084345
CREATED:20201021T075959Z
LAST-MODIFIED:20201021T075959Z
UID:12822-1603497600-1603583999@toastmastersd69-org-au.staging.precedence.com.au
SUMMARY:Area 6 Speech Contest
DESCRIPTION:Area 6 Speech Contest
URL:https://toastmastersd69-org-au.staging.precedence.com.au/event/area-6-speech-contest/
END:VEVENT
BEGIN:VEVENT
DTSTART;VALUE=DATE:20201024
DTEND;VALUE=DATE:20201025
DTSTAMP:20260423T084345
CREATED:20200802T083359Z
LAST-MODIFIED:20200802T083359Z
UID:12561-1603497600-1603583999@toastmastersd69-org-au.staging.precedence.com.au
SUMMARY:Area 22 Conference
DESCRIPTION:Conference and contests for 6 Area 22 Clubs
URL:https://toastmastersd69-org-au.staging.precedence.com.au/event/area-22-conference-2/
END:VEVENT
BEGIN:VEVENT
DTSTART;VALUE=DATE:20201024
DTEND;VALUE=DATE:20201025
DTSTAMP:20260423T084345
CREATED:20200715T002855Z
LAST-MODIFIED:20200715T002855Z
UID:12545-1603497600-1603583999@toastmastersd69-org-au.staging.precedence.com.au
SUMMARY:Area 14 Speech Contests
DESCRIPTION:Save the date for Area 14’s Speech Contests hosted by Mackay Toastmasters Club
URL:https://toastmastersd69-org-au.staging.precedence.com.au/event/area-14-speech-contests/
CATEGORIES:Area Events
END:VEVENT
BEGIN:VEVENT
DTSTART;TZID=Australia/Brisbane:20201023T190000
DTEND;TZID=Australia/Brisbane:20201023T210000
DTSTAMP:20260423T084345
CREATED:20201008T033634Z
LAST-MODIFIED:20201008T033634Z
UID:12756-1603479600-1603486800@toastmastersd69-org-au.staging.precedence.com.au
SUMMARY:District Executive Committee
DESCRIPTION:District Executive Committee Meeting
URL:https://toastmastersd69-org-au.staging.precedence.com.au/event/district-executive-committee/
END:VEVENT
BEGIN:VEVENT
DTSTART;TZID=Australia/Brisbane:20201017T083000
DTEND;TZID=Australia/Brisbane:20201017T110000
DTSTAMP:20260423T084345
CREATED:20200920T042508Z
LAST-MODIFIED:20200920T042508Z
UID:12706-1602923400-1602932400@toastmastersd69-org-au.staging.precedence.com.au
SUMMARY:Area 24 Speech Contest
DESCRIPTION:The online Area 24 Speech Contest for Humorous and International speeches will be conducted via zoom link.
URL:https://toastmastersd69-org-au.staging.precedence.com.au/event/area-24-speech-contest/
ATTACH;FMTTYPE=:
END:VEVENT
BEGIN:VEVENT
DTSTART;TZID=Australia/Brisbane:20201017T080000
DTEND;TZID=Australia/Brisbane:20201017T170000
DTSTAMP:20260423T084345
CREATED:20200906T231954Z
LAST-MODIFIED:20200906T231954Z
UID:12674-1602921600-1602954000@toastmastersd69-org-au.staging.precedence.com.au
SUMMARY:Area 13 Conference
DESCRIPTION:Area 13 speech contest
URL:https://toastmastersd69-org-au.staging.precedence.com.au/event/area-13-conference-2/
CATEGORIES:Area Events
END:VEVENT
BEGIN:VEVENT
DTSTART;TZID=Australia/Brisbane:20201017T080000
DTEND;TZID=Australia/Brisbane:20201017T170000
DTSTAMP:20260423T084345
CREATED:20200627T052219Z
LAST-MODIFIED:20200627T052219Z
UID:12371-1602921600-1602954000@toastmastersd69-org-au.staging.precedence.com.au
SUMMARY:Area 13 Conference
DESCRIPTION:Come along and see the best speakers and evaluators North Queensland has to off. Join Talk of the North at the Mercure Inn for the Area 13 Conference.
URL:https://toastmastersd69-org-au.staging.precedence.com.au/event/area-13-conference/
CATEGORIES:Area Events
ATTACH;FMTTYPE=:
END:VEVENT
BEGIN:VEVENT
DTSTART;VALUE=DATE:20201017
DTEND;VALUE=DATE:20201018
DTSTAMP:20260423T084345
CREATED:20200803T100004Z
LAST-MODIFIED:20200803T100004Z
UID:12613-1602892800-1602979199@toastmastersd69-org-au.staging.precedence.com.au
SUMMARY:Area 10 Conference
DESCRIPTION:Area 10 Conference. \n 
URL:https://toastmastersd69-org-au.staging.precedence.com.au/event/area-10-conference/
END:VEVENT
BEGIN:VEVENT
DTSTART;TZID=Australia/Brisbane:20201015T190000
DTEND;TZID=Australia/Brisbane:20201015T203000
DTSTAMP:20260423T084345
CREATED:20201011T083308Z
LAST-MODIFIED:20201011T083308Z
UID:12800-1602788400-1602793800@toastmastersd69-org-au.staging.precedence.com.au
SUMMARY:Area 24 Judges Briefing
DESCRIPTION:Briefing
URL:https://toastmastersd69-org-au.staging.precedence.com.au/event/area-24-judges-briefing/
END:VEVENT
BEGIN:VEVENT
DTSTART;TZID=Australia/Brisbane:20201015T180000
DTEND;TZID=Australia/Brisbane:20201015T190000
DTSTAMP:20260423T084345
CREATED:20201011T083239Z
LAST-MODIFIED:20201011T083239Z
UID:12799-1602784800-1602788400@toastmastersd69-org-au.staging.precedence.com.au
SUMMARY:Area 24 Timers/Tally Counters Briefing
DESCRIPTION:Briefing
URL:https://toastmastersd69-org-au.staging.precedence.com.au/event/area-24-timers-tally-counters-briefing/
END:VEVENT
BEGIN:VEVENT
DTSTART;TZID=Australia/Brisbane:20201010T120000
DTEND;TZID=Australia/Brisbane:20201010T160000
DTSTAMP:20260423T084345
CREATED:20201007T014647Z
LAST-MODIFIED:20201007T014647Z
UID:12745-1602331200-1602345600@toastmastersd69-org-au.staging.precedence.com.au
SUMMARY:Area 2 Speech Contests
DESCRIPTION:International and Humorous Speech Contests for Area 2 2020
URL:https://toastmastersd69-org-au.staging.precedence.com.au/event/area-2-speech-contests-2/
END:VEVENT
BEGIN:VEVENT
DTSTART;TZID=Australia/Brisbane:20201010T080000
DTEND;TZID=Australia/Brisbane:20201010T170000
DTSTAMP:20260423T084345
CREATED:20200906T231930Z
LAST-MODIFIED:20200906T231930Z
UID:12672-1602316800-1602349200@toastmastersd69-org-au.staging.precedence.com.au
SUMMARY:Area 2 Conference
DESCRIPTION:Area 2 speech contest
URL:https://toastmastersd69-org-au.staging.precedence.com.au/event/area-2-conference/
CATEGORIES:Area Events
END:VEVENT
BEGIN:VEVENT
DTSTART;VALUE=DATE:20201010
DTEND;VALUE=DATE:20201011
DTSTAMP:20260423T084345
CREATED:20200803T100131Z
LAST-MODIFIED:20200803T100131Z
UID:12614-1602288000-1602374399@toastmastersd69-org-au.staging.precedence.com.au
SUMMARY:Area 28 Conference
DESCRIPTION:This years Area 28 Conference will be held online via Zoom.
URL:https://toastmastersd69-org-au.staging.precedence.com.au/event/area-28-conference/
END:VEVENT
BEGIN:VEVENT
DTSTART;TZID=Australia/Brisbane:20201007T083000
DTEND;TZID=Australia/Brisbane:20201007T120000
DTSTAMP:20260423T084345
CREATED:20201007T013056Z
LAST-MODIFIED:20201007T013056Z
UID:12742-1602059400-1602072000@toastmastersd69-org-au.staging.precedence.com.au
SUMMARY:Area 2 Speech Contests
DESCRIPTION:International and Humorous Speech Contests for Area 2 2020
URL:https://toastmastersd69-org-au.staging.precedence.com.au/event/area-2-speech-contests/
CATEGORIES:Area Events
END:VEVENT
BEGIN:VEVENT
DTSTART;TZID=Australia/Brisbane:20201003T083000
DTEND;TZID=Australia/Brisbane:20201003T113000
DTSTAMP:20260423T084345
CREATED:20200921T015244Z
LAST-MODIFIED:20200921T015244Z
UID:12694-1601713800-1601724600@toastmastersd69-org-au.staging.precedence.com.au
SUMMARY:Area 23 Competitions
DESCRIPTION:International and Humorous Speech contests will be held on-line
URL:https://toastmastersd69-org-au.staging.precedence.com.au/event/area-23-competitions-2/
ATTACH;FMTTYPE=:
END:VEVENT
BEGIN:VEVENT
DTSTART;TZID=Australia/Brisbane:20201003T083000
DTEND;TZID=Australia/Brisbane:20201003T113000
DTSTAMP:20260423T084345
CREATED:20200916T004859Z
LAST-MODIFIED:20200916T004859Z
UID:12698-1601713800-1601724600@toastmastersd69-org-au.staging.precedence.com.au
SUMMARY:Area 23 Competitions
DESCRIPTION:International and Humorous Speech contests will be held on-line
URL:https://toastmastersd69-org-au.staging.precedence.com.au/event/area-23-competitions/
ATTACH;FMTTYPE=:
END:VEVENT
END:VCALENDAR