BEGIN:VCALENDAR
VERSION:2.0
PRODID:-//Toastmasters District 69 - ECPv6.0.12//NONSGML v1.0//EN
CALSCALE:GREGORIAN
METHOD:PUBLISH
X-WR-CALNAME:Toastmasters District 69
X-ORIGINAL-URL:https://toastmastersd69-org-au.staging.precedence.com.au
X-WR-CALDESC:Events for Toastmasters District 69
REFRESH-INTERVAL;VALUE=DURATION:PT1H
X-Robots-Tag:noindex
X-PUBLISHED-TTL:PT1H
BEGIN:VTIMEZONE
TZID:Australia/Brisbane
BEGIN:STANDARD
TZOFFSETFROM:+1000
TZOFFSETTO:+1000
TZNAME:AEST
DTSTART:20200101T000000
END:STANDARD
END:VTIMEZONE
BEGIN:VEVENT
DTSTART;TZID=Australia/Brisbane:20201017T080000
DTEND;TZID=Australia/Brisbane:20201017T170000
DTSTAMP:20260423T173549
CREATED:20200627T052219Z
LAST-MODIFIED:20200627T052219Z
UID:12371-1602921600-1602954000@toastmastersd69-org-au.staging.precedence.com.au
SUMMARY:Area 13 Conference
DESCRIPTION:Come along and see the best speakers and evaluators North Queensland has to off. Join Talk of the North at the Mercure Inn for the Area 13 Conference.
URL:https://toastmastersd69-org-au.staging.precedence.com.au/event/area-13-conference/
CATEGORIES:Area Events
ATTACH;FMTTYPE=:
END:VEVENT
BEGIN:VEVENT
DTSTART;VALUE=DATE:20201017
DTEND;VALUE=DATE:20201018
DTSTAMP:20260423T173549
CREATED:20200803T100004Z
LAST-MODIFIED:20200803T100004Z
UID:12613-1602892800-1602979199@toastmastersd69-org-au.staging.precedence.com.au
SUMMARY:Area 10 Conference
DESCRIPTION:Area 10 Conference. \n 
URL:https://toastmastersd69-org-au.staging.precedence.com.au/event/area-10-conference/
END:VEVENT
BEGIN:VEVENT
DTSTART;TZID=Australia/Brisbane:20201015T190000
DTEND;TZID=Australia/Brisbane:20201015T203000
DTSTAMP:20260423T173549
CREATED:20201011T083308Z
LAST-MODIFIED:20201011T083308Z
UID:12800-1602788400-1602793800@toastmastersd69-org-au.staging.precedence.com.au
SUMMARY:Area 24 Judges Briefing
DESCRIPTION:Briefing
URL:https://toastmastersd69-org-au.staging.precedence.com.au/event/area-24-judges-briefing/
END:VEVENT
BEGIN:VEVENT
DTSTART;TZID=Australia/Brisbane:20201015T180000
DTEND;TZID=Australia/Brisbane:20201015T190000
DTSTAMP:20260423T173549
CREATED:20201011T083239Z
LAST-MODIFIED:20201011T083239Z
UID:12799-1602784800-1602788400@toastmastersd69-org-au.staging.precedence.com.au
SUMMARY:Area 24 Timers/Tally Counters Briefing
DESCRIPTION:Briefing
URL:https://toastmastersd69-org-au.staging.precedence.com.au/event/area-24-timers-tally-counters-briefing/
END:VEVENT
BEGIN:VEVENT
DTSTART;TZID=Australia/Brisbane:20201010T120000
DTEND;TZID=Australia/Brisbane:20201010T160000
DTSTAMP:20260423T173549
CREATED:20201007T014647Z
LAST-MODIFIED:20201007T014647Z
UID:12745-1602331200-1602345600@toastmastersd69-org-au.staging.precedence.com.au
SUMMARY:Area 2 Speech Contests
DESCRIPTION:International and Humorous Speech Contests for Area 2 2020
URL:https://toastmastersd69-org-au.staging.precedence.com.au/event/area-2-speech-contests-2/
END:VEVENT
BEGIN:VEVENT
DTSTART;TZID=Australia/Brisbane:20201010T080000
DTEND;TZID=Australia/Brisbane:20201010T170000
DTSTAMP:20260423T173549
CREATED:20200906T231930Z
LAST-MODIFIED:20200906T231930Z
UID:12672-1602316800-1602349200@toastmastersd69-org-au.staging.precedence.com.au
SUMMARY:Area 2 Conference
DESCRIPTION:Area 2 speech contest
URL:https://toastmastersd69-org-au.staging.precedence.com.au/event/area-2-conference/
CATEGORIES:Area Events
END:VEVENT
BEGIN:VEVENT
DTSTART;VALUE=DATE:20201010
DTEND;VALUE=DATE:20201011
DTSTAMP:20260423T173549
CREATED:20200803T100131Z
LAST-MODIFIED:20200803T100131Z
UID:12614-1602288000-1602374399@toastmastersd69-org-au.staging.precedence.com.au
SUMMARY:Area 28 Conference
DESCRIPTION:This years Area 28 Conference will be held online via Zoom.
URL:https://toastmastersd69-org-au.staging.precedence.com.au/event/area-28-conference/
END:VEVENT
BEGIN:VEVENT
DTSTART;TZID=Australia/Brisbane:20201007T083000
DTEND;TZID=Australia/Brisbane:20201007T120000
DTSTAMP:20260423T173549
CREATED:20201007T013056Z
LAST-MODIFIED:20201007T013056Z
UID:12742-1602059400-1602072000@toastmastersd69-org-au.staging.precedence.com.au
SUMMARY:Area 2 Speech Contests
DESCRIPTION:International and Humorous Speech Contests for Area 2 2020
URL:https://toastmastersd69-org-au.staging.precedence.com.au/event/area-2-speech-contests/
CATEGORIES:Area Events
END:VEVENT
BEGIN:VEVENT
DTSTART;TZID=Australia/Brisbane:20201003T083000
DTEND;TZID=Australia/Brisbane:20201003T113000
DTSTAMP:20260423T173549
CREATED:20200921T015244Z
LAST-MODIFIED:20200921T015244Z
UID:12694-1601713800-1601724600@toastmastersd69-org-au.staging.precedence.com.au
SUMMARY:Area 23 Competitions
DESCRIPTION:International and Humorous Speech contests will be held on-line
URL:https://toastmastersd69-org-au.staging.precedence.com.au/event/area-23-competitions-2/
ATTACH;FMTTYPE=:
END:VEVENT
BEGIN:VEVENT
DTSTART;TZID=Australia/Brisbane:20201003T083000
DTEND;TZID=Australia/Brisbane:20201003T113000
DTSTAMP:20260423T173549
CREATED:20200916T004859Z
LAST-MODIFIED:20200916T004859Z
UID:12698-1601713800-1601724600@toastmastersd69-org-au.staging.precedence.com.au
SUMMARY:Area 23 Competitions
DESCRIPTION:International and Humorous Speech contests will be held on-line
URL:https://toastmastersd69-org-au.staging.precedence.com.au/event/area-23-competitions/
ATTACH;FMTTYPE=:
END:VEVENT
BEGIN:VEVENT
DTSTART;TZID=Australia/Brisbane:20201001T190000
DTEND;TZID=Australia/Brisbane:20201001T203000
DTSTAMP:20260423T173549
CREATED:20200925T000044Z
LAST-MODIFIED:20200925T000044Z
UID:12722-1601578800-1601584200@toastmastersd69-org-au.staging.precedence.com.au
SUMMARY:Goondiwindi Toastmasters 30 Year Celebration
DESCRIPTION:A Room Zoom meeting to celebrate 30 years of Goondiwindi Toastmasters. F2F at Anglican Parish Centre\, Bowen Street\, Goondiwindi. Friends of Goondiwindi can request an invitation to zoom from Rosie at Pfitzner@bigpond.net.au
URL:https://toastmastersd69-org-au.staging.precedence.com.au/event/goondiwindi-toastmasters-30-year-celebration/
CATEGORIES:Club Events
END:VEVENT
BEGIN:VEVENT
DTSTART;TZID=Australia/Brisbane:20200912T080000
DTEND;TZID=Australia/Brisbane:20200913T170000
DTSTAMP:20260423T173549
CREATED:20200109T002643Z
LAST-MODIFIED:20200109T002643Z
UID:11059-1599897600-1600016400@toastmastersd69-org-au.staging.precedence.com.au
SUMMARY:District Leader Training
DESCRIPTION:Full team Sat 12 & Sun 13 \nMore details to come
URL:https://toastmastersd69-org-au.staging.precedence.com.au/event/district-leader-training-2/
CATEGORIES:District Leadership Training
END:VEVENT
BEGIN:VEVENT
DTSTART;TZID=Australia/Brisbane:20200905T183000
DTEND;TZID=Australia/Brisbane:20200905T213000
DTSTAMP:20260423T173549
CREATED:20200813T080454Z
LAST-MODIFIED:20200813T080454Z
UID:12629-1599330600-1599341400@toastmastersd69-org-au.staging.precedence.com.au
SUMMARY:Hall of Fame
DESCRIPTION:District 69 Team Meetings is inviting you to a scheduled Zoom meeting. \nTopic: District 69 Hall of Fame\nTime: Sep 5\, 2020 06:30 PM Brisbane \nJoin Zoom Meeting\nhttps://us02web.zoom.us/j/6912691269?pwd=WmMyc2U0UWU1U0ZUQXVsaXdHU1lnUT09 \nMeeting ID: 691 269 1269\nPasscode: COFFEE
URL:https://toastmastersd69-org-au.staging.precedence.com.au/event/hall-of-fame/
END:VEVENT
BEGIN:VEVENT
DTSTART;TZID=Australia/Brisbane:20200802T183000
DTEND;TZID=Australia/Brisbane:20200802T203000
DTSTAMP:20260423T173549
CREATED:20200725T050602Z
LAST-MODIFIED:20200725T050602Z
UID:12568-1596393000-1596400200@toastmastersd69-org-au.staging.precedence.com.au
SUMMARY:WD Judges Training Workshop
DESCRIPTION:On-line training workshop
URL:https://toastmastersd69-org-au.staging.precedence.com.au/event/wd-judges-training-workshop/
CATEGORIES:Division Events
END:VEVENT
BEGIN:VEVENT
DTSTART;TZID=Australia/Brisbane:20200718T090000
DTEND;TZID=Australia/Brisbane:20200718T120000
DTSTAMP:20260423T173549
CREATED:20200518T025518Z
LAST-MODIFIED:20200518T025518Z
UID:12013-1595062800-1595073600@toastmastersd69-org-au.staging.precedence.com.au
SUMMARY:Club Officer Training - Weekend
DESCRIPTION:Next year will be an exciting time full of new challenges and new opportunities to grow\, and the best way to start the year off on the right foot is to level up your leadership skills at Club Officer Training this June and July. \nThis round of training will be completely online\, with sessions offered across a range of dates and times to suit the diverse needs and life commitments of our members. The material on offer will help attendees develop transferable leadership skills such as teamwork\, conflict management and effective goalsetting\, as well as providing an opportunity to build support networks and discuss best practices for your role. \nAttending this session will also earn your club credit toward its Distinguished Club Program goals for the year.
URL:https://toastmastersd69-org-au.staging.precedence.com.au/event/club-officer-training-weekend/
CATEGORIES:Club Officer Training
ATTACH;FMTTYPE=:
END:VEVENT
BEGIN:VEVENT
DTSTART;TZID=Australia/Brisbane:20200713T180000
DTEND;TZID=Australia/Brisbane:20200713T210000
DTSTAMP:20260423T173549
CREATED:20200518T025536Z
LAST-MODIFIED:20200518T025536Z
UID:12010-1594663200-1594674000@toastmastersd69-org-au.staging.precedence.com.au
SUMMARY:Club Officer Training - Weeknight
DESCRIPTION:Next year will be an exciting time full of new challenges and new opportunities to grow\, and the best way to start the year off on the right foot is to level up your leadership skills at Club Officer Training this June and July. \nThis round of training will be completely online\, with sessions offered across a range of dates and times to suit the diverse needs and life commitments of our members. The material on offer will help attendees develop transferable leadership skills such as teamwork\, conflict management and effective goalsetting\, as well as providing an opportunity to build support networks and discuss best practices for your role. \nAttending this session will also earn your club credit toward its Distinguished Club Program goals for the year.
URL:https://toastmastersd69-org-au.staging.precedence.com.au/event/club-officer-training-weeknight-4/
CATEGORIES:Club Officer Training
ATTACH;FMTTYPE=:
END:VEVENT
BEGIN:VEVENT
DTSTART;TZID=Australia/Brisbane:20200712T090000
DTEND;TZID=Australia/Brisbane:20200712T120000
DTSTAMP:20260423T173549
CREATED:20200518T025556Z
LAST-MODIFIED:20200518T025556Z
UID:12007-1594544400-1594555200@toastmastersd69-org-au.staging.precedence.com.au
SUMMARY:Club Officer Training - Weekend
DESCRIPTION:Next year will be an exciting time full of new challenges and new opportunities to grow\, and the best way to start the year off on the right foot is to level up your leadership skills at Club Officer Training this June and July. \nThis round of training will be completely online\, with sessions offered across a range of dates and times to suit the diverse needs and life commitments of our members. The material on offer will help attendees develop transferable leadership skills such as teamwork\, conflict management and effective goalsetting\, as well as providing an opportunity to build support networks and discuss best practices for your role. \nAttending this session will also earn your club credit toward its Distinguished Club Program goals for the year.
URL:https://toastmastersd69-org-au.staging.precedence.com.au/event/club-officer-training-weekend-2/
CATEGORIES:Club Officer Training
ATTACH;FMTTYPE=:
END:VEVENT
BEGIN:VEVENT
DTSTART;TZID=Australia/Brisbane:20200710T080000
DTEND;TZID=Australia/Brisbane:20200710T170000
DTSTAMP:20260423T173549
CREATED:20200710T181609Z
LAST-MODIFIED:20200710T181609Z
UID:12532-1594368000-1594400400@toastmastersd69-org-au.staging.precedence.com.au
SUMMARY:Area 3 Speech Contest Moreton Division
DESCRIPTION:Area 3 Speech Contest \nArea 3 Director Suresh Nair
URL:https://toastmastersd69-org-au.staging.precedence.com.au/event/area-3-speech-contest-moreton-division/
CATEGORIES:Area Events
END:VEVENT
BEGIN:VEVENT
DTSTART;TZID=Australia/Brisbane:20200708T180000
DTEND;TZID=Australia/Brisbane:20200708T210000
DTSTAMP:20260423T173549
CREATED:20200518T025610Z
LAST-MODIFIED:20200518T025610Z
UID:12004-1594231200-1594242000@toastmastersd69-org-au.staging.precedence.com.au
SUMMARY:Club Officer Training - Weeknight
DESCRIPTION:Next year will be an exciting time full of new challenges and new opportunities to grow\, and the best way to start the year off on the right foot is to level up your leadership skills at Club Officer Training this June and July. \nThis round of training will be completely online\, with sessions offered across a range of dates and times to suit the diverse needs and life commitments of our members. The material on offer will help attendees develop transferable leadership skills such as teamwork\, conflict management and effective goalsetting\, as well as providing an opportunity to build support networks and discuss best practices for your role. \nAttending this session will also earn your club credit toward its Distinguished Club Program goals for the year.
URL:https://toastmastersd69-org-au.staging.precedence.com.au/event/club-officer-training-weeknight-5/
CATEGORIES:Club Officer Training
ATTACH;FMTTYPE=:
END:VEVENT
BEGIN:VEVENT
DTSTART;TZID=Australia/Brisbane:20200704T130000
DTEND;TZID=Australia/Brisbane:20200704T160000
DTSTAMP:20260423T173549
CREATED:20200518T025625Z
LAST-MODIFIED:20200518T025625Z
UID:12001-1593867600-1593878400@toastmastersd69-org-au.staging.precedence.com.au
SUMMARY:Club Officer Training - Weekend
DESCRIPTION:Next year will be an exciting time full of new challenges and new opportunities to grow\, and the best way to start the year off on the right foot is to level up your leadership skills at Club Officer Training this June and July. \nThis round of training will be completely online\, with sessions offered across a range of dates and times to suit the diverse needs and life commitments of our members. The material on offer will help attendees develop transferable leadership skills such as teamwork\, conflict management and effective goalsetting\, as well as providing an opportunity to build support networks and discuss best practices for your role. \nAttending this session will also earn your club credit toward its Distinguished Club Program goals for the year.
URL:https://toastmastersd69-org-au.staging.precedence.com.au/event/club-officer-training-weekend-3/
CATEGORIES:Club Officer Training
ATTACH;FMTTYPE=:
END:VEVENT
BEGIN:VEVENT
DTSTART;TZID=Australia/Brisbane:20200703T120000
DTEND;TZID=Australia/Brisbane:20200703T150000
DTSTAMP:20260423T173549
CREATED:20200518T025639Z
LAST-MODIFIED:20200518T025639Z
UID:11998-1593777600-1593788400@toastmastersd69-org-au.staging.precedence.com.au
SUMMARY:Club Officer Training - Weekday
DESCRIPTION:Next year will be an exciting time full of new challenges and new opportunities to grow\, and the best way to start the year off on the right foot is to level up your leadership skills at Club Officer Training this June and July. \nThis round of training will be completely online\, with sessions offered across a range of dates and times to suit the diverse needs and life commitments of our members. The material on offer will help attendees develop transferable leadership skills such as teamwork\, conflict management and effective goalsetting\, as well as providing an opportunity to build support networks and discuss best practices for your role. \nAttending this session will also earn your club credit toward its Distinguished Club Program goals for the year.
URL:https://toastmastersd69-org-au.staging.precedence.com.au/event/club-officer-training-weekday/
CATEGORIES:Club Officer Training
ATTACH;FMTTYPE=:
END:VEVENT
BEGIN:VEVENT
DTSTART;TZID=Australia/Brisbane:20200630T180000
DTEND;TZID=Australia/Brisbane:20200630T210000
DTSTAMP:20260423T173549
CREATED:20200518T024539Z
LAST-MODIFIED:20200518T024539Z
UID:11993-1593540000-1593550800@toastmastersd69-org-au.staging.precedence.com.au
SUMMARY:Club Officer Training - Weeknight
DESCRIPTION:Next year will be an exciting time full of new challenges and new opportunities to grow\, and the best way to start the year off on the right foot is to level up your leadership skills at Club Officer Training this June and July. \nThis round of training will be completely online\, with sessions offered across a range of dates and times to suit the diverse needs and life commitments of our members. The material on offer will help attendees develop transferable leadership skills such as teamwork\, conflict management and effective goalsetting\, as well as providing an opportunity to build support networks and discuss best practices for your role. \nAttending this session will also earn your club credit toward its Distinguished Club Program goals for the year.
URL:https://toastmastersd69-org-au.staging.precedence.com.au/event/club-officer-training-weeknight-3/
CATEGORIES:Club Officer Training
ATTACH;FMTTYPE=:
END:VEVENT
BEGIN:VEVENT
DTSTART;TZID=Australia/Brisbane:20200629T180000
DTEND;TZID=Australia/Brisbane:20200629T210000
DTSTAMP:20260423T173549
CREATED:20200518T024447Z
LAST-MODIFIED:20200518T024447Z
UID:11990-1593453600-1593464400@toastmastersd69-org-au.staging.precedence.com.au
SUMMARY:Club Officer Training - Weeknight
DESCRIPTION:Next year will be an exciting time full of new challenges and new opportunities to grow\, and the best way to start the year off on the right foot is to level up your leadership skills at Club Officer Training this June and July. \nThis round of training will be completely online\, with sessions offered across a range of dates and times to suit the diverse needs and life commitments of our members. The material on offer will help attendees develop transferable leadership skills such as teamwork\, conflict management and effective goalsetting\, as well as providing an opportunity to build support networks and discuss best practices for your role. \nAttending this session will also earn your club credit toward its Distinguished Club Program goals for the year.
URL:https://toastmastersd69-org-au.staging.precedence.com.au/event/club-officer-training-weeknight-2/
CATEGORIES:Club Officer Training
ATTACH;FMTTYPE=:
END:VEVENT
BEGIN:VEVENT
DTSTART;TZID=Australia/Brisbane:20200627T080000
DTEND;TZID=Australia/Brisbane:20200627T190000
DTSTAMP:20260423T173549
CREATED:20200518T003320Z
LAST-MODIFIED:20200518T003320Z
UID:11980-1593244800-1593284400@toastmastersd69-org-au.staging.precedence.com.au
SUMMARY:Virtual Change Over
DESCRIPTION:Retirement of the outgoing District Leadership team and the Installation of the Incoming District Leadership team.
URL:https://toastmastersd69-org-au.staging.precedence.com.au/event/virtual-change-over/
CATEGORIES:District Events
END:VEVENT
BEGIN:VEVENT
DTSTART;TZID=Australia/Brisbane:20200626T080000
DTEND;TZID=Australia/Brisbane:20200628T170000
DTSTAMP:20260423T173549
CREATED:20200109T002528Z
LAST-MODIFIED:20200109T002528Z
UID:11057-1593158400-1593363600@toastmastersd69-org-au.staging.precedence.com.au
SUMMARY:District Leader Training
DESCRIPTION:Exec Team on Fri 26\, full team 27 & 28 \nMore details to come
URL:https://toastmastersd69-org-au.staging.precedence.com.au/event/district-leader-training/
CATEGORIES:District Leadership Training
END:VEVENT
BEGIN:VEVENT
DTSTART;TZID=Australia/Brisbane:20200625T180000
DTEND;TZID=Australia/Brisbane:20200625T210000
DTSTAMP:20260423T173549
CREATED:20200518T024413Z
LAST-MODIFIED:20200518T024413Z
UID:11988-1593108000-1593118800@toastmastersd69-org-au.staging.precedence.com.au
SUMMARY:Club Officer Training - Weeknight
DESCRIPTION:Next year will be an exciting time full of new challenges and new opportunities to grow\, and the best way to start the year off on the right foot is to level up your leadership skills at Club Officer Training this June and July. \nThis round of training will be completely online\, with sessions offered across a range of dates and times to suit the diverse needs and life commitments of our members. The material on offer will help attendees develop transferable leadership skills such as teamwork\, conflict management and effective goalsetting\, as well as providing an opportunity to build support networks and discuss best practices for your role. \nAttending this session will also earn your club credit toward its Distinguished Club Program goals for the year.
URL:https://toastmastersd69-org-au.staging.precedence.com.au/event/club-officer-training-weeknight/
CATEGORIES:Club Officer Training
ATTACH;FMTTYPE=:
END:VEVENT
BEGIN:VEVENT
DTSTART;TZID=Australia/Brisbane:20200621T130000
DTEND;TZID=Australia/Brisbane:20200621T160000
DTSTAMP:20260423T173549
CREATED:20200518T025652Z
LAST-MODIFIED:20200518T025652Z
UID:11986-1592744400-1592755200@toastmastersd69-org-au.staging.precedence.com.au
SUMMARY:Club Officer Training - Weekend
DESCRIPTION:Next year will be an exciting time full of new challenges and new opportunities to grow\, and the best way to start the year off on the right foot is to level up your leadership skills at Club Officer Training this June and July. \nThis round of training will be completely online\, with sessions offered across a range of dates and times to suit the diverse needs and life commitments of our members. The material on offer will help attendees develop transferable leadership skills such as teamwork\, conflict management and effective goalsetting\, as well as providing an opportunity to build support networks and discuss best practices for your role. \nAttending this session will also earn your club credit toward its Distinguished Club Program goals for the year.
URL:https://toastmastersd69-org-au.staging.precedence.com.au/event/club-officer-training-weekend-4/
CATEGORIES:Club Officer Training
ATTACH;FMTTYPE=:
END:VEVENT
BEGIN:VEVENT
DTSTART;TZID=Australia/Brisbane:20200617T180000
DTEND;TZID=Australia/Brisbane:20200617T210000
DTSTAMP:20260423T173549
CREATED:20200518T024422Z
LAST-MODIFIED:20200518T024422Z
UID:11984-1592416800-1592427600@toastmastersd69-org-au.staging.precedence.com.au
SUMMARY:Club Officer Training - Weeknight
DESCRIPTION:Next year will be an exciting time full of new challenges and new opportunities to grow\, and the best way to start the year off on the right foot is to level up your leadership skills at Club Officer Training this June and July. \nThis round of training will be completely online\, with sessions offered across a range of dates and times to suit the diverse needs and life commitments of our members. The material on offer will help attendees develop transferable leadership skills such as teamwork\, conflict management and effective goalsetting\, as well as providing an opportunity to build support networks and discuss best practices for your role. \nAttending this session will also earn your club credit toward its Distinguished Club Program goals for the year.
URL:https://toastmastersd69-org-au.staging.precedence.com.au/event/club-officer-training-online/
CATEGORIES:Club Officer Training
ATTACH;FMTTYPE=:
END:VEVENT
BEGIN:VEVENT
DTSTART;TZID=Australia/Brisbane:20200614T190000
DTEND;TZID=Australia/Brisbane:20200614T200000
DTSTAMP:20260423T173549
CREATED:20191025T001224Z
LAST-MODIFIED:20191025T001224Z
UID:10784-1592161200-1592164800@toastmastersd69-org-au.staging.precedence.com.au
SUMMARY:Central Division Executive team monthly catch-up Zoom meeting
DESCRIPTION:Monthly catch-up Zoom meeting exclusively for Central Division Executive team members (Area Directors\, DivPQD\, DivPRM\, Secretary) to discuss all things Central Division.
URL:https://toastmastersd69-org-au.staging.precedence.com.au/event/central-division-executive-team-monthly-catch-up-zoom-meeting/
CATEGORIES:Division Events
ATTACH;FMTTYPE=:
END:VEVENT
BEGIN:VEVENT
DTSTART;TZID=Australia/Brisbane:20200614T140000
DTEND;TZID=Australia/Brisbane:20200614T160000
DTSTAMP:20260423T173549
CREATED:20200705T100419Z
LAST-MODIFIED:20200705T100419Z
UID:12186-1592143200-1592150400@toastmastersd69-org-au.staging.precedence.com.au
SUMMARY:Briefing for Club Officer Training presenters
DESCRIPTION:Overview of the training program for presenters of this year’s first round of club officer training. \n 
URL:https://toastmastersd69-org-au.staging.precedence.com.au/event/briefing-for-club-officer-training-presenters-3/
CATEGORIES:Club Officer Training
ATTACH;FMTTYPE=:
END:VEVENT
END:VCALENDAR