BEGIN:VCALENDAR
VERSION:2.0
PRODID:-//Toastmasters District 69 - ECPv6.0.12//NONSGML v1.0//EN
CALSCALE:GREGORIAN
METHOD:PUBLISH
X-WR-CALNAME:Toastmasters District 69
X-ORIGINAL-URL:https://toastmastersd69-org-au.staging.precedence.com.au
X-WR-CALDESC:Events for Toastmasters District 69
REFRESH-INTERVAL;VALUE=DURATION:PT1H
X-Robots-Tag:noindex
X-PUBLISHED-TTL:PT1H
BEGIN:VTIMEZONE
TZID:Australia/Brisbane
BEGIN:STANDARD
TZOFFSETFROM:+1000
TZOFFSETTO:+1000
TZNAME:AEST
DTSTART:20190101T000000
END:STANDARD
END:VTIMEZONE
BEGIN:VEVENT
DTSTART;TZID=Australia/Brisbane:20200202T080000
DTEND;TZID=Australia/Brisbane:20200202T170000
DTSTAMP:20260424T062333
CREATED:20200105T103905Z
LAST-MODIFIED:20200105T103905Z
UID:10994-1580630400-1580662800@toastmastersd69-org-au.staging.precedence.com.au
SUMMARY:Toowoomba Club leadership Training round 2
DESCRIPTION:This is an opportunity to attend this face to face training to assist your develop strategies to help build healthy clubs.
URL:https://toastmastersd69-org-au.staging.precedence.com.au/event/toowoomba-club-leadership-training-round-2/
CATEGORIES:Club Officer Training
ATTACH;FMTTYPE=:
END:VEVENT
BEGIN:VEVENT
DTSTART;TZID=Australia/Brisbane:20200201T083000
DTEND;TZID=Australia/Brisbane:20200201T143000
DTSTAMP:20260424T062333
CREATED:20191218T222050Z
LAST-MODIFIED:20191218T222050Z
UID:11014-1580545800-1580567400@toastmastersd69-org-au.staging.precedence.com.au
SUMMARY:Club Leadership Training - Southern Division
DESCRIPTION:Better trained leaders contribute to better quality clubs. Club Leadership Training (previously called Club Officer Training) is held twice annually – this is Round 2 of the face to face training and a follow on to Round 1 Club Leadership Training in Jul 2019 (face to face and online) and the Club Leadership Training in Nov-Dec 2019 (online).  Sessions will include Club Officer Roles\,  Enhancing Club Quality\, Mastering Delegation\, Business Meetings\, ZOOM\, Mentoring\, Pathways Coaching\, Leading the Club to Success and more.  All members are welcome to Register.  Cost to be confirmed (approximately $10)
URL:https://toastmastersd69-org-au.staging.precedence.com.au/event/club-leadership-training-southern-division-2/
CATEGORIES:Club Officer Training
ATTACH;FMTTYPE=:
END:VEVENT
BEGIN:VEVENT
DTSTART;TZID=Australia/Brisbane:20200201T080000
DTEND;TZID=Australia/Brisbane:20200201T140000
DTSTAMP:20260424T062333
CREATED:20200105T103929Z
LAST-MODIFIED:20200105T103929Z
UID:11000-1580544000-1580565600@toastmastersd69-org-au.staging.precedence.com.au
SUMMARY:Round 2 CLT - Face to Face
DESCRIPTION:CLT Training for Areas 2 and 3 in Townsville
URL:https://toastmastersd69-org-au.staging.precedence.com.au/event/round-2-clt-face-to-face/
END:VEVENT
BEGIN:VEVENT
DTSTART;TZID=Australia/Brisbane:20200125T083000
DTEND;TZID=Australia/Brisbane:20200125T150000
DTSTAMP:20260424T062333
CREATED:20200105T103819Z
LAST-MODIFIED:20200105T103819Z
UID:10970-1579941000-1579964400@toastmastersd69-org-au.staging.precedence.com.au
SUMMARY:Train the Trainer and Storytelling workshops
DESCRIPTION:Hosted by Gympie Goal Diggers and Area 28\nfor Central Division.\n\nJoin trainers Andrew Bryant and Cameron Krook for a day of dynamic training!\n\nWorkshop 1: Storytelling \nTime: 9.00 am\nAs long as humans have had language\, they have had stories. Stories pass on culture\, morals and history. Stories are the best way to elicit emotions and truly connect with your audience. This 45 minute workshop takes a deep dive into storytelling techniques. Learn to weave stories into your speaking to make sure your message has maximum impact!\n\nWorkshop 2: Train the Trainer\nTime: 10.00 am\nProperly trained people increase productivity and make fewer mistakes. Learn and practice the five steps\ninvolved in preparing and presenting a training program using adult learning principles. Learn the roles of\ntrainers and the differences between public speaking and training\, and gain practical experience in facilitating\ndiscussion and conducting exercises.\n\nCost of the full day of workshops is $10.00 with lunch and refreshment included.\n\nVenue: Gympie Community Place\, 18 Excelsior road\, Gympie Qld.\nDate: Saturday 25th January 2020.\nTime: 8.30 registration for 9.00am start. 3.00 pm finish.\n\nRegistration: Please contact Judith Rowart (Area 28 Director) via email: judithrowarth712@live.com.au by 4th January.
URL:https://toastmastersd69-org-au.staging.precedence.com.au/event/train-the-trainer-and-storytelling-workshops-2/
CATEGORIES:Division Events
ATTACH;FMTTYPE=:
END:VEVENT
BEGIN:VEVENT
DTSTART;VALUE=DATE:20200125
DTEND;VALUE=DATE:20200126
DTSTAMP:20260424T062333
CREATED:20191218T221916Z
LAST-MODIFIED:20191218T221916Z
UID:11023-1579910400-1579996799@toastmastersd69-org-au.staging.precedence.com.au
SUMMARY:Train the Trainer and Storytelling workshops
DESCRIPTION:Inspiring Trainers from Brisbane will be presenting these 2 workshops. Hosted by Gympie Goal Diggers and Area 28 for Central Division. \nMorning tea provided by Area 28 members. Lunch included in cost of $10 correct cash appreciated. If you have any Question you need answered please RSVP by 4th January so Trainers can collate answers other wise for catering purposes RSVP by January 20th. email RSVP’s to judithrowarth712@live.com.au  Registration time of 8.30 am finish time of 3pm. Venue 18 Excelsior Road Gympie Qld.
URL:https://toastmastersd69-org-au.staging.precedence.com.au/event/train-the-trainer-and-storytelling-workshops/
END:VEVENT
BEGIN:VEVENT
DTSTART;TZID=Australia/Brisbane:20200119T190000
DTEND;TZID=Australia/Brisbane:20200119T200000
DTSTAMP:20260424T062333
CREATED:20200110T041958Z
LAST-MODIFIED:20200110T041958Z
UID:11062-1579460400-1579464000@toastmastersd69-org-au.staging.precedence.com.au
SUMMARY:Club Coach Forum
DESCRIPTION:Share experience with other coaches
URL:https://toastmastersd69-org-au.staging.precedence.com.au/event/club-coach-forum/
END:VEVENT
BEGIN:VEVENT
DTSTART;TZID=Australia/Brisbane:20200119T080000
DTEND;TZID=Australia/Brisbane:20200119T130000
DTSTAMP:20260424T062333
CREATED:20200105T103634Z
LAST-MODIFIED:20200105T103634Z
UID:10947-1579420800-1579438800@toastmastersd69-org-au.staging.precedence.com.au
SUMMARY:Area 31 Club Officer Training
DESCRIPTION:Date: Sunday 19 January 2020 at the O’Shea’s Royal Hotel\, 48 Marshall St Goondiwindi Q \nTime: 8am registration; concludes 1pm; Cost? included in conference registration. \nQuestions? Contact A31 conference team – email: nnomads07@gmail.com \n  \n  \n 
URL:https://toastmastersd69-org-au.staging.precedence.com.au/event/area-31-club-officer-training/
CATEGORIES:Club Officer Training
ATTACH;FMTTYPE=:
END:VEVENT
BEGIN:VEVENT
DTSTART;VALUE=DATE:20200118
DTEND;VALUE=DATE:20200119
DTSTAMP:20260424T062333
CREATED:20191115T003006Z
LAST-MODIFIED:20191115T003006Z
UID:10922-1579305600-1579391999@toastmastersd69-org-au.staging.precedence.com.au
SUMMARY:Area 31 conference
DESCRIPTION:Mark this date in your calendar: Saturday 18 January 2020 – it’s time for the one and only Area 31 conference.  Our clubs span the far western region of southern Queensland and include: St George\, Northern Nomads\, Roma and District\, Goondiwindi and Country Chatters. Venue: Royal Hotel\, Goondiwindi.  Why not join us out west for the weekend? For further details contact the team of Northern Nomads Advanced Toastmasters Club via email at: nnomads07@gmail.com \n 
URL:https://toastmastersd69-org-au.staging.precedence.com.au/event/area-31-conference/
ATTACH;FMTTYPE=:
END:VEVENT
BEGIN:VEVENT
DTSTART;TZID=Australia/Brisbane:20200111T080000
DTEND;TZID=Australia/Brisbane:20200111T150000
DTSTAMP:20260424T062333
CREATED:20200105T103850Z
LAST-MODIFIED:20200105T103850Z
UID:10990-1578729600-1578754800@toastmastersd69-org-au.staging.precedence.com.au
SUMMARY:From Speaker To Trainer (Lite 'Train the Trainer')
DESCRIPTION:Have you thought of doing an introductory Train-The-Trainer (TTT) program or Train-Small-Groups (TSG)? Here is your chance! \nJoin your experienced professional facilitators Carolyn Shaw\, D69 TLI Chairman and Sarah Nicoll\, Southern Division TLI Coordinator for this one-day workshop to support you grow your skills and knowledge of how to present effective training sessions. \nIn this hands-on workshop\, you will learn the differences between speaker and trainer\, learn to analyse learning needs\, design and structure\, and you will deliver a training session. Walk away with practical tips and proven models you can immediately put into action to deliver your training sessions.
URL:https://toastmastersd69-org-au.staging.precedence.com.au/event/from-speaker-to-trainer-lite-train-the-trainer/
ATTACH;FMTTYPE=:
END:VEVENT
BEGIN:VEVENT
DTSTART;TZID=Australia/Brisbane:20191229T090000
DTEND;TZID=Australia/Brisbane:20191229T160000
DTSTAMP:20260424T062333
CREATED:20200105T103719Z
LAST-MODIFIED:20200105T103719Z
UID:10953-1577610000-1577635200@toastmastersd69-org-au.staging.precedence.com.au
SUMMARY:Speechcraft for Business - Part 2
DESCRIPTION:Do you want to overcome public speaking nerves to improve your career and communicate with confidence?\nJoin the Speechcraft for Business Course in February. You will learn how to: \n✓ Create effective speeches for business\nand personal events\n✓ Answer questions and speak confidently\noff-the-cuff\n✓ Deliver effective evaluations\n✓ Conduct productive meetings\n✓ Deliver speeches with appropriate body\nlanguage and vocal expression\n✓ Communicate with confidence and much\nmore! \nSpeechcraft for Business Course includes:\n• 2 full day training sessions\n• Manuals and workbooks\n• Expert coaching from Advanced\nToastmasters\n• Friendly\, supportive\, enthusiastic\nlearning environment\n• Certificate of Achievement \nSpeechcraft for Business is a 4 module public speaking course for business people like you who want to learn how to speak up confidently and present their ideas clearly and effectively.\nThe course is conducted by members of the Focus Advanced Toastmasters Club.\nDates: 15 & 29 February 2020\nTime: 9:00am to 4:00pm\nPlace: Hervey Bay Neighbourhood Centre\, 22\nCharles Street\, Pialba\, QLD 4655\nPrice: Only $280\nBOOK NOW!\nCall: Willi Kruger for details\nM: 0437 140 061\nE: ad10@Toastmastersd69.org.\nThank you.
URL:https://toastmastersd69-org-au.staging.precedence.com.au/event/speechcraft-for-business-part-2/
CATEGORIES:Club Events
ATTACH;FMTTYPE=:
END:VEVENT
BEGIN:VEVENT
DTSTART;TZID=Australia/Brisbane:20191215T090000
DTEND;TZID=Australia/Brisbane:20191215T160000
DTSTAMP:20260424T062333
CREATED:20200105T103649Z
LAST-MODIFIED:20200105T103649Z
UID:10949-1576400400-1576425600@toastmastersd69-org-au.staging.precedence.com.au
SUMMARY:Speechcraft for Business - Part 1
DESCRIPTION:Do you want to overcome public speaking nerves to improve your career and communicate with confidence?\nJoin the Speechcraft for Business Course in February. You will learn how to: \n✓ Create effective speeches for business\nand personal events\n✓ Answer questions and speak confidently\noff-the-cuff\n✓ Deliver effective evaluations\n✓ Conduct productive meetings\n✓ Deliver speeches with appropriate body\nlanguage and vocal expression\n✓ Communicate with confidence and much\nmore!\nSpeechcraft for Business Course\nincludes:\n• 2 full day training sessions\n• Manuals and workbooks\n• Expert coaching from Advanced\nToastmasters\n• Friendly\, supportive\, enthusiastic\nlearning environment\n• Certificate of Achievement \n  \nSpeechcraft for Business is a 4 module public speaking course for business people like you who want to learn how to speak up confidently and present their ideas clearly and effectively. \nThe course is conducted by members of the Focus Advanced Toastmasters Club.\nDates: 15 & 29 February 2020\nTime: 9:00am to 4:00pm\nPlace: Hervey Bay Neighbourhood Centre\, 22\nCharles Street\, Pialba\, QLD 4655\nPrice: Only $280\nBOOK NOW!\nCall: Willi Kruger for details\nM: 0437 140 061\nE: ad10@Toastmastersd69.org
URL:https://toastmastersd69-org-au.staging.precedence.com.au/event/speechcraft-for-business-part-1/
CATEGORIES:Club Events
ATTACH;FMTTYPE=:
END:VEVENT
BEGIN:VEVENT
DTSTART;TZID=Australia/Brisbane:20191211T123000
DTEND;TZID=Australia/Brisbane:20191211T133000
DTSTAMP:20260424T062333
CREATED:20200105T103528Z
LAST-MODIFIED:20200105T103528Z
UID:10912-1576067400-1576071000@toastmastersd69-org-au.staging.precedence.com.au
SUMMARY:Online Club Leadership Training - Week 4 Meeting 13
DESCRIPTION:12.30 pm Club Officer Breakout session – VPM\, VPPR\, Treasurer \nRegister via https://toastmastersdistrict69.cmail20.com/t/r-i-jddhkix-l-c/
URL:https://toastmastersd69-org-au.staging.precedence.com.au/event/online-club-leadership-training-week-4-meeting-13/
CATEGORIES:Club Officer Training
END:VEVENT
BEGIN:VEVENT
DTSTART;TZID=Australia/Brisbane:20191208T190000
DTEND;TZID=Australia/Brisbane:20191208T200000
DTSTAMP:20260424T062333
CREATED:20191029T003428Z
LAST-MODIFIED:20191029T003428Z
UID:10778-1575831600-1575835200@toastmastersd69-org-au.staging.precedence.com.au
SUMMARY:Central Division Executive team monthly catch-up Zoom meeting
DESCRIPTION:Monthly catch-up Zoom meeting exclusively for Central Division Executive team members (Area Directors\, DivPQD\, DivPRM\, Secretary) to discuss all things Central Division.
URL:https://toastmastersd69-org-au.staging.precedence.com.au/event/central-division-executive-team-monthly-catch-up-zoom-meeting-6/
CATEGORIES:Division Events
END:VEVENT
BEGIN:VEVENT
DTSTART;TZID=Australia/Brisbane:20191205T193000
DTEND;TZID=Australia/Brisbane:20191205T203000
DTSTAMP:20260424T062333
CREATED:20191106T011030Z
LAST-MODIFIED:20191106T011030Z
UID:10911-1575574200-1575577800@toastmastersd69-org-au.staging.precedence.com.au
SUMMARY:Online Club Leadership Training - Week 3 Meeting 12
DESCRIPTION:7.30 pm Mastering Delegation \nRegister via https://toastmastersdistrict69.cmail20.com/t/r-i-jddhkix-l-m/
URL:https://toastmastersd69-org-au.staging.precedence.com.au/event/online-club-leadership-training-week-3-meeting-12/
CATEGORIES:Club Officer Training
END:VEVENT
BEGIN:VEVENT
DTSTART;TZID=Australia/Brisbane:20191204T193000
DTEND;TZID=Australia/Brisbane:20191204T203000
DTSTAMP:20260424T062333
CREATED:20191106T005832Z
LAST-MODIFIED:20191106T005832Z
UID:10909-1575487800-1575491400@toastmastersd69-org-au.staging.precedence.com.au
SUMMARY:Online Club Leadership Training - Week 3 Meeting 11
DESCRIPTION:7.30 pm Finish Strong \nRegister via https://toastmastersdistrict69.cmail20.com/t/r-i-jddhkix-l-x/
URL:https://toastmastersd69-org-au.staging.precedence.com.au/event/online-club-leadership-training-week-3-meeting-11/
CATEGORIES:Club Officer Training
END:VEVENT
BEGIN:VEVENT
DTSTART;TZID=Australia/Brisbane:20191204T123000
DTEND;TZID=Australia/Brisbane:20191204T133000
DTSTAMP:20260424T062333
CREATED:20191106T005740Z
LAST-MODIFIED:20191106T005740Z
UID:10904-1575462600-1575466200@toastmastersd69-org-au.staging.precedence.com.au
SUMMARY:Online Club Leadership Training - Week 3 Meeting 10
DESCRIPTION:12.30 pm Club Officer Breakout session – Pres\, VPE\, Secretary\, SAA \nRegister via https://toastmastersdistrict69.cmail20.com/t/r-i-jddhkix-l-p/
URL:https://toastmastersd69-org-au.staging.precedence.com.au/event/online-club-leadership-training-week-3-meeting-10/
CATEGORIES:Club Officer Training
END:VEVENT
BEGIN:VEVENT
DTSTART;TZID=Australia/Brisbane:20191203T193000
DTEND;TZID=Australia/Brisbane:20191203T203000
DTSTAMP:20260424T062333
CREATED:20191106T005721Z
LAST-MODIFIED:20191106T005721Z
UID:10896-1575401400-1575405000@toastmastersd69-org-au.staging.precedence.com.au
SUMMARY:Online Club Leadership Training - Week 3 Meeting 9
DESCRIPTION:7.30 pm FerMENTORing \nRegister via https://toastmastersdistrict69.cmail20.com/t/r-i-jddhkix-l-n/
URL:https://toastmastersd69-org-au.staging.precedence.com.au/event/online-club-leadership-training-week-3-meeting-9/
CATEGORIES:Club Officer Training
END:VEVENT
BEGIN:VEVENT
DTSTART;TZID=Australia/Brisbane:20191203T180000
DTEND;TZID=Australia/Brisbane:20191203T190000
DTSTAMP:20260424T062333
CREATED:20200105T103741Z
LAST-MODIFIED:20200105T103741Z
UID:10969-1575396000-1575399600@toastmastersd69-org-au.staging.precedence.com.au
SUMMARY:Northern Division Catchup
DESCRIPTION:Regular monthly meeting – Division Director with Area Directors
URL:https://toastmastersd69-org-au.staging.precedence.com.au/event/northern-division-catchup/
END:VEVENT
BEGIN:VEVENT
DTSTART;TZID=Australia/Brisbane:20191202T193000
DTEND;TZID=Australia/Brisbane:20191202T203000
DTSTAMP:20260424T062333
CREATED:20191106T005644Z
LAST-MODIFIED:20191106T005644Z
UID:10895-1575315000-1575318600@toastmastersd69-org-au.staging.precedence.com.au
SUMMARY:Online Club Leadership Training - Week 3 Meeting 8
DESCRIPTION:7.30 pm New Member Journey \nRegister via https://toastmastersdistrict69.cmail20.com/t/r-i-jddhkix-l-k/
URL:https://toastmastersd69-org-au.staging.precedence.com.au/event/online-club-leadership-training-week-3-meeting-8/
CATEGORIES:Club Officer Training
END:VEVENT
BEGIN:VEVENT
DTSTART;TZID=Australia/Brisbane:20191202T190000
DTEND;TZID=Australia/Brisbane:20191202T200000
DTSTAMP:20260424T062333
CREATED:20191105T025041Z
LAST-MODIFIED:20191105T025041Z
UID:10874-1575313200-1575316800@toastmastersd69-org-au.staging.precedence.com.au
SUMMARY:Preparing for the New Years Resolutions intake - VPPR Focus Group
DESCRIPTION:As the new year approaches we will focus our attention to the biggest guest intake time of year. What promo can your club do to maximise the opportunities of the season?
URL:https://toastmastersd69-org-au.staging.precedence.com.au/event/preparing-for-the-new-years-resolutions-intake-vppr-focus-group/
CATEGORIES:District Events
ATTACH;FMTTYPE=:
END:VEVENT
BEGIN:VEVENT
DTSTART;TZID=Australia/Brisbane:20191201T113000
DTEND;TZID=Australia/Brisbane:20191201T180000
DTSTAMP:20260424T062333
CREATED:20200105T103453Z
LAST-MODIFIED:20200105T103453Z
UID:10867-1575199800-1575223200@toastmastersd69-org-au.staging.precedence.com.au
SUMMARY:Western Division CLT Round 2
DESCRIPTION:Western division club leadership training
URL:https://toastmastersd69-org-au.staging.precedence.com.au/event/western-division-clt-round-2/
ATTACH;FMTTYPE=:
END:VEVENT
BEGIN:VEVENT
DTSTART;TZID=Australia/Brisbane:20191127T193000
DTEND;TZID=Australia/Brisbane:20191127T213000
DTSTAMP:20260424T062333
CREATED:20191106T005642Z
LAST-MODIFIED:20191106T005642Z
UID:10894-1574883000-1574890200@toastmastersd69-org-au.staging.precedence.com.au
SUMMARY:Online Club Leadership Training - Week 2 Meeting 7
DESCRIPTION:7.30 pm Mastering Delegation \n8.30 pm Club Officer Breakout session President\, SAA \nRegister via https://toastmastersdistrict69.cmail20.com/t/r-i-jddhkix-l-h/
URL:https://toastmastersd69-org-au.staging.precedence.com.au/event/online-club-leadership-training-week-2-meeting-7/
CATEGORIES:Club Officer Training
END:VEVENT
BEGIN:VEVENT
DTSTART;TZID=Australia/Brisbane:20191127T123000
DTEND;TZID=Australia/Brisbane:20191127T133000
DTSTAMP:20260424T062333
CREATED:20191106T005634Z
LAST-MODIFIED:20191106T005634Z
UID:10893-1574857800-1574861400@toastmastersd69-org-au.staging.precedence.com.au
SUMMARY:Online Club Leadership Training - Week 2 Meeting 6
DESCRIPTION:12.30 pm Club Officer Breakout session – VPPR\, Secretary\, SAA \nRegister via https://toastmastersdistrict69.cmail20.com/t/r-i-jddhkix-l-d/
URL:https://toastmastersd69-org-au.staging.precedence.com.au/event/online-club-leadership-training-week-2-meeting-6/
CATEGORIES:Club Officer Training
END:VEVENT
BEGIN:VEVENT
DTSTART;TZID=Australia/Brisbane:20191126T193000
DTEND;TZID=Australia/Brisbane:20191126T203000
DTSTAMP:20260424T062333
CREATED:20191106T005632Z
LAST-MODIFIED:20191106T005632Z
UID:10892-1574796600-1574800200@toastmastersd69-org-au.staging.precedence.com.au
SUMMARY:Online Club Leadership Training - Week 2 Meeting 5
DESCRIPTION:7.30 pm Club Officer Breakout session – VPPR\, Treasurer \nRegister via https://toastmastersdistrict69.cmail20.com/t/r-i-jddhkix-l-i/
URL:https://toastmastersd69-org-au.staging.precedence.com.au/event/online-club-leadership-training-week-2-meeting-5/
CATEGORIES:Club Officer Training
END:VEVENT
BEGIN:VEVENT
DTSTART;TZID=Australia/Brisbane:20191125T193000
DTEND;TZID=Australia/Brisbane:20191125T213000
DTSTAMP:20260424T062333
CREATED:20191106T005628Z
LAST-MODIFIED:20191106T005628Z
UID:10891-1574710200-1574717400@toastmastersd69-org-au.staging.precedence.com.au
SUMMARY:Online Club Leadership Training - Week 2 Meeting 4
DESCRIPTION:7.30 pm FerMENTORing \n8.30 pm Club Officer Breakout session – VPE\, VPM\, Secretary \nRegister via https://toastmastersdistrict69.cmail20.com/t/r-i-jddhkix-l-t/
URL:https://toastmastersd69-org-au.staging.precedence.com.au/event/online-club-leadership-training-week-2-meeting-4-2/
CATEGORIES:Club Officer Training
END:VEVENT
BEGIN:VEVENT
DTSTART;TZID=Australia/Brisbane:20191125T080000
DTEND;TZID=Australia/Brisbane:20191125T170000
DTSTAMP:20260424T062333
CREATED:20200105T103554Z
LAST-MODIFIED:20200105T103554Z
UID:10937-1574668800-1574701200@toastmastersd69-org-au.staging.precedence.com.au
SUMMARY:Kawana Waters Speechraft Session 3/5
DESCRIPTION:Session 3/5
URL:https://toastmastersd69-org-au.staging.precedence.com.au/event/kawana-waters-speechraft-session-3-5-2/
END:VEVENT
BEGIN:VEVENT
DTSTART;TZID=Australia/Brisbane:20191123T083000
DTEND;TZID=Australia/Brisbane:20191123T170000
DTSTAMP:20260424T062333
CREATED:20190902T055545Z
LAST-MODIFIED:20190902T055545Z
UID:10574-1574497800-1574528400@toastmastersd69-org-au.staging.precedence.com.au
SUMMARY:Area 35 Conference
DESCRIPTION:Challenge yourself.  Reach beyond your limits.  Support your friends.  But most of all\, enjoy yourself!  More details to follow.
URL:https://toastmastersd69-org-au.staging.precedence.com.au/event/area-35-conference/
CATEGORIES:Area Events
END:VEVENT
BEGIN:VEVENT
DTSTART;TZID=Australia/Brisbane:20191123T083000
DTEND;TZID=Australia/Brisbane:20191123T153000
DTSTAMP:20260424T062333
CREATED:20191029T003449Z
LAST-MODIFIED:20191029T003449Z
UID:10794-1574497800-1574523000@toastmastersd69-org-au.staging.precedence.com.au
SUMMARY:Brisbane & Eastern Division 2019–2020 Club Leadership Training Round 2
DESCRIPTION:The Brisbane and Eastern Division Directors\, Robert Green and Rianne Luther\, warmly invite you to attend the second round of Club Leadership Training for 2019–2020.  All members welcome.
URL:https://toastmastersd69-org-au.staging.precedence.com.au/event/brisbane-eastern-division-2019-2020-club-leadership-training-round-2/
CATEGORIES:Club Officer Training,Division Events
ATTACH;FMTTYPE=:
END:VEVENT
BEGIN:VEVENT
DTSTART;TZID=Australia/Brisbane:20191121T193000
DTEND;TZID=Australia/Brisbane:20191121T213000
DTSTAMP:20260424T062333
CREATED:20191106T005716Z
LAST-MODIFIED:20191106T005716Z
UID:10890-1574364600-1574371800@toastmastersd69-org-au.staging.precedence.com.au
SUMMARY:Online Club Leadership Training - Week 1 Meeting 3
DESCRIPTION:7.30 pm Finish Strong \n8.30 pm Club Officer Breakout session – VPE\, Secretary\, SAA \nRegister via https://toastmastersdistrict69.cmail20.com/t/r-i-jddhkix-l-j/
URL:https://toastmastersd69-org-au.staging.precedence.com.au/event/online-club-leadership-training-week-1-meeting-3/
CATEGORIES:Club Officer Training
END:VEVENT
BEGIN:VEVENT
DTSTART;TZID=Australia/Brisbane:20191120T123000
DTEND;TZID=Australia/Brisbane:20191120T133000
DTSTAMP:20260424T062333
CREATED:20191106T005621Z
LAST-MODIFIED:20191106T005621Z
UID:10889-1574253000-1574256600@toastmastersd69-org-au.staging.precedence.com.au
SUMMARY:Online Club Leadership Training - Week 1 Meeting 2
DESCRIPTION:Club Officer Breakout session – President\, VPE\, VPM\, Treasurer \nRegister via https://zoom.us/meeting/register/a4b34690e6a029577c24e00bf0acd2b8
URL:https://toastmastersd69-org-au.staging.precedence.com.au/event/online-club-leadership-training-week-1-meeting-2-2/
CATEGORIES:Club Officer Training
END:VEVENT
END:VCALENDAR