BEGIN:VCALENDAR
VERSION:2.0
PRODID:-//Toastmasters District 69 - ECPv6.0.12//NONSGML v1.0//EN
CALSCALE:GREGORIAN
METHOD:PUBLISH
X-WR-CALNAME:Toastmasters District 69
X-ORIGINAL-URL:https://toastmastersd69-org-au.staging.precedence.com.au
X-WR-CALDESC:Events for Toastmasters District 69
REFRESH-INTERVAL;VALUE=DURATION:PT1H
X-Robots-Tag:noindex
X-PUBLISHED-TTL:PT1H
BEGIN:VTIMEZONE
TZID:Australia/Brisbane
BEGIN:STANDARD
TZOFFSETFROM:+1000
TZOFFSETTO:+1000
TZNAME:AEST
DTSTART:20190101T000000
END:STANDARD
END:VTIMEZONE
BEGIN:VEVENT
DTSTART;TZID=Australia/Brisbane:20191102T090000
DTEND;TZID=Australia/Brisbane:20191102T163000
DTSTAMP:20260424T094737
CREATED:20191029T003440Z
LAST-MODIFIED:20191029T003440Z
UID:10790-1572685200-1572712200@toastmastersd69-org-au.staging.precedence.com.au
SUMMARY:Combined Area 11 and 29 Conference
DESCRIPTION:The combined Area 11 and 29 conference will include 4 contests\, 2 Area Councilk meetings and numerous networking and fellowship opporunities. \nThe clubs in Area 11 are: \n\nHeart of the City Toastmasters\nIpswich Toastmasters\nJacaranda 2000\nMorning Talkers\nSpringfield Lakes Toastmasters\n\nThe clubs in Area 29 are: \n\nCity of Ipswich\nIcon Toastmasters\nLimestone Toastmasters\nLockyer Valley\nRosewood Toastmasters
URL:https://toastmastersd69-org-au.staging.precedence.com.au/event/combined-area-11-and-29-conference/
CATEGORIES:Area Events
ATTACH;FMTTYPE=:
END:VEVENT
BEGIN:VEVENT
DTSTART;TZID=Australia/Brisbane:20191102T090000
DTEND;TZID=Australia/Brisbane:20191102T160000
DTSTAMP:20260424T094737
CREATED:20190629T223711Z
LAST-MODIFIED:20190629T223711Z
UID:9433-1572685200-1572710400@toastmastersd69-org-au.staging.precedence.com.au
SUMMARY:Area 4 Conference - Central Division
DESCRIPTION:The Area 4 2019 Conference & Contest is: \n9am to 4pm \n2 November 2019 \nSmartHub\, Customs House\, 208 Quay St\, Rockhampton
URL:https://toastmastersd69-org-au.staging.precedence.com.au/event/area-4-conference-central-division-2/
CATEGORIES:Area Events
END:VEVENT
BEGIN:VEVENT
DTSTART;TZID=Australia/Brisbane:20191102T083000
DTEND;TZID=Australia/Brisbane:20191102T163000
DTSTAMP:20260424T094737
CREATED:20191218T221806Z
LAST-MODIFIED:20191218T221806Z
UID:10684-1572683400-1572712200@toastmastersd69-org-au.staging.precedence.com.au
SUMMARY:Combined Areas 11 & 29 - Conference 2019
DESCRIPTION:TOASTMASTERS Area 11 and 29 Conference 2019 \n\n\n\n\n\n\n\n\nTake Your Toastmasters Experience to the Next Level\n\n\n\n\nWe are excited to have you attend our 2019 Toastmasters Area 11 and 29 Conference.  Please complete (submit) the Online Registration form at https://www.surveymonkey.com/r/Z62RDFQ by the 28th of October 2019 to ensure your seat at this wonderful event.   Tickets are only $30 so please get in early. \nThe preferred method of payment is Direct Deposit to City of Ipswich Toastmasters Club account at:\nBank of Queensland\nBSB: 124 023\nAccount No: 21405386\nReference: Your name + Con2019 \nWe can’t wait to see you there!
URL:https://toastmastersd69-org-au.staging.precedence.com.au/event/combined-areas-11-29-conference-2019/
CATEGORIES:Area Events
ATTACH;FMTTYPE=:
END:VEVENT
BEGIN:VEVENT
DTSTART;TZID=Australia/Brisbane:20191102T083000
DTEND;TZID=Australia/Brisbane:20191102T163000
DTSTAMP:20260424T094737
CREATED:20191029T003325Z
LAST-MODIFIED:20191029T003325Z
UID:10679-1572683400-1572712200@toastmastersd69-org-au.staging.precedence.com.au
SUMMARY:2019 Conference - Combined Area 11 and 29
DESCRIPTION:TOASTMASTERS Area 11 and 29 Conference 2019 \n\n\n\n\n\n\nTake Your Toastmasters Experience to the Next Level\n\n\nWe are excited to have you attend our 2019 Toastmasters Area 11 and 29 Conference.  Please complete (submit) the Online Registration form by the 28th of October 2019 to ensure your seat at this wonderful event.   Tickets are only $30 so please get in early.\nThe preferred method of payment is Direct Deposit to City of Ipswich Toastmasters Club account at:\nBank of Queensland\nBSB: 124 023\nAccount No: 21405386\nReference: Your name + Con2019 \nRegister at https://www.surveymonkey.com/r/Z62RDFQ \nWe can’t wait to see you there!
URL:https://toastmastersd69-org-au.staging.precedence.com.au/event/2019-conference-combined-area-11-and-29/
CATEGORIES:Area Events
ATTACH;FMTTYPE=:
END:VEVENT
BEGIN:VEVENT
DTSTART;TZID=Australia/Brisbane:20191102T083000
DTEND;TZID=Australia/Brisbane:20191102T153000
DTSTAMP:20260424T094737
CREATED:20190902T055516Z
LAST-MODIFIED:20190902T055516Z
UID:10564-1572683400-1572708600@toastmastersd69-org-au.staging.precedence.com.au
SUMMARY:Area 34 Conference
DESCRIPTION:Area 34 Conference and contest day will include Area Council meeting\, 4 contests\, educational sessions\, networking. The clubs of Area 34 are: \n\nHelensvale Daybreak Toastmasters\nClub Runaway 2000\nGriffith Guild\nSouthport\nSouthport Endeavour
URL:https://toastmastersd69-org-au.staging.precedence.com.au/event/area-34-conference/
CATEGORIES:Area Events
END:VEVENT
BEGIN:VEVENT
DTSTART;TZID=Australia/Brisbane:20191102T080000
DTEND;TZID=Australia/Brisbane:20191102T153000
DTSTAMP:20260424T094737
CREATED:20191029T003339Z
LAST-MODIFIED:20191029T003339Z
UID:10725-1572681600-1572708600@toastmastersd69-org-au.staging.precedence.com.au
SUMMARY:Area 8 Conference
DESCRIPTION:Come along to the Area 8 Conference to see the best speakers from Sandgate\, Redcliffe\, North Lakes\, Lawnton and Bracken Ridge. A fully catered event with a motivational key note speaker.
URL:https://toastmastersd69-org-au.staging.precedence.com.au/event/area-8-conference/
CATEGORIES:Area Events
END:VEVENT
BEGIN:VEVENT
DTSTART;TZID=Australia/Brisbane:20191031T193000
DTEND;TZID=Australia/Brisbane:20191031T201500
DTSTAMP:20260424T094737
CREATED:20191029T003343Z
LAST-MODIFIED:20191029T003343Z
UID:10769-1572550200-1572552900@toastmastersd69-org-au.staging.precedence.com.au
SUMMARY:Pathways is alive and well!!
DESCRIPTION:Discover the “How\, Why and What” of Pathways coaches. The inclusion of a member in your club who is available to work one on one with anyone who needs assistance or has challenges will enhance the opportunity for your members to progress through their chosen educational goals.
URL:https://toastmastersd69-org-au.staging.precedence.com.au/event/pathways-is-alive-and-well-4/
CATEGORIES:District Events
END:VEVENT
BEGIN:VEVENT
DTSTART;TZID=Australia/Brisbane:20191030T193000
DTEND;TZID=Australia/Brisbane:20191030T201500
DTSTAMP:20260424T094737
CREATED:20191023T070848Z
LAST-MODIFIED:20191023T070848Z
UID:10766-1572463800-1572466500@toastmastersd69-org-au.staging.precedence.com.au
SUMMARY:Pathways is alive and well!
DESCRIPTION:Discover the “How\, Why and What” of Pathways coaches. The inclusion of a member in your club who is available to work one on one with anyone who needs assistance or has challenges will enhance the opportunity for your members to progress through their chosen educational goals.
URL:https://toastmastersd69-org-au.staging.precedence.com.au/event/pathways-is-alive-and-well-3/
CATEGORIES:District Events
ATTACH;FMTTYPE=:
END:VEVENT
BEGIN:VEVENT
DTSTART;TZID=Australia/Brisbane:20191029T193000
DTEND;TZID=Australia/Brisbane:20191029T201500
DTSTAMP:20260424T094737
CREATED:20191023T070750Z
LAST-MODIFIED:20191023T070750Z
UID:10765-1572377400-1572380100@toastmastersd69-org-au.staging.precedence.com.au
SUMMARY:Pathways is alive and well!
DESCRIPTION:Discover the “How\, Why and What” of Pathways coaches. The inclusion of a member in your club who is available to work one on one with anyone who needs assistance or has challenge will enhance the opportunity for your members to progress through their chosen educational goals.
URL:https://toastmastersd69-org-au.staging.precedence.com.au/event/pathways-is-alive-and-well-2/
CATEGORIES:District Events
ATTACH;FMTTYPE=:
END:VEVENT
BEGIN:VEVENT
DTSTART;TZID=Australia/Brisbane:20191027T190000
DTEND;TZID=Australia/Brisbane:20191027T200000
DTSTAMP:20260424T094737
CREATED:20191011T091241Z
LAST-MODIFIED:20191011T091241Z
UID:10718-1572202800-1572206400@toastmastersd69-org-au.staging.precedence.com.au
SUMMARY:Webinar - From Struggle Street to First Avenue
DESCRIPTION:Next Steps and Support for Clubs in Distress\n \nPresented by Mark Snow DTM\, Club Growth Director \nThis webinar is specifically designed for leaders of clubs with 12 or fewer members. Come along to learn what options are open to you and what District support is available to assist you on the journey. \nZoom link: https://zoom.us/j/454031420 \nThe slides for this webinar will be made available to clubs after the presentation\, however attending the session is the best way to have your club’s specific questions answered.
URL:https://toastmastersd69-org-au.staging.precedence.com.au/event/webinar-from-struggle-street-to-first-avenue/
ATTACH;FMTTYPE=:
END:VEVENT
BEGIN:VEVENT
DTSTART;TZID=Australia/Brisbane:20191026T174500
DTEND;TZID=Australia/Brisbane:20191026T213000
DTSTAMP:20260424T094737
CREATED:20190924T212623Z
LAST-MODIFIED:20190924T212623Z
UID:10660-1572111900-1572125400@toastmastersd69-org-au.staging.precedence.com.au
SUMMARY:Fifty Fabulous Years
DESCRIPTION:Help us celebrate 50 years of the Gold Coast Toastmasters\nClub. You are invited to the German Club Saturday\, 26th\nOctober at 5.15pm for a 5.45pm start. This is a dinner event\n(you pay) with dinner at 6.30pm. And it is Octoberfest!
URL:https://toastmastersd69-org-au.staging.precedence.com.au/event/fifty-fabulous-years/
CATEGORIES:Club Events
END:VEVENT
BEGIN:VEVENT
DTSTART;TZID=Australia/Brisbane:20191026T080000
DTEND;TZID=Australia/Brisbane:20191026T170000
DTSTAMP:20260424T094737
CREATED:20190909T040919Z
LAST-MODIFIED:20190909T040919Z
UID:10618-1572076800-1572109200@toastmastersd69-org-au.staging.precedence.com.au
SUMMARY:Area 14 Conference - Northern Division
DESCRIPTION:Watch this space for further details.
URL:https://toastmastersd69-org-au.staging.precedence.com.au/event/area-14-conference-northern-division/
CATEGORIES:Area Events
END:VEVENT
BEGIN:VEVENT
DTSTART;VALUE=DATE:20191026
DTEND;VALUE=DATE:20191027
DTSTAMP:20260424T094737
CREATED:20190923T232631Z
LAST-MODIFIED:20190923T232631Z
UID:10663-1572048000-1572134399@toastmastersd69-org-au.staging.precedence.com.au
SUMMARY:Area 22 Conference
DESCRIPTION:Six Clubs in Area 22 come together to progress speech contests\, hold their Area Council Meeting and hear from International Author and Psychologist Brad Everton on how to create “me time”
URL:https://toastmastersd69-org-au.staging.precedence.com.au/event/area-22-conference/
CATEGORIES:Area Events
ATTACH;FMTTYPE=:
END:VEVENT
BEGIN:VEVENT
DTSTART;VALUE=DATE:20191026
DTEND;VALUE=DATE:20191027
DTSTAMP:20260424T094737
CREATED:20190629T223449Z
LAST-MODIFIED:20190629T223449Z
UID:9429-1572048000-1572134399@toastmastersd69-org-au.staging.precedence.com.au
SUMMARY:Area 22 Conference - Central Division
DESCRIPTION:TBA
URL:https://toastmastersd69-org-au.staging.precedence.com.au/event/area-22-conference-central-division-2/
CATEGORIES:Area Events
END:VEVENT
BEGIN:VEVENT
DTSTART;TZID=Australia/Brisbane:20191024T193000
DTEND;TZID=Australia/Brisbane:20191024T201500
DTSTAMP:20260424T094737
CREATED:20191023T070544Z
LAST-MODIFIED:20191023T070544Z
UID:10761-1571945400-1571948100@toastmastersd69-org-au.staging.precedence.com.au
SUMMARY:Pathways is alive and well!
DESCRIPTION:Join these Zoom sessions to discuss the “How\, Why and What” of Pathways coaches. This is a discussion and Q and A session which will focus on the utilisation of a Pathways coach in every club\, facilitating every’s member’s journey through Pathways. It is not an educational session on Pathways but an opportunity to speak with facilitators to determine the best ways to utilise the Pathways coach in your club.
URL:https://toastmastersd69-org-au.staging.precedence.com.au/event/pathways-is-alive-and-well/
CATEGORIES:District Events
ATTACH;FMTTYPE=:
END:VEVENT
BEGIN:VEVENT
DTSTART;TZID=Australia/Brisbane:20191020T083000
DTEND;TZID=Australia/Brisbane:20191020T153000
DTSTAMP:20260424T094737
CREATED:20190726T034112Z
LAST-MODIFIED:20190726T034112Z
UID:10316-1571560200-1571585400@toastmastersd69-org-au.staging.precedence.com.au
SUMMARY:Area 12 Conference
DESCRIPTION:Conference
URL:https://toastmastersd69-org-au.staging.precedence.com.au/event/area-12-conference/
CATEGORIES:Area Events
END:VEVENT
BEGIN:VEVENT
DTSTART;TZID=Australia/Brisbane:20191019T080000
DTEND;TZID=Australia/Brisbane:20191019T170000
DTSTAMP:20260424T094737
CREATED:20190706T041831Z
LAST-MODIFIED:20190706T041831Z
UID:9649-1571472000-1571504400@toastmastersd69-org-au.staging.precedence.com.au
SUMMARY:Area 13 Conference - Northern Division
DESCRIPTION:Details to come.
URL:https://toastmastersd69-org-au.staging.precedence.com.au/event/area-13-conference-townsville/
END:VEVENT
BEGIN:VEVENT
DTSTART;VALUE=DATE:20191019
DTEND;VALUE=DATE:20191020
DTSTAMP:20260424T094737
CREATED:20190629T223527Z
LAST-MODIFIED:20190629T223527Z
UID:9431-1571443200-1571529599@toastmastersd69-org-au.staging.precedence.com.au
SUMMARY:Area 10 Conference - Central Division
DESCRIPTION:TBA
URL:https://toastmastersd69-org-au.staging.precedence.com.au/event/area-10-conference-central-division-2/
CATEGORIES:Area Events
END:VEVENT
BEGIN:VEVENT
DTSTART;TZID=Australia/Brisbane:20191017T173000
DTEND;TZID=Australia/Brisbane:20191017T203000
DTSTAMP:20260424T094737
CREATED:20190816T013039Z
LAST-MODIFIED:20190816T013039Z
UID:10483-1571333400-1571344200@toastmastersd69-org-au.staging.precedence.com.au
SUMMARY:Area 21 Conference (Part 2)
DESCRIPTION:Area 21 invites you to attend the 2019 Area Conference and Speech Contests. \nCome along to support our contestants and enjoy a night of speaking and networking.
URL:https://toastmastersd69-org-au.staging.precedence.com.au/event/area-21-conference-part-2/
CATEGORIES:Area Events
END:VEVENT
BEGIN:VEVENT
DTSTART;TZID=Australia/Brisbane:20191013T130000
DTEND;TZID=Australia/Brisbane:20191013T180000
DTSTAMP:20260424T094737
CREATED:20190712T041914Z
LAST-MODIFIED:20190712T041914Z
UID:9691-1570971600-1570989600@toastmastersd69-org-au.staging.precedence.com.au
SUMMARY:Area 20 Conference
DESCRIPTION:Area 20 warmly invites you to attend the 2019 Area Conference and Speech Contests. \nCheer along your fellow members from Area 20: \n\nBulimba Riverside Toastmasters Club\nCarina Toastmasters Club\nLeading Edge Advanced Toastmasters Club\nSunrise Toastmasters Club\nWaterloo Bay Toastmasters Club\n\nLocation\n\nWynnum Library\n145 Florence St\, Wynnum QLD 4178\n\nRSVP by Sun 6th October to ad20@toastmastersd69.org\nCost TBA | Payment method TBA
URL:https://toastmastersd69-org-au.staging.precedence.com.au/event/area-20-conference/
CATEGORIES:Area Events
END:VEVENT
BEGIN:VEVENT
DTSTART;TZID=Australia/Brisbane:20191012T083000
DTEND;TZID=Australia/Brisbane:20191012T163000
DTSTAMP:20260424T094737
CREATED:20190820T235341Z
LAST-MODIFIED:20190820T235341Z
UID:10492-1570869000-1570897800@toastmastersd69-org-au.staging.precedence.com.au
SUMMARY:Area 28 Conference - Central Division
DESCRIPTION:Area 28 Conference and contest day \n4 contests\, Area Council meeting\, educational sessions\, networking. \nThe clubs of Area 28 consist of:\n▶️ G’day Toastmasters Club\n▶️ Gympie Toastmasters Club\n▶️ Maryborough Toastmasters Club\n▶️ South Burnett Toastmasters Club\n▶️ Weblec Toastmasters Club \n$25
URL:https://toastmastersd69-org-au.staging.precedence.com.au/event/area-28-conference-central-division-2/
END:VEVENT
BEGIN:VEVENT
DTSTART;TZID=Australia/Brisbane:20191010T173000
DTEND;TZID=Australia/Brisbane:20191010T203000
DTSTAMP:20260424T094737
CREATED:20190816T012958Z
LAST-MODIFIED:20190816T012958Z
UID:10482-1570728600-1570739400@toastmastersd69-org-au.staging.precedence.com.au
SUMMARY:Area 21 Conference (Part 1)
DESCRIPTION:Come along to Area 21 Conference to support our contestants!
URL:https://toastmastersd69-org-au.staging.precedence.com.au/event/area-21-conference-part-1/
CATEGORIES:Area Events
END:VEVENT
BEGIN:VEVENT
DTSTART;TZID=Australia/Brisbane:20190928T180000
DTEND;TZID=Australia/Brisbane:20190928T213000
DTSTAMP:20260424T094737
CREATED:20190909T041014Z
LAST-MODIFIED:20190909T041014Z
UID:10612-1569693600-1569706200@toastmastersd69-org-au.staging.precedence.com.au
SUMMARY:Springfield Lakes  Charter Anniversary Dinner
DESCRIPTION:Springfield Lakes Club is turning is 15 and we are celebrating by holding a dinner. We would love for you all to join us. Register and RSVP as per the flyer or contact Jeanette on nettie_62@optusnet.com.au for more information.
URL:https://toastmastersd69-org-au.staging.precedence.com.au/event/springfield-lakes-charter-anniversary-dinner-2/
CATEGORIES:Club Events
ATTACH;FMTTYPE=:
END:VEVENT
BEGIN:VEVENT
DTSTART;TZID=Australia/Brisbane:20190928T080000
DTEND;TZID=Australia/Brisbane:20190928T163000
DTSTAMP:20260424T094737
CREATED:20190924T212607Z
LAST-MODIFIED:20190924T212607Z
UID:10657-1569657600-1569688200@toastmastersd69-org-au.staging.precedence.com.au
SUMMARY:Area 18 conference
DESCRIPTION:Area 18 Speech Contest
URL:https://toastmastersd69-org-au.staging.precedence.com.au/event/area-18-conference/
CATEGORIES:Area Events
ATTACH;FMTTYPE=:
END:VEVENT
BEGIN:VEVENT
DTSTART;TZID=Australia/Brisbane:20190918T190000
DTEND;TZID=Australia/Brisbane:20190918T213000
DTSTAMP:20260424T094737
CREATED:20190718T122406Z
LAST-MODIFIED:20190718T122406Z
UID:9820-1568833200-1568842200@toastmastersd69-org-au.staging.precedence.com.au
SUMMARY:TOD2 - Lightning and Thunder
DESCRIPTION:Have you ever wondered where Toastmasters could take you? What confidence in public speaking can bring you? Interested in taking the next step from Toastmasters to speaking in the real world? \nCome and see a demonstration of exactly what Toastmasters can offer beyond the manuals and beyond the club. Our dedicated Speakers Bureau will be demonstrating their skills in providing valuable\, insightful and inspirational messages to a bigger audience in preparation for taking these talks to the wider community. \nThis year we are presenting Lightning and Thunder talks. \nThunder – 18 mins keynote address. \nLightning  -15 slides each shown for 20 seconds and auto-advanced 5 minutes exactly total time \nWe will have four speakers for each format  speaking on a topic that relates to improving our communication skills.
URL:https://toastmastersd69-org-au.staging.precedence.com.au/event/tod2-lightning-and-thunder/
CATEGORIES:Club Events
ATTACH;FMTTYPE=:
END:VEVENT
BEGIN:VEVENT
DTSTART;TZID=Australia/Brisbane:20190914T183000
DTEND;TZID=Australia/Brisbane:20190914T213000
DTSTAMP:20260424T094737
CREATED:20190403T222412Z
LAST-MODIFIED:20190403T222412Z
UID:9052-1568485800-1568496600@toastmastersd69-org-au.staging.precedence.com.au
SUMMARY:Hall of Fame Dinner
DESCRIPTION:Hall of Fame is the night we recognise our District’s high performers giving thanks for their service to our members. Awards include Area Director\, Division Director and Toastmaster of the year. Come join in the celebration on our night of nights! \nBookings are now closed\n\nBank details for payment\n\n\n\nBSB: 034 660 Account: 323054 \n\n 
URL:https://toastmastersd69-org-au.staging.precedence.com.au/event/hall-of-fame-dinner/
CATEGORIES:District Events
ATTACH;FMTTYPE=:
END:VEVENT
BEGIN:VEVENT
DTSTART;TZID=Australia/Brisbane:20190914T080000
DTEND;TZID=Australia/Brisbane:20190915T170000
DTSTAMP:20260424T094737
CREATED:20190403T222149Z
LAST-MODIFIED:20190403T222149Z
UID:9050-1568448000-1568566800@toastmastersd69-org-au.staging.precedence.com.au
SUMMARY:District Leadership Training - Round 2
DESCRIPTION:
URL:https://toastmastersd69-org-au.staging.precedence.com.au/event/district-leadership-training-round-2/
END:VEVENT
BEGIN:VEVENT
DTSTART;TZID=Australia/Brisbane:20190828T190000
DTEND;TZID=Australia/Brisbane:20190828T210000
DTSTAMP:20260424T094737
CREATED:20190726T110122Z
LAST-MODIFIED:20190726T110122Z
UID:10325-1567018800-1567026000@toastmastersd69-org-au.staging.precedence.com.au
SUMMARY:Carina 30th Birthday
DESCRIPTION:Carina Toastmasters will be turning 30 this year so let’s celebrate this milestone.\nThe night will be a sit down dinner with selection of meals\, filled with speeches\, table topics and other fun games. \nCome along and share in the fun on this momentous occasion. \nCamp Hill Hotel\n724 Old Cleveland Road\, Camp Hill \nRSVP to: carinatoastmaster@gmail.com\nPlease RSVP by Wednesday 21st of Aug for catering purposes.\nCost TBA
URL:https://toastmastersd69-org-au.staging.precedence.com.au/event/carina-30th-birthday/
CATEGORIES:Club Events
ATTACH;FMTTYPE=:
END:VEVENT
BEGIN:VEVENT
DTSTART;TZID=Australia/Brisbane:20190821T083000
DTEND;TZID=Australia/Brisbane:20190821T163000
DTSTAMP:20260424T094737
CREATED:20190909T041256Z
LAST-MODIFIED:20190909T041256Z
UID:10491-1566376200-1566405000@toastmastersd69-org-au.staging.precedence.com.au
SUMMARY:Area 16 Conference - Central Division
DESCRIPTION:Area 16 Conference and contest day \n4 contests\, Area Council meeting\, educational sessions\, networking. \nThe clubs of Area 22 consist of:\n▶️ Coolum Communicators Toastmasters Club\n▶️ Maroochydore Toastmasters Club\n▶️ Nambour Toastmasters Club\n▶️ Noosa Toastmasters Club\n▶️ Sunshine Coast Toastmasters Club\n▶️ Yandina Toastmasters Club \nhttps://www.facebook.com/events/765667803852226/
URL:https://toastmastersd69-org-au.staging.precedence.com.au/event/area-16-conference-central-division-2/
END:VEVENT
BEGIN:VEVENT
DTSTART;VALUE=DATE:20190821
DTEND;VALUE=DATE:20190825
DTSTAMP:20260424T094737
CREATED:20190705T074059Z
LAST-MODIFIED:20190705T074059Z
UID:9610-1566345600-1566691199@toastmastersd69-org-au.staging.precedence.com.au
SUMMARY:Toastmasters International Convention
DESCRIPTION:Summit with speakers\nTheir words and wisdom will take you to new heights!\nWant to become the speaker others line up to see? How would you like to learn three strategies to help you connect with your audience and spark laughter? Beyond speaking skills\, are you interested in gaining techniques to practice daily\, focused discipline? Perhaps you’d like to know how customer-service strategies can apply to Toastmasters. These are just some of the knowledge-packed educational sessions awaiting you at the International Convention this year.
URL:https://toastmastersd69-org-au.staging.precedence.com.au/event/toastmasters-international-convention/
CATEGORIES:District Events
ATTACH;FMTTYPE=:
END:VEVENT
END:VCALENDAR