BEGIN:VCALENDAR
VERSION:2.0
PRODID:-//Toastmasters District 69 - ECPv6.0.12//NONSGML v1.0//EN
CALSCALE:GREGORIAN
METHOD:PUBLISH
X-WR-CALNAME:Toastmasters District 69
X-ORIGINAL-URL:https://toastmastersd69-org-au.staging.precedence.com.au
X-WR-CALDESC:Events for Toastmasters District 69
REFRESH-INTERVAL;VALUE=DURATION:PT1H
X-Robots-Tag:noindex
X-PUBLISHED-TTL:PT1H
BEGIN:VTIMEZONE
TZID:Australia/Brisbane
BEGIN:STANDARD
TZOFFSETFROM:+1000
TZOFFSETTO:+1000
TZNAME:AEST
DTSTART:20180101T000000
END:STANDARD
END:VTIMEZONE
BEGIN:VEVENT
DTSTART;TZID=Australia/Brisbane:20190331T133000
DTEND;TZID=Australia/Brisbane:20190331T150000
DTSTAMP:20260424T184327
CREATED:20190305T095745Z
LAST-MODIFIED:20190305T095745Z
UID:8883-1554039000-1554044400@toastmastersd69-org-au.staging.precedence.com.au
SUMMARY:District electronic council meeting
DESCRIPTION:The second Electronic Council Meeting will be held on Sunday\, March 31st from 2.00pm. \nAll members of District 69 are entitled to attend. \n‘Motions on Notice’ are to be submitted by the 10th March to District Administration Manager Sue Pinker at admin@toastmastersd69.org  \nNon-voting delegates have been assigned a zoom connection to allow them to attend the meeting.  If you are a non-voting delegate and wish to attend please follow the link below to join the meeting at the correct time.  The meeting room will be open 30 mins beforehand to allow members to join. \nhttps://zoom.us/j/2042693606 \nFor all voting delegates (Exec\, Division Directors\, Area Directors\, Presidents and Vice Presidents Education)\, a separate email will be sent to you with an alternative zoom link. \nTo watch a tutorial on how to connect\, please watch the following video \nhttps://www.youtube.com/watch?v=vFhAEoCF7jg \nFor further information including reports and agenda\, please follow the link below to the District 69 website \nhttps://www.toastmastersd69.org/electronic-council-meeting-2/
URL:https://toastmastersd69-org-au.staging.precedence.com.au/event/district-electronic-council-meeting/
END:VEVENT
BEGIN:VEVENT
DTSTART;VALUE=DATE:20190323
DTEND;VALUE=DATE:20190325
DTSTAMP:20260424T184327
CREATED:20180520T014106Z
LAST-MODIFIED:20180520T014106Z
UID:8248-1553299200-1553471999@toastmastersd69-org-au.staging.precedence.com.au
SUMMARY:Northen Division Conference 2019
DESCRIPTION:PROPOSED PROGRAM NORTHERN DIVISION CONFERENCE \nALICE SPRINGS\, NT  23-24 MARCH 2019 \nSATURDAY 23 MARCH 2019 \nTime               Order of Business \n8.30am          Registration \n9.00 am         Welcome by Division Director / Virtual Banner Parade \n9.15am          Briefing of Evaluation Contest Officials and Contestants \n9.30am          Evaluation Contest \n10.15am        Morning Tea \n10.35am        Mini Educational or TM activity \n11.00am        Briefing of Humorous Contest Officials and Contestants \nRaffles and other business \n11.15am        Humorous Speech Contest \n12 noon         Welcome to Country (by local Indigenous people) \nWelcome by Mayor of Alice \nLunch \n1.00pm          Briefing of Table Topics Officials and Contestants \n1.15pm          Educational by Ruth Guice \n1.40pm          Table Topic Contest \n2.30pm          Briefing of International Contest Officials and Contestants \nRaffles and other business \n3.00pm          Afternoon Tea \n3.30pm          International Speech Contest \n4.15pm          Formal Announcements \n4.30pm          Close for day \n6.30pm          Fellowship \n7.00pm          Dinner (Dressed in Red in the Red Centre) \nKeynote by District Director Shane Cooper \n  \nSUNDAY 24 MARCH 2019 \n8.30am          Registration \n9.00am          Division Council Meeting \n9.30am          Question and Answer Session with you District Trio \n(District Director Shane Cooper\, Program Quality Director Alana Beale\,  Club Growth Director Barbara Nielsen). \n10.15am        Morning Tea \n10.40am        Education for all in the Red Centre \n11.55am        Close by Division Director \n12 Noon SHARP      GOODBYE AND THANK YOU.
URL:https://toastmastersd69-org-au.staging.precedence.com.au/event/northen-division-conference-2019/
END:VEVENT
BEGIN:VEVENT
DTSTART;TZID=Australia/Brisbane:20190320T190000
DTEND;TZID=Australia/Brisbane:20190320T213000
DTSTAMP:20260424T184327
CREATED:20190312T232035Z
LAST-MODIFIED:20190312T232035Z
UID:8913-1553108400-1553117400@toastmastersd69-org-au.staging.precedence.com.au
SUMMARY:Open House - Limestone Toastmasters Club
DESCRIPTION:All are welcome
URL:https://toastmastersd69-org-au.staging.precedence.com.au/event/open-house-limestone-toastmasters-club/
END:VEVENT
BEGIN:VEVENT
DTSTART;VALUE=DATE:20190319
DTEND;VALUE=DATE:20190320
DTSTAMP:20260424T184327
CREATED:20180520T013857Z
LAST-MODIFIED:20180520T013857Z
UID:8242-1552953600-1553039999@toastmastersd69-org-au.staging.precedence.com.au
SUMMARY:Brisbane Division Conference 2019 - Evening Two
DESCRIPTION:TBA
URL:https://toastmastersd69-org-au.staging.precedence.com.au/event/brisbane-division-conference-2019-evening-two/
END:VEVENT
BEGIN:VEVENT
DTSTART;VALUE=DATE:20190317
DTEND;VALUE=DATE:20190318
DTSTAMP:20260424T184327
CREATED:20180520T013944Z
LAST-MODIFIED:20180520T013944Z
UID:8244-1552780800-1552867199@toastmastersd69-org-au.staging.precedence.com.au
SUMMARY:Eastern Division Conference 2019
DESCRIPTION:What is the Eastern Division Conference (EDCon)? \nOnce per year\, all 30 clubs from the Brisbane southside come together for a day of community\, speaking contests and education. You will see all four speaking contests where the winners from each Area contest put on their best show. There is also an educational speaker on the day and plenty of opportunity to have fun with a room full of people with the common goal of wanting to better themselves. \nSo\, why should I go? \nAny long-standing member of your club will be able to tell you how enjoyable these annual events are. Conferences foster a wonderful sense of community and there is no audience as supportive as a room full of Toastmasters; it’s such a fabulous energy to be around. You’ll see just how un-scary contest speaking can be and you can introduce yourself to someone you’ve never met\, who has the same hobby as you. Perhaps invite them to visit your club and see if you can visit theirs. This is prime time to enrich and immerse yourself in the wider Toastmasters experience. \nWhat happens at the conference? \nSome of Brisbane’s best speakers will compete in the four contests – International\, Humorous\, Table Topics and Evaluation.\nThe Eastern Division Council meeting will be held and will be an excellent example of how a business meeting can be run quickly (I promise!)\, well\, and with a few laughs. \nThis is a beautiful opportunity to learn from seeing these members perform. A keynote speaker will also present and we’ll have some time for socialising too. Morning tea and lunch will be provided. \nA detailed agenda will be available soon. The team organising the conference are energetic\, organised and efficient\, and want everyone to have the best possible time. \nSpread the word in your club and make sure your buddies are aware of this day and come along too (events are always better with friends!). You may even have someone from your club in a contest so make sure they have a big cheer squad. Pom poms optional but encouraged!
URL:https://toastmastersd69-org-au.staging.precedence.com.au/event/eastern-division-conference-2019/
END:VEVENT
BEGIN:VEVENT
DTSTART;TZID=Australia/Brisbane:20190316T083000
DTEND;TZID=Australia/Brisbane:20190316T153000
DTSTAMP:20260424T184327
CREATED:20180520T014141Z
LAST-MODIFIED:20180520T014141Z
UID:8250-1552725000-1552750200@toastmastersd69-org-au.staging.precedence.com.au
SUMMARY:Southern Division Conference 2019
DESCRIPTION:LISTEN\, LEARN\, SHARE \nTake this opportunity to hear the best Toastmasters in our Division as they compete in Evaluation\, Table Topics\, Humorous and International Speech contests. \nMARK HUNTER\, DTM\, will present the keynote speech. Mark was the winner of the 2009 World Championship of Public Speaking. \n  \nRSVP by 9th March to janetanndouglas@gmail.com \nCost: $25 \nDirect deposit to: \n\nSouthport Endeavour Toastmasters Club\nWetspac\nBSB 034292\nAcc 392821\nRef your name and club
URL:https://toastmastersd69-org-au.staging.precedence.com.au/event/southern-division-conference-2019/
END:VEVENT
BEGIN:VEVENT
DTSTART;VALUE=DATE:20190309
DTEND;VALUE=DATE:20190310
DTSTAMP:20260424T184327
CREATED:20180520T014025Z
LAST-MODIFIED:20180520T014025Z
UID:8246-1552089600-1552175999@toastmastersd69-org-au.staging.precedence.com.au
SUMMARY:Moreton Division Conference 2019
DESCRIPTION:North Lakes State College\nJoyner Cct\nNorth Lakes Qld 4509
URL:https://toastmastersd69-org-au.staging.precedence.com.au/event/moreton-division-conference-2019/
END:VEVENT
BEGIN:VEVENT
DTSTART;VALUE=DATE:20190306
DTEND;VALUE=DATE:20190307
DTSTAMP:20260424T184327
CREATED:20180520T013824Z
LAST-MODIFIED:20180520T013824Z
UID:8240-1551830400-1551916799@toastmastersd69-org-au.staging.precedence.com.au
SUMMARY:Brisbane Division Conference 2019 - Evening One
DESCRIPTION:TBA
URL:https://toastmastersd69-org-au.staging.precedence.com.au/event/brisbane-division-conference-2019-evening-one/
END:VEVENT
BEGIN:VEVENT
DTSTART;VALUE=DATE:20190302
DTEND;VALUE=DATE:20190304
DTSTAMP:20260424T184327
CREATED:20180501T052245Z
LAST-MODIFIED:20180501T052245Z
UID:8102-1551484800-1551657599@toastmastersd69-org-au.staging.precedence.com.au
SUMMARY:Central Division Conference 2019
DESCRIPTION:This year the Central Division Speech contest is a great opportunity to relax with your Toastmaster friends as you support and encourage them to grow and develop further.  \nThe educational sessions offer you an opportunity to learn more about how to give better evaluations and to how to have more fun at your club meeting. Come and be part of the giving and the sharing!
URL:https://toastmastersd69-org-au.staging.precedence.com.au/event/central-division-conference-2019/
CATEGORIES:Division Conference,Division Events
END:VEVENT
BEGIN:VEVENT
DTSTART;VALUE=DATE:20190223
DTEND;VALUE=DATE:20190225
DTSTAMP:20260424T184327
CREATED:20180520T014221Z
LAST-MODIFIED:20180520T014221Z
UID:8252-1550880000-1551052799@toastmastersd69-org-au.staging.precedence.com.au
SUMMARY:Western Division Conference 2019
DESCRIPTION:Cost: \nConference Package (Day One\, Day Two & Conference Dinner) is $95.00 per person \nDay One is $40.00 per person \nDay Two is $35.00 per person \nConference Dinner is $30.00 per person \nCome and experience the fun!  Listen to great speeches and presentations.  Cheer on your Area Contestants.  Learn from fellow members. Get to know other Toastmasters from across the Division.  \n  \nHave fun mixing and mingling!
URL:https://toastmastersd69-org-au.staging.precedence.com.au/event/western-division-conference-2019/
END:VEVENT
BEGIN:VEVENT
DTSTART;VALUE=DATE:20190223
DTEND;VALUE=DATE:20190224
DTSTAMP:20260424T184327
CREATED:20181214T025722Z
LAST-MODIFIED:20181214T025722Z
UID:8776-1550880000-1550966399@toastmastersd69-org-au.staging.precedence.com.au
SUMMARY:Club Leadership Training - Central Division (Rockhampton)
DESCRIPTION:
URL:https://toastmastersd69-org-au.staging.precedence.com.au/event/club-leadership-training-central-division-rockhampton/
CATEGORIES:Division Events
END:VEVENT
BEGIN:VEVENT
DTSTART;TZID=Australia/Brisbane:20190219T173000
DTEND;TZID=Australia/Brisbane:20190219T203000
DTSTAMP:20260424T184327
CREATED:20190216T081436Z
LAST-MODIFIED:20190216T081436Z
UID:8817-1550597400-1550608200@toastmastersd69-org-au.staging.precedence.com.au
SUMMARY:Club Leader Training - Brisbane
DESCRIPTION:
URL:https://toastmastersd69-org-au.staging.precedence.com.au/event/club-leader-training-brisbane/
END:VEVENT
BEGIN:VEVENT
DTSTART;TZID=Australia/Brisbane:20190217T080000
DTEND;TZID=Australia/Brisbane:20190217T170000
DTSTAMP:20260424T184327
CREATED:20181021T033410Z
LAST-MODIFIED:20181021T033410Z
UID:8746-1550390400-1550422800@toastmastersd69-org-au.staging.precedence.com.au
SUMMARY:District Leadership Training - Day 2
DESCRIPTION:TBA
URL:https://toastmastersd69-org-au.staging.precedence.com.au/event/district-leadership-training-day-2/
END:VEVENT
BEGIN:VEVENT
DTSTART;TZID=Australia/Brisbane:20190216T080000
DTEND;TZID=Australia/Brisbane:20190216T170000
DTSTAMP:20260424T184327
CREATED:20181021T033328Z
LAST-MODIFIED:20181021T033328Z
UID:8743-1550304000-1550336400@toastmastersd69-org-au.staging.precedence.com.au
SUMMARY:District Leadership Training - Day 1
DESCRIPTION:TBA
URL:https://toastmastersd69-org-au.staging.precedence.com.au/event/district-leadership-training-day-1/
END:VEVENT
BEGIN:VEVENT
DTSTART;TZID=Australia/Brisbane:20190211T173000
DTEND;TZID=Australia/Brisbane:20190211T214500
DTSTAMP:20260424T184327
CREATED:20181214T025633Z
LAST-MODIFIED:20181214T025633Z
UID:8774-1549906200-1549921500@toastmastersd69-org-au.staging.precedence.com.au
SUMMARY:Club Leadership Training - Central Division (Southern)
DESCRIPTION:Registration 5.30pm \nVenue: Caloundra Uniting Church Hall\nCnr Ulm &amp; Queen Streets\, Caloundra.
URL:https://toastmastersd69-org-au.staging.precedence.com.au/event/club-leadership-training-central-division-southern/
END:VEVENT
BEGIN:VEVENT
DTSTART;VALUE=DATE:20190210
DTEND;VALUE=DATE:20190211
DTSTAMP:20260424T184327
CREATED:20180520T013342Z
LAST-MODIFIED:20180520T013342Z
UID:8234-1549756800-1549843199@toastmastersd69-org-au.staging.precedence.com.au
SUMMARY:Club Officer Training - Eastern Division
DESCRIPTION:TBA
URL:https://toastmastersd69-org-au.staging.precedence.com.au/event/club-officer-training-eastern-division-2/
END:VEVENT
BEGIN:VEVENT
DTSTART;TZID=Australia/Brisbane:20190209T123000
DTEND;TZID=Australia/Brisbane:20190209T173000
DTSTAMP:20260424T184327
CREATED:20181217T044223Z
LAST-MODIFIED:20181217T044223Z
UID:8787-1549715400-1549733400@toastmastersd69-org-au.staging.precedence.com.au
SUMMARY:Club Leadership Training - Western Division
DESCRIPTION:There will also be afternoon tea provided.
URL:https://toastmastersd69-org-au.staging.precedence.com.au/event/club-leadership-training-western-division/
CATEGORIES:Division Events
END:VEVENT
BEGIN:VEVENT
DTSTART;TZID=Australia/Brisbane:20190209T091500
DTEND;TZID=Australia/Brisbane:20190209T150000
DTSTAMP:20260424T184327
CREATED:20181014T094800Z
LAST-MODIFIED:20181014T094800Z
UID:8721-1549703700-1549724400@toastmastersd69-org-au.staging.precedence.com.au
SUMMARY:Leaders Day Out - Moreton Division
DESCRIPTION:
URL:https://toastmastersd69-org-au.staging.precedence.com.au/event/leaders-day-out-moreton-division/
END:VEVENT
BEGIN:VEVENT
DTSTART;TZID=Australia/Brisbane:20190209T083000
DTEND;TZID=Australia/Brisbane:20190209T144500
DTSTAMP:20260424T184327
CREATED:20190113T211418Z
LAST-MODIFIED:20190113T211418Z
UID:8798-1549701000-1549723500@toastmastersd69-org-au.staging.precedence.com.au
SUMMARY:Club Leadership Training - Central Division (Southern)
DESCRIPTION:8.30 – Registration \n9.00 -2.45 – Club Leader Training \nVenue: University of the Sunshine Coast\,\nBuilding C\, First Floor\, Room 40
URL:https://toastmastersd69-org-au.staging.precedence.com.au/event/club-leadership-training-central-division-southern-2/
END:VEVENT
BEGIN:VEVENT
DTSTART;TZID=Australia/Brisbane:20190209T080000
DTEND;TZID=Australia/Brisbane:20190209T170000
DTSTAMP:20260424T184327
CREATED:20180723T224256Z
LAST-MODIFIED:20180723T224256Z
UID:8455-1549699200-1549731600@toastmastersd69-org-au.staging.precedence.com.au
SUMMARY:Club Leadership Training - Central Division
DESCRIPTION:Area 10 and Area 28 Combined \nPlease contact Dawn for further information 0413179698
URL:https://toastmastersd69-org-au.staging.precedence.com.au/event/club-officer-training-central-division/
END:VEVENT
BEGIN:VEVENT
DTSTART;VALUE=DATE:20190202
DTEND;VALUE=DATE:20190203
DTSTAMP:20260424T184327
CREATED:20181214T025456Z
LAST-MODIFIED:20181214T025456Z
UID:8772-1549065600-1549151999@toastmastersd69-org-au.staging.precedence.com.au
SUMMARY:Club Leadership Training (Central Division)
DESCRIPTION:
URL:https://toastmastersd69-org-au.staging.precedence.com.au/event/club-leadership-training-central-division/
CATEGORIES:Division Events
END:VEVENT
BEGIN:VEVENT
DTSTART;VALUE=DATE:20190125
DTEND;VALUE=DATE:20190129
DTSTAMP:20260424T184327
CREATED:20180520T014309Z
LAST-MODIFIED:20180520T014309Z
UID:8254-1548374400-1548719999@toastmastersd69-org-au.staging.precedence.com.au
SUMMARY:Papua New Guinea Division Conference 2019
DESCRIPTION:TBA
URL:https://toastmastersd69-org-au.staging.precedence.com.au/event/papua-new-guinea-division-conference-2019/
END:VEVENT
BEGIN:VEVENT
DTSTART;VALUE=DATE:20190119
DTEND;VALUE=DATE:20190121
DTSTAMP:20260424T184327
CREATED:20180520T014422Z
LAST-MODIFIED:20180520T014422Z
UID:8256-1547856000-1548028799@toastmastersd69-org-au.staging.precedence.com.au
SUMMARY:Area 31 Conference – Western Division
DESCRIPTION:TBA
URL:https://toastmastersd69-org-au.staging.precedence.com.au/event/area-31-conference-western-division/
END:VEVENT
BEGIN:VEVENT
DTSTART;VALUE=DATE:20190119
DTEND;VALUE=DATE:20190120
DTSTAMP:20260424T184327
CREATED:20181214T025410Z
LAST-MODIFIED:20181214T025410Z
UID:8770-1547856000-1547942399@toastmastersd69-org-au.staging.precedence.com.au
SUMMARY:Speech contest training (Central Division)
DESCRIPTION:
URL:https://toastmastersd69-org-au.staging.precedence.com.au/event/speech-contest-training-central-division/
CATEGORIES:Division Events
END:VEVENT
BEGIN:VEVENT
DTSTART;TZID=Australia/Brisbane:20181209T091500
DTEND;TZID=Australia/Brisbane:20181209T150000
DTSTAMP:20260424T184327
CREATED:20181014T094142Z
LAST-MODIFIED:20181014T094142Z
UID:8717-1544346900-1544367600@toastmastersd69-org-au.staging.precedence.com.au
SUMMARY:Club Leader Training - Moreton Division
DESCRIPTION:$13.59 pp or $70 per club (up to 7 people)
URL:https://toastmastersd69-org-au.staging.precedence.com.au/event/club-leader-training-moreton-division/
END:VEVENT
BEGIN:VEVENT
DTSTART;TZID=Australia/Brisbane:20181125T093000
DTEND;TZID=Australia/Brisbane:20181125T153000
DTSTAMP:20260424T184327
CREATED:20181014T093418Z
LAST-MODIFIED:20181014T093418Z
UID:8713-1543138200-1543159800@toastmastersd69-org-au.staging.precedence.com.au
SUMMARY:Speaker to Trainer - Moreton Division
DESCRIPTION:BYO Lunch \nRSVP to rgreen72@outlook.com
URL:https://toastmastersd69-org-au.staging.precedence.com.au/event/speaker-to-trainer-moreton-division/
END:VEVENT
BEGIN:VEVENT
DTSTART;TZID=Australia/Brisbane:20181119T080000
DTEND;TZID=Australia/Brisbane:20181119T170000
DTSTAMP:20260424T184327
CREATED:20181021T210258Z
LAST-MODIFIED:20181021T210258Z
UID:8750-1542614400-1542646800@toastmastersd69-org-au.staging.precedence.com.au
SUMMARY:Area 17 Conference - Brisbane Division
DESCRIPTION:TBA
URL:https://toastmastersd69-org-au.staging.precedence.com.au/event/area-17-conference-brisbane-division/
END:VEVENT
BEGIN:VEVENT
DTSTART;TZID=Australia/Brisbane:20181116T183000
DTEND;TZID=Australia/Brisbane:20181116T213000
DTSTAMP:20260424T184327
CREATED:20181009T103452Z
LAST-MODIFIED:20181009T103452Z
UID:8706-1542393000-1542403800@toastmastersd69-org-au.staging.precedence.com.au
SUMMARY:The Comedy Club and Mercury's Motivators - Mock Trial
DESCRIPTION:Should Goldilocks be jailed for her crimes against the Bears?\n \n  \nIn a courtroom drama like no other\,\nThe Comedy Club throws the book at its President\,\nand Mercury’s Motivators jump to her defence!\nThis is a Toastmasters’ event not to be missed! \nWhen: Friday November 16\, 2018 \nWhere: The Sands Tavern\nPlaza Parade\nMaroochydore \nCost: $30/person \nMeal: Two course\, sit down\, alternate drop\n(mains and dessert) \nBooking closes: Thursday November 8\, 2018 \n  \nDon’t miss out on this amazing evening.\nNumbers are limited and bookings are essential.
URL:https://toastmastersd69-org-au.staging.precedence.com.au/event/the-comedy-club-and-mercurys-motivators-mock-trial/
END:VEVENT
BEGIN:VEVENT
DTSTART;TZID=Australia/Brisbane:20181110T173000
DTEND;TZID=Australia/Brisbane:20181110T223000
DTSTAMP:20260424T184328
CREATED:20180907T054158Z
LAST-MODIFIED:20180907T054158Z
UID:8532-1541871000-1541889000@toastmastersd69-org-au.staging.precedence.com.au
SUMMARY:District 69 Hall of Fame dinner
DESCRIPTION:  \nThe annual District 69 Hall of Fame and awards dinner will be held this year at Eatons Hill Hotel \nThe dinner will begin at 5.30 pm for pre-dinner drinks.  The first course will be served at 6.30 pm \nThere will be a 3 course sit down dinner along side the awards being presented that evening. \n  \nAwards include:  \nAwards achieved in the 2017-18 Toastmasters year up and including 10th of November 2018 \n\nTriple Crown\nDistinguished Toastmaster\nArea Director of the Year 2017-18\nDivision Director of the Year 2017-18\nToastmaster of the Year 2017-18\n\n  \nTo nominate a member please download the criteria and checklist from  https://www.toastmasters.org/…/recognition-checklist.ashx \nNominations are to be sent to IPDD Benjamin McCormick ipdd@toastmastersd69.org \n  \nThe cost of the evening is $85 (plus a 30 cent booking fee) – tickets can be purchased below \n  \nDress – Formal attire \n  \nSpecial accommodation booking rates can be found here – 2018 Functions Accommodation Offer \n  \nWe look forward to hosting you
URL:https://toastmastersd69-org-au.staging.precedence.com.au/event/district-69-hall-of-fame-dinner/
END:VEVENT
BEGIN:VEVENT
DTSTART;TZID=Australia/Brisbane:20181104T090000
DTEND;TZID=Australia/Brisbane:20181104T160000
DTSTAMP:20260424T184328
CREATED:20181008T023036Z
LAST-MODIFIED:20181008T023036Z
UID:8690-1541322000-1541347200@toastmastersd69-org-au.staging.precedence.com.au
SUMMARY:Area 26 Conference - Eastern Division
DESCRIPTION:
URL:https://toastmastersd69-org-au.staging.precedence.com.au/event/area-26-conference-eastern-division/
END:VEVENT
END:VCALENDAR