BEGIN:VCALENDAR
VERSION:2.0
PRODID:-//Toastmasters District 69 - ECPv6.0.12//NONSGML v1.0//EN
CALSCALE:GREGORIAN
METHOD:PUBLISH
X-WR-CALNAME:Toastmasters District 69
X-ORIGINAL-URL:https://toastmastersd69-org-au.staging.precedence.com.au
X-WR-CALDESC:Events for Toastmasters District 69
REFRESH-INTERVAL;VALUE=DURATION:PT1H
X-Robots-Tag:noindex
X-PUBLISHED-TTL:PT1H
BEGIN:VTIMEZONE
TZID:Australia/Brisbane
BEGIN:STANDARD
TZOFFSETFROM:+1000
TZOFFSETTO:+1000
TZNAME:AEST
DTSTART:20180101T000000
END:STANDARD
END:VTIMEZONE
BEGIN:VEVENT
DTSTART;TZID=Australia/Brisbane:20180929T100000
DTEND;TZID=Australia/Brisbane:20180929T120000
DTSTAMP:20260425T011920
CREATED:20180925T074840Z
LAST-MODIFIED:20180925T074840Z
UID:8613-1538215200-1538222400@toastmastersd69-org-au.staging.precedence.com.au
SUMMARY:Pathways training - Western Division
DESCRIPTION:
URL:https://toastmastersd69-org-au.staging.precedence.com.au/event/pathways-training-western-division/
END:VEVENT
BEGIN:VEVENT
DTSTART;TZID=Australia/Brisbane:20180923T090000
DTEND;TZID=Australia/Brisbane:20180923T160000
DTSTAMP:20260425T011920
CREATED:20180607T005414Z
LAST-MODIFIED:20180607T005414Z
UID:8303-1537693200-1537718400@toastmastersd69-org-au.staging.precedence.com.au
SUMMARY:Area 23 Conference - Southern Division
DESCRIPTION:TBA
URL:https://toastmastersd69-org-au.staging.precedence.com.au/event/area-23-conference-southern-division/
END:VEVENT
BEGIN:VEVENT
DTSTART;VALUE=DATE:20180922
DTEND;VALUE=DATE:20180923
DTSTAMP:20260425T011920
CREATED:20180603T103305Z
LAST-MODIFIED:20180603T103305Z
UID:8295-1537574400-1537660799@toastmastersd69-org-au.staging.precedence.com.au
SUMMARY:Area 19 Conference - Moreton Division
DESCRIPTION:TBA
URL:https://toastmastersd69-org-au.staging.precedence.com.au/event/area-19-conference-moreton-division/
END:VEVENT
BEGIN:VEVENT
DTSTART;VALUE=DATE:20180922
DTEND;VALUE=DATE:20180923
DTSTAMP:20260425T011920
CREATED:20180501T061102Z
LAST-MODIFIED:20180501T061102Z
UID:8115-1537574400-1537660799@toastmastersd69-org-au.staging.precedence.com.au
SUMMARY:Area 42 Conference - Central Division
DESCRIPTION:
URL:https://toastmastersd69-org-au.staging.precedence.com.au/event/area-42-conference-central-division/
CATEGORIES:Area Events
END:VEVENT
BEGIN:VEVENT
DTSTART;VALUE=DATE:20180916
DTEND;VALUE=DATE:20180917
DTSTAMP:20260425T011920
CREATED:20180520T013510Z
LAST-MODIFIED:20180520T013510Z
UID:8236-1537056000-1537142399@toastmastersd69-org-au.staging.precedence.com.au
SUMMARY:Area 3 Conference - Moreton Division
DESCRIPTION:TBA
URL:https://toastmastersd69-org-au.staging.precedence.com.au/event/area-3-conference-moreton-division/
END:VEVENT
BEGIN:VEVENT
DTSTART;VALUE=DATE:20180915
DTEND;VALUE=DATE:20180916
DTSTAMP:20260425T011920
CREATED:20180703T025305Z
LAST-MODIFIED:20180703T025305Z
UID:8411-1536969600-1537055999@toastmastersd69-org-au.staging.precedence.com.au
SUMMARY:District Leadership Training
DESCRIPTION:
URL:https://toastmastersd69-org-au.staging.precedence.com.au/event/district-leadership-training/
END:VEVENT
BEGIN:VEVENT
DTSTART;TZID=Australia/Brisbane:20180908T123000
DTEND;TZID=Australia/Brisbane:20180908T160000
DTSTAMP:20260425T011920
CREATED:20180801T041249Z
LAST-MODIFIED:20180801T041249Z
UID:8474-1536409800-1536422400@toastmastersd69-org-au.staging.precedence.com.au
SUMMARY:Pathways Workshop - Moreton Division
DESCRIPTION:An afternoon looking at Pathways for members and club officers \nRSVP 7 September 2018 – rgreen72@outlook.com
URL:https://toastmastersd69-org-au.staging.precedence.com.au/event/pathways-workshop-moreton-division/
CATEGORIES:Division Events
END:VEVENT
BEGIN:VEVENT
DTSTART;TZID=Australia/Brisbane:20180818T120000
DTEND;TZID=Australia/Brisbane:20180818T170000
DTSTAMP:20260425T011920
CREATED:20180723T224845Z
LAST-MODIFIED:20180723T224845Z
UID:8460-1534593600-1534611600@toastmastersd69-org-au.staging.precedence.com.au
SUMMARY:Club Officer Training - Central Division
DESCRIPTION:Club Officer Training in Caloundra
URL:https://toastmastersd69-org-au.staging.precedence.com.au/event/club-officer-training-central-division-2/
END:VEVENT
BEGIN:VEVENT
DTSTART;TZID=Australia/Brisbane:20180812T083000
DTEND;TZID=Australia/Brisbane:20180812T123000
DTSTAMP:20260425T011920
CREATED:20180711T010255Z
LAST-MODIFIED:20180711T010255Z
UID:8432-1534062600-1534077000@toastmastersd69-org-au.staging.precedence.com.au
SUMMARY:Speech Contest Judges Training - Southern Division
DESCRIPTION:Want to be a Contest Judge?\nWant to chair a Speech Contest?\nWant to compete in Speech Contests?\nWant to grow your leadership as a Chief Judge? \nSouthern Division Toastmasters is hosting a half-day practical Judges’ Training workshop with an experienced facilitation team. \nLearn how Judging can bring a new dimension to your personal and professional growth as you explore the mechanics of Toastmasters Speech Contests: \n\nGet to know the Rule Book\, the quiet engine room of Speech Contests\nExpand your knowledge of all roles in the Speech Contest Judging Team\nGain new insights into the leadership responsibilities of the Chief Judge who sets the right tone for a positive and successful Speech Contest\nDevelop an empowering Judge’s mindset\, and further understand the qualities\nand objectives necessary for success\nUnpack the Judges’ Guide and Ballot Criteria to ‘select a winner’\n(1) International Speech Contest (3) Evaluation Contest\n(2) Humorous Speech Contest (4) Table Topics Contest\nEnjoy the fun of practicing your judging in a live demonstration Speech Contest\nenvironment\nExperience an empowering best practice Chief Judge Debrief session\n\n  \nRSVP: taflyn1@bigpond.com \nPayment to SD Toastmasters via\nDirect Deposit\nBSB: 034-204 ACC: 372741
URL:https://toastmastersd69-org-au.staging.precedence.com.au/event/speech-contest-judges-training-southern-division/
CATEGORIES:Division Events
END:VEVENT
BEGIN:VEVENT
DTSTART;TZID=Australia/Brisbane:20180805T083000
DTEND;TZID=Australia/Brisbane:20180805T140000
DTSTAMP:20260425T011920
CREATED:20180702T063249Z
LAST-MODIFIED:20180702T063249Z
UID:8395-1533457800-1533477600@toastmastersd69-org-au.staging.precedence.com.au
SUMMARY:Judges training / Business meeting training - Moreton Division
DESCRIPTION:WORKSHOP \nClub Business Procedure: \nLearn how to manage your club business\nsessions effectively (1½ hrs) \nJudges Training: \nConduct your club’s annual contests with the right conditions and knowledge for successful events \n\nAn opportunity to become an accomplished judge.\nUnderstand the requirements for judging criteria when you are a contestant.\nRefresh your skills as a Judge\n\n  \nBookings RSVP 1 August 18\nDirect deposit BOQ\nNarangba Valley Toastmasters\nBSB 124-193\nAccount 21392925\nemail jennyowens40@gmail.com
URL:https://toastmastersd69-org-au.staging.precedence.com.au/event/judges-training-business-meeting-training-moreton-division/
CATEGORIES:Division Events
END:VEVENT
BEGIN:VEVENT
DTSTART;TZID=Australia/Brisbane:20180803T090000
DTEND;TZID=Australia/Brisbane:20180803T150000
DTSTAMP:20260425T011920
CREATED:20180513T201308Z
LAST-MODIFIED:20180513T201308Z
UID:8188-1533286800-1533308400@toastmastersd69-org-au.staging.precedence.com.au
SUMMARY:Expo stall - Hervey Bay Seniors Expo - Central Division (Area 10)
DESCRIPTION:Details to come
URL:https://toastmastersd69-org-au.staging.precedence.com.au/event/expo-stall-hervey-bay-seniors-expo-central-division-area-10/
END:VEVENT
BEGIN:VEVENT
DTSTART;TZID=Australia/Brisbane:20180801T130000
DTEND;TZID=Australia/Brisbane:20180801T150000
DTSTAMP:20260425T011920
CREATED:20180723T224138Z
LAST-MODIFIED:20180723T224138Z
UID:8453-1533128400-1533135600@toastmastersd69-org-au.staging.precedence.com.au
SUMMARY:Speechcraft - Hervey Bay - (Central Division)
DESCRIPTION:Please contact Dawn 0413179698
URL:https://toastmastersd69-org-au.staging.precedence.com.au/event/speechcraft-hervey-bay-central-division/
END:VEVENT
BEGIN:VEVENT
DTSTART;VALUE=DATE:20180728
DTEND;VALUE=DATE:20180730
DTSTAMP:20260425T011920
CREATED:20180501T052545Z
LAST-MODIFIED:20180501T052545Z
UID:8106-1532736000-1532908799@toastmastersd69-org-au.staging.precedence.com.au
SUMMARY:Executive Leadership Weekend - Central Division
DESCRIPTION:As an existing or incoming Executive member for your club\, you are invited to attend the Central Division Executive Leadership Conference 2018. \nWe have an exciting program for the weekend that will see you develop and grow as a leader\, and help you to develop and grow your club. \nRegistrations are now open. All of the details are in the PDF document which you will find here: \nhttp://centraldivisionconference.org/wp-content/uploads/2018/06/%E2%80%9CLead-Your-Team-Grow-Your-Club%E2%80%9D-Master.pdf \nAccomodation – Kondari Hotel had a special rate for Toastmasters $90 Twin Share (limited availability). Book direct with them on 07 4128 9702. \nBookings for the event are essential so please book now.
URL:https://toastmastersd69-org-au.staging.precedence.com.au/event/executive-leadership-weekend-central-division/
CATEGORIES:Division Events
END:VEVENT
BEGIN:VEVENT
DTSTART;TZID=Australia/Brisbane:20180722T083000
DTEND;TZID=Australia/Brisbane:20180722T160000
DTSTAMP:20260425T011920
CREATED:20180520T012848Z
LAST-MODIFIED:20180520T012848Z
UID:8232-1532248200-1532275200@toastmastersd69-org-au.staging.precedence.com.au
SUMMARY:Club Officer Training - Eastern Division
DESCRIPTION:ACTION REQUIRED: Register your club attendance at this link! \nEastern Division COT is going to be held on the 22nd July 2018 at Griffith University (Nathan Campus). \nWhat’s COT?\nClub Officer Training (COT) is held every six months in each Toastmasters Division. It is a day of training for club leaders and members in every club officer role as well as other valuable sessions presented by experienced and enthusiastic members. Attendance is strongly encouraged for all club officers. \nAs a club President\, you set the standard for your club. Please make the effort to attend and encourage your team to also come along. \nWhy Should I Go?\nYou will get full training in your role with the other 29 clubs across the division. There are also extra sessions designed to benefit each club and member. There will be plenty of opportunity to network\, meet members from other clubs and make some great connections with others who are doing the same role in their club. COT is highly recommended by experienced Toastmasters and we are making every effort for the day to be fun\, valuable and high energy. \nInvesting this day into training will save many headaches over the year. \nWhen is it?\n22nd July 2018. The day starts at 9am (register from 830) and will wrap up at 4. \nWhere is it?\nGriffith University\, Nathan Campus. The room is called Macrossan (N16)\, there is a map attached to this email\, BUT you can also just use Google Maps\, if you zoom in you will see a map of the campus. You can literally GPS to the room. Or follow the Toastmasters signs on the day. Or ask someone. Or turn up on time and follow someone with a Toastmasters badge. If you’re not lost\, please wear your badge for the less-directionally-gifted among us. \nHow Much is it and What do I get?\n$5 per person\, and this gets you a full day of training\, plus morning and afternoon tea\, lunch and tea/coffee. I will admit\, the coffee is Moccona’s finest\, so if you’re a coffee snob\, maybe go via a café on the way in. \nWe’ll be taking cash or card on the day. \nWhat happens on the day?\nThe program begins at 9am sharp\, and there’s a mix of training sessions. First up is some higher-level Toastmasters International training\, helpful for the bigger picture\, then we split into separate rooms to get some training specific to your role. The trainers are all highly experienced in their roles and there will be opportunity to ask questions and learn where to go should you need guidance through the year. \nAfter that is other educational sessions that you can choose depending on your interest. This is things such as learning how to set up your club’s website\, to learning some great speech contest tips. Check out the attached agenda for specifics. \nWe’ll finish up by 4pm. \nWhat should I bring?\nIt’s very important that you bring ALL of these things: \n\nYour badge\nPen & paper\nClub Leadership Handbook (you should have been given one when you were inducted into your role)\nA water bottle. Please be environmentally conscious and bring a water bottle to refill.\n\nIs there parking?\nYes! So much parking. And it’s free\, which is of course the best kind of parking. The carpark is called Ridge Car Park (N38) and is about a 300m walk to the room. Again\, see the map. For those that require it\, there is disability parking a bit closer. \nWhat do I do now?\nChase up your club and register as many as you can. It only takes 8 seconds\, there’s no payment info required\, just your name and who’s coming. We need registrations so we can cater correctly\, please.
URL:https://toastmastersd69-org-au.staging.precedence.com.au/event/club-officer-training-eastern-division/
END:VEVENT
BEGIN:VEVENT
DTSTART;TZID=Australia/Brisbane:20180717T173000
DTEND;TZID=Australia/Brisbane:20180717T213000
DTSTAMP:20260425T011920
CREATED:20180618T021422Z
LAST-MODIFIED:20180618T021422Z
UID:8319-1531848600-1531863000@toastmastersd69-org-au.staging.precedence.com.au
SUMMARY:Club Officer Training - Brisbane Division
DESCRIPTION:
URL:https://toastmastersd69-org-au.staging.precedence.com.au/event/club-officer-training-brisbane-division-2/
END:VEVENT
BEGIN:VEVENT
DTSTART;TZID=Australia/Brisbane:20180715T120000
DTEND;TZID=Australia/Brisbane:20180715T163000
DTSTAMP:20260425T011920
CREATED:20180702T204535Z
LAST-MODIFIED:20180702T204535Z
UID:8399-1531656000-1531672200@toastmastersd69-org-au.staging.precedence.com.au
SUMMARY:Club Officer Training - Western Division
DESCRIPTION:Open to Club Leaders and all club members \nWhether you are coming into an executive role or have an interest in helping your club grow\, this training day is an opportunity for you to gather new and helpful information to take back and share with your fellow members. Come along and network with your fellow Toastmasters and be better equipped to assist your club to meet your members’ needs and achieve the  Distinguished Club Program goals. \n$10 per person or $20 per club payable on the day.
URL:https://toastmastersd69-org-au.staging.precedence.com.au/event/club-officer-training-western-division-3/
CATEGORIES:Club Officer Training
END:VEVENT
BEGIN:VEVENT
DTSTART;TZID=Australia/Brisbane:20180714T080000
DTEND;TZID=Australia/Brisbane:20180714T160000
DTSTAMP:20260425T011920
CREATED:20180520T012700Z
LAST-MODIFIED:20180520T012700Z
UID:8226-1531555200-1531584000@toastmastersd69-org-au.staging.precedence.com.au
SUMMARY:Club Officer Training - Southern Division
DESCRIPTION:Better than the world cup line up… check out this full day 2-part leader training event. \nSouthern Division is proud to host the upcoming\, high-quality\, must-attend Leadership development program to support you and your club kick world-class goals out of the stadium. \nAll club officers and members\, are invited to both the morning and afternoon sessions. \nMorning Session – Club Officer Training (COT):\nThe 1st Round COT for Southern Division has been designed with morning session mandatory attendance to meet minimum 4-hour officer training to achieve DCP point. \nAfternoon Session – Leadership Education Training Session (LETS):\nWe are encouraging officers and members to attend the full day inclusive of bonus value-add LETS training\, to advance their broader leadership skills – with thanks to master-trainer Mark Hunter facilitating this workshop for Southern Division. \nRegistration Process:\nAs you would appreciate\, the low rate of $10 per member is set to cover catering costs only.\nAdvance registration is compulsory for this event to enable recovery of costs based on registration numbers.\nPlease RSVP to your club secretary who will arrange ONE registration per club – with advance details of members and payment. \nPayment options:\nDirect Deposit – BSB: 034-204 ACC: 372741\nCredit Card – https://goldcoasttickets.com.au/event/7387 \nOn behalf of the incoming Southern Division Director\, COT and LETS facilitators\, we look forward to welcoming you on 14th July.
URL:https://toastmastersd69-org-au.staging.precedence.com.au/event/club-officer-training-southern-division/
END:VEVENT
BEGIN:VEVENT
DTSTART;TZID=Australia/Brisbane:20180707T130000
DTEND;TZID=Australia/Brisbane:20180707T164500
DTSTAMP:20260425T011920
CREATED:20180520T012613Z
LAST-MODIFIED:20180520T012613Z
UID:8223-1530968400-1530981900@toastmastersd69-org-au.staging.precedence.com.au
SUMMARY:Club Officer Training - Moreton Division
DESCRIPTION:1:10 Risk Management\nRisks can’t always be avoided\, but they are easier to\nhandle if there is a plan in place. Annette will be giving\nsome templates and information to make your next event\nor meeting less risky. \n1:20 Distinguished Club Program Our Division Director will explain the new Distinguished\nClub Program with Pathways and give you all the\ninformation you need to ensure your club is Distinguished. Rod Luck \n1:30 Branding 101 Does your club look like it should? The District 69 Brand\nOfficer will give you some tips on how to make sure your\nclub is following the Toastmasters International brand. \n1:40 Afternoon Tea 2:10 First Breakout Session\nPresident\nLast year Chris was the President of Caboolture\nToastmasters\, which was a select distinguished club. This\nyear he is the Area 3 Director. \nVPM\nTerry has been a member of Toastmasters for 14 years so\nhe truly understands why the role of Vice President\nMembership is so important. He was VPM at Pines last\nyear and enjoyed it so much he is doing it again! \nSecretary Rianne was a Charter Secretary so has first hand\nexperience creating templates from scratch using the\nToastmasters Resources. \nSAA David spent the last year being Sergeant at Arms for\nPeninsula Toastmasters. This year he is the Area 8\nDirector. \n3:00 Second Breakout Session\nMembers in your Club\nBunya Toastmasters Club has 29 members and was\nPresidents Distinguished last year. They will be discussing\nhow to attract and retain members in your club \nContests in your Club\nRobert won Moreton’s Evaluation Contest last year. He\nwill be able to help you find out everything you need to\nknow about your upcoming club contest. \nThe Health of your Club\nIs your club healthy? Are there areas for improvement?\nDistrict 69’s Program Quality Director will help you to\nensure your club is the healthiest it can be! \n3:30 Afternoon Tea \n4:00 Third Breakout Session\nVPE\nChristiane was both a Pathways Guide and a VPE of\nSandgate Toastmasters last year. Sandgate has 25\nmembers\, that’s a lot of speeches to schedule! Who better\nto answer all your VPE questions! \nVPPR\nLast year Alex was VPPR for the largest club in Moreton\nDivision. They gained 8 new members and he can tell you\nhow. \nTreasurer\nPenne was Treasurer for Caboolture Toastmasters last\nyear. Let her explain all things money\, money\, money! \n4:45 Closing Remarks
URL:https://toastmastersd69-org-au.staging.precedence.com.au/event/club-officer-training-moreton-division/
END:VEVENT
BEGIN:VEVENT
DTSTART;TZID=Australia/Brisbane:20180704T173000
DTEND;TZID=Australia/Brisbane:20180704T213000
DTSTAMP:20260425T011920
CREATED:20180618T021343Z
LAST-MODIFIED:20180618T021343Z
UID:8317-1530725400-1530739800@toastmastersd69-org-au.staging.precedence.com.au
SUMMARY:Club Officer Training - Brisbane Division
DESCRIPTION:
URL:https://toastmastersd69-org-au.staging.precedence.com.au/event/club-officer-training-brisbane-division/
END:VEVENT
BEGIN:VEVENT
DTSTART;TZID=Australia/Brisbane:20180701T130000
DTEND;TZID=Australia/Brisbane:20180701T170000
DTSTAMP:20260425T011920
CREATED:20180520T012736Z
LAST-MODIFIED:20180520T012736Z
UID:8228-1530450000-1530464400@toastmastersd69-org-au.staging.precedence.com.au
SUMMARY:Club Officer Training - Western Division
DESCRIPTION:TBA
URL:https://toastmastersd69-org-au.staging.precedence.com.au/event/club-officer-training-western-division/
END:VEVENT
BEGIN:VEVENT
DTSTART;TZID=Australia/Brisbane:20180630T083000
DTEND;TZID=Australia/Brisbane:20180630T160000
DTSTAMP:20260425T011920
CREATED:20180514T075320Z
LAST-MODIFIED:20180514T075320Z
UID:8194-1530347400-1530374400@toastmastersd69-org-au.staging.precedence.com.au
SUMMARY:Club Officer Training – Central Division (Gladstone)
DESCRIPTION:
URL:https://toastmastersd69-org-au.staging.precedence.com.au/event/club-officer-training-central-division-gladstone/
END:VEVENT
BEGIN:VEVENT
DTSTART;TZID=Australia/Brisbane:20180623T180000
DTEND;TZID=Australia/Brisbane:20180623T230000
DTSTAMP:20260425T011920
CREATED:20180501T051404Z
LAST-MODIFIED:20180501T051404Z
UID:8096-1529776800-1529794800@toastmastersd69-org-au.staging.precedence.com.au
SUMMARY:District Changeover Dinner
DESCRIPTION:The annual District changeover dinner is always a highlight. \nArrival from 6.00pm – Dinner 6.45pm \nDress – Formal \nCost: $55 per person – Cash bar available \nPayment by Bank Transfer to\nToastmasters District 69 \nBSB: 034 660\nAccount No: 195 267 \nDownload registration form here
URL:https://toastmastersd69-org-au.staging.precedence.com.au/event/district-changeover-dinner/
CATEGORIES:District Events
END:VEVENT
BEGIN:VEVENT
DTSTART;VALUE=DATE:20180623
DTEND;VALUE=DATE:20180625
DTSTAMP:20260425T011920
CREATED:20180501T051106Z
LAST-MODIFIED:20180501T051106Z
UID:8085-1529712000-1529884799@toastmastersd69-org-au.staging.precedence.com.au
SUMMARY:District Leadership Training - Round 1
DESCRIPTION:June 23rd and 24th sees the first round of District Leadership Training. \nThis is for all incoming Division Directors and Area Directors in the District
URL:https://toastmastersd69-org-au.staging.precedence.com.au/event/district-leadership-training-round-1/
CATEGORIES:District Leadership Training
END:VEVENT
BEGIN:VEVENT
DTSTART;TZID=Australia/Brisbane:20180618T173000
DTEND;TZID=Australia/Brisbane:20180618T220000
DTSTAMP:20260425T011920
CREATED:20180511T214536Z
LAST-MODIFIED:20180511T214536Z
UID:8184-1529343000-1529359200@toastmastersd69-org-au.staging.precedence.com.au
SUMMARY:Club Officer Training – Central Division (Kawana Forest)
DESCRIPTION:
URL:https://toastmastersd69-org-au.staging.precedence.com.au/event/club-officer-training-central-division-caloundra/
END:VEVENT
BEGIN:VEVENT
DTSTART;TZID=Australia/Brisbane:20180616T113000
DTEND;TZID=Australia/Brisbane:20180616T173000
DTSTAMP:20260425T011920
CREATED:20180523T025347Z
LAST-MODIFIED:20180523T025347Z
UID:8276-1529148600-1529170200@toastmastersd69-org-au.staging.precedence.com.au
SUMMARY:From Speaker to Trainer - Moreton Division
DESCRIPTION:Moreton Division Speaker to Trainer will be presented by “Inspiring Trainers” Toastmasters Club (in formation). \nThis dynamic training will benefit speakers who wish to skill up and will be presenting inspiring and engaging Club Officer Training sessions (COT). \nIt will also be an opportunity to discover and get to know the “Inspiring Trainers” advanced club for aspiring and professional trainers.
URL:https://toastmastersd69-org-au.staging.precedence.com.au/event/from-speaker-to-trainer-moreton-division/
END:VEVENT
BEGIN:VEVENT
DTSTART;TZID=Australia/Brisbane:20180616T090000
DTEND;TZID=Australia/Brisbane:20180616T150000
DTSTAMP:20260425T011920
CREATED:20180511T214350Z
LAST-MODIFIED:20180511T214350Z
UID:8181-1529139600-1529161200@toastmastersd69-org-au.staging.precedence.com.au
SUMMARY:Club Officer Training – Central Division (Kawana Forest)
DESCRIPTION:
URL:https://toastmastersd69-org-au.staging.precedence.com.au/event/club-officer-training-central-division-coolum/
END:VEVENT
BEGIN:VEVENT
DTSTART;TZID=Australia/Brisbane:20180616T083000
DTEND;TZID=Australia/Brisbane:20180616T160000
DTSTAMP:20260425T011920
CREATED:20180506T212725Z
LAST-MODIFIED:20180506T212725Z
UID:8145-1529137800-1529164800@toastmastersd69-org-au.staging.precedence.com.au
SUMMARY:Club Officer Training - Central Division (Maryborough)
DESCRIPTION:
URL:https://toastmastersd69-org-au.staging.precedence.com.au/event/club-officer-training-central-division-maryborough/
END:VEVENT
BEGIN:VEVENT
DTSTART;TZID=Australia/Brisbane:20180602T093000
DTEND;TZID=Australia/Brisbane:20180602T153000
DTSTAMP:20260425T011920
CREATED:20180501T054047Z
LAST-MODIFIED:20180501T054047Z
UID:8108-1527931800-1527953400@toastmastersd69-org-au.staging.precedence.com.au
SUMMARY:From Speaker to Trainer - Central Division
DESCRIPTION:Do you have aspirations of becoming a trainer? \nWe are looking to train the next series of presenters who are wishing to improve their presentation skills. \n“From Speaker to Trainer” is a workshop designed to help participants move from being a speaker to an effective trainer. Properly trained people increase productivity and make fewer mistakes. Learn and practice the five steps involved in preparing and presenting a training program using adult learning principles. Learn the roles of trainers and the differences between public speaking and training\, and gain practical experience in facilitating discussion and conducting exercises. \n\nTea and Coffee all day / Lunch is included \n$20- (on the day) includes all learning materials
URL:https://toastmastersd69-org-au.staging.precedence.com.au/event/from-speaker-to-trainer-central-division/
CATEGORIES:Division Events
END:VEVENT
BEGIN:VEVENT
DTSTART;TZID=Australia/Brisbane:20180530T170000
DTEND;TZID=Australia/Brisbane:20180530T210000
DTSTAMP:20260425T011920
CREATED:20180517T081411Z
LAST-MODIFIED:20180517T081411Z
UID:8215-1527699600-1527714000@toastmastersd69-org-au.staging.precedence.com.au
SUMMARY:Speak and Market Like a Pro - Sheryl Roush
DESCRIPTION:Is your heart’s desire to be PAID for your speaking?\nNeed to know how to MARKET your abilities?\nCurious what it takes to get started? \nIn this interactive double-topic evening\, you will explore the qualities of a successful speaker\, and what it takes to be successful in the speaking business… plus tips for being more engaging with audiences (in person and in marketing) and a method to easily craft your presentations and marketing! \nYou will be able to evaluate your current marketing pieces (one-sheets\, business cards\, website\, newsletters\, fliers\, post cards\, etc.) and your on-line efforts (Facebook\, Twitter). Understand who your readers are and what they need in your promotions. Apply these tactics both inside and outside of Toastmasters. \nTickets are a MUST! – No ticket\, no entry \nTickets through https://www.eventbrite.com/e/speak-and-market-like-a-pro-sheryl-roush-dtm-pdg-as-tickets-46044055008
URL:https://toastmastersd69-org-au.staging.precedence.com.au/event/speak-and-market-like-a-pro-sheryl-roush/
END:VEVENT
BEGIN:VEVENT
DTSTART;TZID=Australia/Brisbane:20180528T173000
DTEND;TZID=Australia/Brisbane:20180528T210000
DTSTAMP:20260425T011920
CREATED:20180517T221111Z
LAST-MODIFIED:20180517T221111Z
UID:8218-1527528600-1527541200@toastmastersd69-org-au.staging.precedence.com.au
SUMMARY:Speaking - Passion\, Purpose & Profit with Sheryl Roush A.S.
DESCRIPTION:Want to connect with and impact your audience?\nWant to discover your authentic voice?\nAnd\, even how to get paid? \nWhen we speak with Passion and Purpose\, there can also be Profit. It might be from greater sales\, it could be from securing that dream job\, or it could even be from being paid to speak! \nSouthern Division Toastmasters is hosting a first time\, one-night-only evening on the Gold Coast with International Motivational and Accredited Speaker Sheryl Roush who will share insights from her 35 years of diverse expertise and experience on “Speaking – Passion\, Purpose & Profit”. \nSheryl Roush DTM AS PDG\, has been an active Toastmaster since 1987 and Professional Speaker with National Speaking Association since 1996. Sheryl has presented more than 3\,500 keynotes and seminars to world audiences\, is an 8-time business owner\, 17-time published author\, and twice-crowned “Ms. Heart of San Diego” for contributions to battered and homeless women and children in her community. \nFor enhancing global communication and leadership\, Toastmasters International honoured Sheryl with their 2009 Presidential Citation\, selected from over 260\,000 members. In 1993\, Sheryl was the sixth woman (and the youngest) in the world to be honoured by Toastmasters with their elite Accredited Speaker designation. Only 75 have earned the award in 142 counties (and no Australian has yet to achieve this designation). \nDo not miss this opportunity. Secure your online tickets for a 3-hour powerful and energising evening with Sheryl Roush\, presenting here in our Southern Division
URL:https://toastmastersd69-org-au.staging.precedence.com.au/event/speaking-passion-purpose-profit-with-sheryl-roush-a-s/
CATEGORIES:Division Events
END:VEVENT
END:VCALENDAR