BEGIN:VCALENDAR
VERSION:2.0
PRODID:-//Toastmasters District 69 - ECPv6.0.12//NONSGML v1.0//EN
CALSCALE:GREGORIAN
METHOD:PUBLISH
X-WR-CALNAME:Toastmasters District 69
X-ORIGINAL-URL:https://toastmastersd69-org-au.staging.precedence.com.au
X-WR-CALDESC:Events for Toastmasters District 69
REFRESH-INTERVAL;VALUE=DURATION:PT1H
X-Robots-Tag:noindex
X-PUBLISHED-TTL:PT1H
BEGIN:VTIMEZONE
TZID:Australia/Brisbane
BEGIN:STANDARD
TZOFFSETFROM:+1000
TZOFFSETTO:+1000
TZNAME:AEST
DTSTART:20210101T000000
END:STANDARD
END:VTIMEZONE
BEGIN:VEVENT
DTSTART;TZID=Australia/Brisbane:20211128T083000
DTEND;TZID=Australia/Brisbane:20211128T153000
DTSTAMP:20260423T082043
CREATED:20211114T022430Z
LAST-MODIFIED:20211114T022430Z
UID:14117-1638088200-1638113400@toastmastersd69-org-au.staging.precedence.com.au
SUMMARY:Area 3 Conference
DESCRIPTION:Join us a Ningi Hall for the Area 3 conference and speech contest.
URL:https://toastmastersd69-org-au.staging.precedence.com.au/event/area-3-conference-2/
CATEGORIES:Area Events
END:VEVENT
BEGIN:VEVENT
DTSTART;TZID=Australia/Brisbane:20211121T150000
DTEND;TZID=Australia/Brisbane:20211121T160000
DTSTAMP:20260423T082043
CREATED:20211101T223801Z
LAST-MODIFIED:20211101T223801Z
UID:14093-1637506800-1637510400@toastmastersd69-org-au.staging.precedence.com.au
SUMMARY:Area 1 Council Meeting
DESCRIPTION:Council Meeting for Area 1 Clubs
URL:https://toastmastersd69-org-au.staging.precedence.com.au/event/area-1-council-meeting/
END:VEVENT
BEGIN:VEVENT
DTSTART;TZID=Australia/Brisbane:20211120T130000
DTEND;TZID=Australia/Brisbane:20211120T170000
DTSTAMP:20260423T082043
CREATED:20210921T025514Z
LAST-MODIFIED:20210921T025514Z
UID:13910-1637413200-1637427600@toastmastersd69-org-au.staging.precedence.com.au
SUMMARY:Club Officer Training
DESCRIPTION:Register in advance for this training \nhttps://zoom.us/meeting/register/tJ0kfuGvqT4uGtb5PfhEeEF3AJoIShKnRn2L
URL:https://toastmastersd69-org-au.staging.precedence.com.au/event/club-officer-training-12/
CATEGORIES:Club Officer Training
END:VEVENT
BEGIN:VEVENT
DTSTART;TZID=Australia/Brisbane:20211118T180000
DTEND;TZID=Australia/Brisbane:20211118T210000
DTSTAMP:20260423T082043
CREATED:20210921T025539Z
LAST-MODIFIED:20210921T025539Z
UID:13909-1637258400-1637269200@toastmastersd69-org-au.staging.precedence.com.au
SUMMARY:Club Officer Training
DESCRIPTION:Register in advance for this event \nhttps://zoom.us/meeting/register/tJ0oceuhqDgrHt3EjjqhiDp6E88Dkf9Z2R-Z
URL:https://toastmastersd69-org-au.staging.precedence.com.au/event/club-officer-training-13/
CATEGORIES:Club Officer Training
END:VEVENT
BEGIN:VEVENT
DTSTART;TZID=Australia/Brisbane:20211116T180000
DTEND;TZID=Australia/Brisbane:20211116T210000
DTSTAMP:20260423T082043
CREATED:20210921T023943Z
LAST-MODIFIED:20210921T023943Z
UID:13907-1637085600-1637096400@toastmastersd69-org-au.staging.precedence.com.au
SUMMARY:Club Officer Training
DESCRIPTION:Register in advance for this training: \nhttps://zoom.us/meeting/register/tJEtfumupjksHdcywOu94RxVM3l2nKgoZ43t
URL:https://toastmastersd69-org-au.staging.precedence.com.au/event/club-officer-training-9/
CATEGORIES:Club Officer Training
END:VEVENT
BEGIN:VEVENT
DTSTART;TZID=Australia/Brisbane:20211114T183000
DTEND;TZID=Australia/Brisbane:20211114T200000
DTSTAMP:20260423T082043
CREATED:20210920T225338Z
LAST-MODIFIED:20210920T225338Z
UID:13886-1636914600-1636920000@toastmastersd69-org-au.staging.precedence.com.au
SUMMARY:Central Division Council Meeting
DESCRIPTION:All members welcome to Division Council Meeting
URL:https://toastmastersd69-org-au.staging.precedence.com.au/event/central-division-council-meeting-2/
CATEGORIES:Division Events
END:VEVENT
BEGIN:VEVENT
DTSTART;TZID=Australia/Brisbane:20211113T080000
DTEND;TZID=Australia/Brisbane:20211113T140000
DTSTAMP:20260423T082043
CREATED:20210920T225500Z
LAST-MODIFIED:20210920T225500Z
UID:13880-1636790400-1636812000@toastmastersd69-org-au.staging.precedence.com.au
SUMMARY:Area 35 Contests
DESCRIPTION:Area Council Meeting & 4 Speech Contests \n 
URL:https://toastmastersd69-org-au.staging.precedence.com.au/event/area-35-contests/
CATEGORIES:Area Events
END:VEVENT
BEGIN:VEVENT
DTSTART;TZID=Australia/Brisbane:20211111T190000
DTEND;TZID=Australia/Brisbane:20211111T210000
DTSTAMP:20260423T082043
CREATED:20210929T234725Z
LAST-MODIFIED:20210929T234725Z
UID:13977-1636657200-1636664400@toastmastersd69-org-au.staging.precedence.com.au
SUMMARY:Tech Support Training
DESCRIPTION:
URL:https://toastmastersd69-org-au.staging.precedence.com.au/event/tech-support-training/
END:VEVENT
BEGIN:VEVENT
DTSTART;TZID=Australia/Brisbane:20211110T180000
DTEND;TZID=Australia/Brisbane:20211110T200000
DTSTAMP:20260423T082043
CREATED:20211012T221859Z
LAST-MODIFIED:20211012T221859Z
UID:14059-1636567200-1636574400@toastmastersd69-org-au.staging.precedence.com.au
SUMMARY:USC Speakers' 500th meeting
DESCRIPTION:USC Speakers are having our 500th meeting on Wednesday\, 10 November. It will be in the USC Sports Club in the Sippy Downs complex. It is planned to start at 6pm and to be wound up by 8.00pm-8.15pm. All Charter members\, Sponsors and Mentors are invited as are all other Toastmasters. A celebration cake will be cut and there will be speeches and table topics [no evaluations] . \nPlease bring with you a short message of best wishes for the next 500 meeting and congratulations on our achievements so far. \nContact Brian Duckworth if you are attending and Jenny Duckworth for directions. [Brian through “brian.duckworth@uon.edu.au” and Jenny on “ducky@froggy.com.au”]
URL:https://toastmastersd69-org-au.staging.precedence.com.au/event/usc-speakers-500th-meeting/
CATEGORIES:Club Events
END:VEVENT
BEGIN:VEVENT
DTSTART;TZID=Australia/Brisbane:20211109T180000
DTEND;TZID=Australia/Brisbane:20211109T203000
DTSTAMP:20260423T082043
CREATED:20211027T224122Z
LAST-MODIFIED:20211027T224122Z
UID:14082-1636480800-1636489800@toastmastersd69-org-au.staging.precedence.com.au
SUMMARY:Business Focus Club 500th Meeting Celebration
DESCRIPTION:Business Focus invites all to Celebration of club’s 500th Meeting.  A special program is in place. A yummy supper proved. You can also join us on zoom. For all details and zoom link contact Margaret Marshall 0408 255 774 marshallmargaret9@gmail.com
URL:https://toastmastersd69-org-au.staging.precedence.com.au/event/business-focus-club-500th-meeting-celebration/
CATEGORIES:Club Events
ATTACH;FMTTYPE=:
END:VEVENT
BEGIN:VEVENT
DTSTART;TZID=Australia/Brisbane:20211107T190000
DTEND;TZID=Australia/Brisbane:20211107T200000
DTSTAMP:20260423T082043
CREATED:20210921T230148Z
LAST-MODIFIED:20210921T230148Z
UID:13920-1636311600-1636315200@toastmastersd69-org-au.staging.precedence.com.au
SUMMARY:District Leadership Meeting
DESCRIPTION:https://zoom.us/j/98048544627?pwd=ZE5EcEZ0UW1HYko0TSs0QXpDUU02dz09
URL:https://toastmastersd69-org-au.staging.precedence.com.au/event/district-leadership-meeting-2/
END:VEVENT
BEGIN:VEVENT
DTSTART;TZID=Australia/Brisbane:20211107T083000
DTEND;TZID=Australia/Brisbane:20211107T173000
DTSTAMP:20260423T082043
CREATED:20210920T225545Z
LAST-MODIFIED:20210920T225545Z
UID:13872-1636273800-1636306200@toastmastersd69-org-au.staging.precedence.com.au
SUMMARY:Area 8 Speech Contest
DESCRIPTION:Area 8 Speech Contests
URL:https://toastmastersd69-org-au.staging.precedence.com.au/event/area-8-speech-contest/
END:VEVENT
BEGIN:VEVENT
DTSTART;TZID=Australia/Brisbane:20211106T120000
DTEND;TZID=Australia/Brisbane:20211106T173000
DTSTAMP:20260423T082043
CREATED:20211018T221407Z
LAST-MODIFIED:20211018T221407Z
UID:14067-1636200000-1636219800@toastmastersd69-org-au.staging.precedence.com.au
SUMMARY:Area 26 Speech Contests
DESCRIPTION:Join us at Griffith University (Room N78) from noon until 5.30pm for the Area 28 speech contest day.
URL:https://toastmastersd69-org-au.staging.precedence.com.au/event/area-26-speech-contests/
CATEGORIES:Area Events
END:VEVENT
BEGIN:VEVENT
DTSTART;TZID=Australia/Brisbane:20211106T080000
DTEND;TZID=Australia/Brisbane:20211106T153000
DTSTAMP:20260423T082043
CREATED:20211004T220229Z
LAST-MODIFIED:20211004T220229Z
UID:13990-1636185600-1636212600@toastmastersd69-org-au.staging.precedence.com.au
SUMMARY:Area 18 Speech Contest
DESCRIPTION:
URL:https://toastmastersd69-org-au.staging.precedence.com.au/event/area-18-speech-contest/
CATEGORIES:Area Events
END:VEVENT
BEGIN:VEVENT
DTSTART;TZID=Australia/Brisbane:20211104T083000
DTEND;TZID=Australia/Brisbane:20211106T160000
DTSTAMP:20260423T082043
CREATED:20211103T232703Z
LAST-MODIFIED:20211103T232703Z
UID:14105-1636014600-1636214400@toastmastersd69-org-au.staging.precedence.com.au
SUMMARY:Area 11 Conference and Speech Contests
DESCRIPTION:The Area Conference and Speech Contests\n6th November\n43 The Terrace\, North Ipswich\n8:30 Registration opens for a 9:30 start \n$20 cost to attend \nThe payment details are: \nBendigo Bank\nBSB – 633-000\nAccount number – 130505605\nAccount name – Morning Talkers Toastmasters Club \nJust attach your name in the transaction particulars.
URL:https://toastmastersd69-org-au.staging.precedence.com.au/event/area-11-conference-and-speech-contests/
ATTACH;FMTTYPE=:
END:VEVENT
BEGIN:VEVENT
DTSTART;VALUE=DATE:20211031
DTEND;VALUE=DATE:20211101
DTSTAMP:20260423T082043
CREATED:20211003T215332Z
LAST-MODIFIED:20211003T215332Z
UID:13980-1635638400-1635724799@toastmastersd69-org-au.staging.precedence.com.au
SUMMARY:Area 37 contest
DESCRIPTION:
URL:https://toastmastersd69-org-au.staging.precedence.com.au/event/area-37-contest/
CATEGORIES:Area Events
END:VEVENT
BEGIN:VEVENT
DTSTART;TZID=Australia/Brisbane:20211030T180000
DTEND;TZID=Australia/Brisbane:20211030T210000
DTSTAMP:20260423T082043
CREATED:20211010T211359Z
LAST-MODIFIED:20211010T211359Z
UID:14033-1635616800-1635627600@toastmastersd69-org-au.staging.precedence.com.au
SUMMARY:Area 14 Dinner
DESCRIPTION:Please join us to celebrate 50 years of District 69 at Sorbellos Italian Restaurant in Mackay.  All present and past members and their guests are welcome. \nRSVP by 25 October 2021
URL:https://toastmastersd69-org-au.staging.precedence.com.au/event/area-14-dinner/
CATEGORIES:Area Events
ATTACH;FMTTYPE=:
END:VEVENT
BEGIN:VEVENT
DTSTART;TZID=Australia/Brisbane:20211030T100000
DTEND;TZID=Australia/Brisbane:20211030T160000
DTSTAMP:20260423T082043
CREATED:20211011T212144Z
LAST-MODIFIED:20211011T212144Z
UID:14053-1635588000-1635609600@toastmastersd69-org-au.staging.precedence.com.au
SUMMARY:Area 4 Contests
DESCRIPTION:Clubs from Yeppoon\, Rockhampton\, Gladstone and Bundaberg will compete in the World Championship of Public Speaking at \nBoyne Tannum Community Centre\, Hayes Ave\, Boyne Island QLD 4680
URL:https://toastmastersd69-org-au.staging.precedence.com.au/event/area-4-contests/
CATEGORIES:Area Events
ATTACH;FMTTYPE=:
END:VEVENT
BEGIN:VEVENT
DTSTART;TZID=Australia/Brisbane:20211030T080000
DTEND;TZID=Australia/Brisbane:20211030T163000
DTSTAMP:20260423T082043
CREATED:20211010T211244Z
LAST-MODIFIED:20211010T211244Z
UID:14036-1635580800-1635611400@toastmastersd69-org-au.staging.precedence.com.au
SUMMARY:Area 14 Speech Conference
DESCRIPTION:Please register to attend the Area 14 Speech Contests in Mackay. \nIt’s been an Olympic year and our conference theme is “Going for Gold”
URL:https://toastmastersd69-org-au.staging.precedence.com.au/event/area-14-speech-conference/
CATEGORIES:Area Events
END:VEVENT
BEGIN:VEVENT
DTSTART;TZID=Australia/Brisbane:20211030T000000
DTEND;TZID=Australia/Brisbane:20211030T000000
DTSTAMP:20260423T082044
CREATED:20211005T012401Z
LAST-MODIFIED:20211005T012401Z
UID:13981-1635552000-1635552000@toastmastersd69-org-au.staging.precedence.com.au
SUMMARY:Area 6 Speech Contest
DESCRIPTION:Area 6 Speech Contests
URL:https://toastmastersd69-org-au.staging.precedence.com.au/event/area-6-speech-contest-2/
CATEGORIES:Area Events
END:VEVENT
BEGIN:VEVENT
DTSTART;TZID=Australia/Brisbane:20211028T184500
DTEND;TZID=Australia/Brisbane:20211028T200000
DTSTAMP:20260423T082044
CREATED:20211010T211731Z
LAST-MODIFIED:20211010T211731Z
UID:14039-1635446700-1635451200@toastmastersd69-org-au.staging.precedence.com.au
SUMMARY:Evaluation Masterclass with Mark Hunter
DESCRIPTION:Join us for an Evaluation Masterclass presented by International Speech Contest winner Mark Hunter.\nThis educational session will open the club meeting for Weblec Online Toastmasters. Come along and\nimprove your evaluation skills with Mark’s expert insights.\nRSVP and Zoom link: webleconlinetm@gmail.com
URL:https://toastmastersd69-org-au.staging.precedence.com.au/event/evaluation-masterclass-with-mark-hunter/
END:VEVENT
BEGIN:VEVENT
DTSTART;TZID=Australia/Brisbane:20211023T124500
DTEND;TZID=Australia/Brisbane:20211023T160000
DTSTAMP:20260423T082044
CREATED:20211010T211914Z
LAST-MODIFIED:20211010T211914Z
UID:14040-1634993100-1635004800@toastmastersd69-org-au.staging.precedence.com.au
SUMMARY:How to Make Your Club Look Great on Facebook
DESCRIPTION:Thomas Krafft is a highly-experienced Toastmaster and VPPR\, and the holder of the D69 Best Club Social Media/ Website\ntrophy. In this intensive session\, Thomas will share his home Club’s Facebook strategy which makes it EASY to make the club\nlook GREAT and entices people to visit. \nRegister here: https://forms.gle/DECb4WjVcHuxdDUN9 \n 
URL:https://toastmastersd69-org-au.staging.precedence.com.au/event/how-to-make-your-club-look-great-on-facebook/
END:VEVENT
BEGIN:VEVENT
DTSTART;TZID=Australia/Brisbane:20211023T123000
DTEND;TZID=Australia/Brisbane:20211023T173000
DTSTAMP:20260423T082044
CREATED:20210920T225627Z
LAST-MODIFIED:20210920T225627Z
UID:13868-1634992200-1635010200@toastmastersd69-org-au.staging.precedence.com.au
SUMMARY:Area 16
DESCRIPTION:Speech Contest
URL:https://toastmastersd69-org-au.staging.precedence.com.au/event/area-16/
CATEGORIES:Area Events
END:VEVENT
BEGIN:VEVENT
DTSTART;TZID=Australia/Brisbane:20211023T090000
DTEND;TZID=Australia/Brisbane:20211023T153000
DTSTAMP:20260423T082044
CREATED:20210927T031708Z
LAST-MODIFIED:20210927T031708Z
UID:13938-1634979600-1635003000@toastmastersd69-org-au.staging.precedence.com.au
SUMMARY:Area 12 Conference & Contests
DESCRIPTION:Venue: Toowoomba City Library \nRegistration 9:00 am \nContact Brock McIntyre \nemail: ad12@toastmastersd69.org \nPhone: 0401 961 171
URL:https://toastmastersd69-org-au.staging.precedence.com.au/event/area-12-conference-contests/
CATEGORIES:Area Events
END:VEVENT
BEGIN:VEVENT
DTSTART;TZID=Australia/Brisbane:20211018T183000
DTEND;TZID=Australia/Brisbane:20211018T213000
DTSTAMP:20260423T082044
CREATED:20210914T110447Z
LAST-MODIFIED:20210914T110447Z
UID:13782-1634581800-1634592600@toastmastersd69-org-au.staging.precedence.com.au
SUMMARY:Peninsula Toastmasters 1000th Meeting Celebration
DESCRIPTION:At Peninsula Toastmasters we are celebrating our 1000th Meeting on Monday the 18th of October 2021 at 6.30pm.Peninsula Toastmasters commenced in 1978 and holds meetings on the 1st\, 3rd and 5th Monday of each Month. \nWe would like to invite all current and past Toastmasters and guests to a night that will celebrate this milestone. \nThe charge of $25 per person includes Canapes\, Drinks\, Entertainment\, a Key Note Speaker and a commemorative gift. \nPlease find attached invitation to the event\, including details of the pre-payment. \nSo that we can confirm numbers we ask that you RSVP by the 4th of October by return email to ianrbryant@bigpond.com or phone Madonna on 0402 564 162. \nIf anyone has any memorabilia from Peninsula Toastmasters please let us know as we will have a photo and display showcasing the last 1000 meetings. \nFeel free to share the invite with other Toastmaster members and guests.
URL:https://toastmastersd69-org-au.staging.precedence.com.au/event/peninsula-toastmasters-1000th-meeting-cenebration/
CATEGORIES:Club Events
ATTACH;FMTTYPE=:
END:VEVENT
BEGIN:VEVENT
DTSTART;TZID=Australia/Brisbane:20211017T080000
DTEND;TZID=Australia/Brisbane:20211017T160000
DTSTAMP:20260423T082044
CREATED:20211006T024425Z
LAST-MODIFIED:20211006T024425Z
UID:14022-1634457600-1634486400@toastmastersd69-org-au.staging.precedence.com.au
SUMMARY:Area 10 Speech Contests
DESCRIPTION:
URL:https://toastmastersd69-org-au.staging.precedence.com.au/event/area-10-speech-contests/
CATEGORIES:Area Events
END:VEVENT
BEGIN:VEVENT
DTSTART;TZID=Australia/Brisbane:20211016T090000
DTEND;TZID=Australia/Brisbane:20211016T133000
DTSTAMP:20260423T082044
CREATED:20210929T232740Z
LAST-MODIFIED:20210929T232740Z
UID:13974-1634374800-1634391000@toastmastersd69-org-au.staging.precedence.com.au
SUMMARY:Area 24 Speech Contests
DESCRIPTION:You're invited to join us to hear speakers compete in 4 contests from our 6 clubs across Area 24;  Be Change\, Nerang\, Southport\, Endeavour\, Club Runaway 2000 and Upper Coomera.\nOur theme for this event is “Connecting within our community”.   With the challenges that the Covid pandemic has presented\, this is an opportunity to bring us together and show our support for one another\, helping people to feel connected\, and showcase the benefits being a part of the Toastmasters community. \nWe’re excited to also have a guest speaker\, Sharyn Watson.  Mother\, Hiker. Rotarian. Entrepeneur. Leader. Award Winner. Sharyn will share her journey of self-leadership and speak with us about the importance of connecting within your community\, and ‘voicing that one idea’ that can be a catalyst for what’s possible.
URL:https://toastmastersd69-org-au.staging.precedence.com.au/event/area-24-speech-contests/
CATEGORIES:Area Events
ATTACH;FMTTYPE=:
END:VEVENT
BEGIN:VEVENT
DTSTART;TZID=Australia/Brisbane:20211010T110000
DTEND;TZID=Australia/Brisbane:20211010T143000
DTSTAMP:20260423T082044
CREATED:20211005T012415Z
LAST-MODIFIED:20211005T012415Z
UID:13994-1633863600-1633876200@toastmastersd69-org-au.staging.precedence.com.au
SUMMARY:Area 5 Conference
DESCRIPTION:The Area 5 conference includes the 4 speech contests.  This event is in-Person at\nBrisbane Square Library \nTiered Theatrette\, Via Ramp to Door\, Ground Floor\n266 George St Brisbane\nEnter Queen St Opposite Treasury Building
URL:https://toastmastersd69-org-au.staging.precedence.com.au/event/area-5-conference/
CATEGORIES:Area Events
END:VEVENT
BEGIN:VEVENT
DTSTART;TZID=Australia/Brisbane:20211010T090000
DTEND;TZID=Australia/Brisbane:20211010T150000
DTSTAMP:20260423T082044
CREATED:20210921T225222Z
LAST-MODIFIED:20210921T225222Z
UID:13906-1633856400-1633878000@toastmastersd69-org-au.staging.precedence.com.au
SUMMARY:Area 1 Conference 2021 In Person
DESCRIPTION:Darling Downs Toastmasters are proudly hosting Area 1 Conference \nDetails: \nGold Park Function Centre\, 341 Hume Street\, South Toowoomba. Off street carparking is available  \nMorning tea and lunch provided $25 per person – pay to Darling Downs  BSB: 638-070 Acc Number: 598070 with reference Area1 and your name. Dietary requirements – please email dg_sullivan@hotmail.com. Please advise attendance to Easyspeak.  \nThere will be a raffle on the day $2 per ticket.  \nDarling Downs Toastmasters is very much looking forward to hosting the area meeting and seeing you all there. \n 
URL:https://toastmastersd69-org-au.staging.precedence.com.au/event/area-1-conference-2021-in-person/
CATEGORIES:Area Events
END:VEVENT
BEGIN:VEVENT
DTSTART;VALUE=DATE:20211009
DTEND;VALUE=DATE:20211010
DTSTAMP:20260423T082044
CREATED:20210914T110441Z
LAST-MODIFIED:20210914T110441Z
UID:13843-1633737600-1633823999@toastmastersd69-org-au.staging.precedence.com.au
SUMMARY:Area 28 Speech Contests - Central Division
DESCRIPTION:Area 28 Speech Contests\nYou are invited to join us in Gympie to hear speakers compete in 4 contests. There will be a Pathways demonstration and networking.\nArea 28 contestants have won Central Division Contests for 2 years running. See who will compete at the next Central Division Contest. \nThe clubs of Area 28 consist of:\n▶️ G’day Toastmasters Club\n▶️ Gympie Toastmasters Club\n▶️ Maryborough Toastmasters Club\n▶️ South Burnett Toastmasters Club\n▶️ Weblec Toastmasters Club
URL:https://toastmastersd69-org-au.staging.precedence.com.au/event/area-28-speech-contests-central-division/
END:VEVENT
END:VCALENDAR