BEGIN:VCALENDAR
VERSION:2.0
PRODID:-//Toastmasters District 69 - ECPv6.0.12//NONSGML v1.0//EN
CALSCALE:GREGORIAN
METHOD:PUBLISH
X-WR-CALNAME:Toastmasters District 69
X-ORIGINAL-URL:https://toastmastersd69-org-au.staging.precedence.com.au
X-WR-CALDESC:Events for Toastmasters District 69
REFRESH-INTERVAL;VALUE=DURATION:PT1H
X-Robots-Tag:noindex
X-PUBLISHED-TTL:PT1H
BEGIN:VTIMEZONE
TZID:Australia/Brisbane
BEGIN:STANDARD
TZOFFSETFROM:+1000
TZOFFSETTO:+1000
TZNAME:AEST
DTSTART:20230101T000000
END:STANDARD
END:VTIMEZONE
BEGIN:VEVENT
DTSTART;TZID=Australia/Brisbane:20230202T174500
DTEND;TZID=Australia/Brisbane:20230202T210000
DTSTAMP:20260425T131819
CREATED:20221205T053408Z
LAST-MODIFIED:20221205T053408Z
UID:15142-1675359900-1675371600@toastmastersd69-org-au.staging.precedence.com.au
SUMMARY:Northern Division Club Officer Training
DESCRIPTION:Northern Division’s Club Officer Training via Zoom. Two sessions will be convened — 2 and 6 February 2023 — each with the same agenda. \nAll current club officers\, members considering serving as a club officer\, and members just curious about the roles are encouraged to attend. \nZoom Registration: https://bit.ly/NDCOT-2Feb
URL:https://toastmastersd69-org-au.staging.precedence.com.au/event/northern-division-cot-training-4/
CATEGORIES:Club Officer Training,Division Events
ATTACH;FMTTYPE=:
END:VEVENT
BEGIN:VEVENT
DTSTART;TZID=Australia/Brisbane:20230204T083000
DTEND;TZID=Australia/Brisbane:20230204T130000
DTSTAMP:20260425T131819
CREATED:20221209T015156Z
LAST-MODIFIED:20221209T015156Z
UID:15121-1675499400-1675515600@toastmastersd69-org-au.staging.precedence.com.au
SUMMARY:Southern Division Club Officer Training
DESCRIPTION:In -person club officer training (COT). \nPlease note: The price is per club\, not per member.
URL:https://toastmastersd69-org-au.staging.precedence.com.au/event/southern-division-cot-3/
CATEGORIES:Club Officer Training,Division Events
END:VEVENT
BEGIN:VEVENT
DTSTART;TZID=Australia/Brisbane:20230206T174500
DTEND;TZID=Australia/Brisbane:20230206T210000
DTSTAMP:20260425T131819
CREATED:20221205T053318Z
LAST-MODIFIED:20221205T053318Z
UID:15140-1675705500-1675717200@toastmastersd69-org-au.staging.precedence.com.au
SUMMARY:Northern Division Club Officer Training
DESCRIPTION:Northern Division’s Club Officer Training via Zoom. Two sessions will be convened — 2 and 6 February 2023 — each with the same agenda. \nAll current club officers\, members considering serving as a club officer\, and members just curious about the roles are encouraged to attend. \nZoom Registration: https://bit.ly/NDCOT-6Feb
URL:https://toastmastersd69-org-au.staging.precedence.com.au/event/northern-division-cot-training-3/
CATEGORIES:Club Officer Training,Division Events
ATTACH;FMTTYPE=:
END:VEVENT
BEGIN:VEVENT
DTSTART;TZID=Australia/Brisbane:20230227T063000
DTEND;TZID=Australia/Brisbane:20230327T080000
DTSTAMP:20260425T131819
CREATED:20220913T050832Z
LAST-MODIFIED:20220913T050832Z
UID:14665-1677479400-1679904000@toastmastersd69-org-au.staging.precedence.com.au
SUMMARY:Speechcraft course - Brisbane Sunrise Speakers Club
DESCRIPTION:This exciting 5-week fast track course will help you with the fundamentals of public speaking\, gaining confidence in all aspects of communication in a supportive environment\, which will include written and impromptu speeches\, body language\, speaking with and without visual aids\, active listening\, and critical evaluation. Come and join us on site or on Zoom\, Oct 31\, Nov 7th\, 14th\, 21st and 28th. We look forward to seeing you.  Contact Adi Strickland for more details 0423668659; adi.strickland@gmail.com \nEventbrite URL \nhttps://www.eventbrite.com.au/e/brisbane-sunrise-speakers-speechcraft-registration-410262836187
URL:https://toastmastersd69-org-au.staging.precedence.com.au/event/speechcraft-course-brisbane-sunrise-speakers-club/
CATEGORIES:Club Events
ATTACH;FMTTYPE=:
END:VEVENT
END:VCALENDAR