BEGIN:VCALENDAR
VERSION:2.0
PRODID:-//Toastmasters District 69 - ECPv6.0.12//NONSGML v1.0//EN
CALSCALE:GREGORIAN
METHOD:PUBLISH
X-WR-CALNAME:Toastmasters District 69
X-ORIGINAL-URL:https://toastmastersd69-org-au.staging.precedence.com.au
X-WR-CALDESC:Events for Toastmasters District 69
REFRESH-INTERVAL;VALUE=DURATION:PT1H
X-Robots-Tag:noindex
X-PUBLISHED-TTL:PT1H
BEGIN:VTIMEZONE
TZID:Australia/Brisbane
BEGIN:STANDARD
TZOFFSETFROM:+1000
TZOFFSETTO:+1000
TZNAME:AEST
DTSTART:20230101T000000
END:STANDARD
END:VTIMEZONE
BEGIN:VEVENT
DTSTART;TZID=Australia/Brisbane:20230115T090000
DTEND;TZID=Australia/Brisbane:20230115T123000
DTSTAMP:20260423T181735
CREATED:20221222T044025Z
LAST-MODIFIED:20221222T044025Z
UID:15226-1673773200-1673785800@toastmastersd69-org-au.staging.precedence.com.au
SUMMARY:Western Division Club Officer Training
DESCRIPTION:Western Division Club Officer Training- Hybrid \nFlyer \nAgenda \nBalonne Cultural Centre – St George & Online \n—- \nTopic: Western Division Club Officer Training \nTime: Jan 15\, 2023 09:00 AM Brisbane \nJoin Zoom Meeting \nhttps://us06web.zoom.us/j/87605156290?pwd=MDNxdzJTamoyb3pxMHVxRG8rU2w0UT09 \nMeeting ID: 876 0515 6290 \nPasscode: 345764 \n 
URL:https://toastmastersd69-org-au.staging.precedence.com.au/event/cot-15th-jan-2023/
CATEGORIES:Club Officer Training,Division Events
END:VEVENT
END:VCALENDAR